BEGIN:VCALENDAR
VERSION:2.0
PRODID:-//Let&#039;s Start Talking - ECPv6.15.20//NONSGML v1.0//EN
CALSCALE:GREGORIAN
METHOD:PUBLISH
X-WR-CALNAME:Let&#039;s Start Talking
X-ORIGINAL-URL:https://lst.org
X-WR-CALDESC:Events for Let&#039;s Start Talking
REFRESH-INTERVAL;VALUE=DURATION:PT1H
X-Robots-Tag:noindex
X-PUBLISHED-TTL:PT1H
BEGIN:VTIMEZONE
TZID:America/Chicago
BEGIN:DAYLIGHT
TZOFFSETFROM:-0600
TZOFFSETTO:-0500
TZNAME:CDT
DTSTART:20230312T080000
END:DAYLIGHT
BEGIN:STANDARD
TZOFFSETFROM:-0500
TZOFFSETTO:-0600
TZNAME:CST
DTSTART:20231105T070000
END:STANDARD
BEGIN:DAYLIGHT
TZOFFSETFROM:-0600
TZOFFSETTO:-0500
TZNAME:CDT
DTSTART:20240310T080000
END:DAYLIGHT
BEGIN:STANDARD
TZOFFSETFROM:-0500
TZOFFSETTO:-0600
TZNAME:CST
DTSTART:20241103T070000
END:STANDARD
BEGIN:DAYLIGHT
TZOFFSETFROM:-0600
TZOFFSETTO:-0500
TZNAME:CDT
DTSTART:20250309T080000
END:DAYLIGHT
BEGIN:STANDARD
TZOFFSETFROM:-0500
TZOFFSETTO:-0600
TZNAME:CST
DTSTART:20251102T070000
END:STANDARD
END:VTIMEZONE
BEGIN:VEVENT
DTSTART;TZID=America/Chicago:20240317T190000
DTEND;TZID=America/Chicago:20240317T213000
DTSTAMP:20260421T191148
CREATED:20231212T155626Z
LAST-MODIFIED:20231212T155626Z
UID:4081-1710702000-1710711000@lst.org
SUMMARY:Basic Training
DESCRIPTION:In this foundational workshop you’ll receive the basic training needed to utilize the LST approach in sharing your faith and your life with an international friend.  The focus of our time will be on the core components of the LST philosophy and methodology. Whether you’re using this training for your local FriendSpeak work\, to connect online with a Reader through LST Connect\, or preparing for an international mission project\, you are a welcome friend! Click here to register – 2024 Basic Training Registration
URL:https://lst.org/event/basic-training-81/
LOCATION:Online
CATEGORIES:FriendSpeak,LST Connect,LST Mission Projects
ORGANIZER;CN="Let's Start Talking":MAILTO:LST@LST.org
END:VEVENT
BEGIN:VEVENT
DTSTART;VALUE=DATE:20240321
DTEND;VALUE=DATE:20240322
DTSTAMP:20260421T191148
CREATED:20240102T201626Z
LAST-MODIFIED:20240102T201748Z
UID:4228-1710979200-1711065599@lst.org
SUMMARY:LST MeetUp (12:00 pm or 7:00 pm)
DESCRIPTION:LST Meetups are for everyone participating in LST!  This one-hour online gathering is a time to connect with other participants\, have fun\, and continue practicing English.  If you have friends interested in LST\, invite them to this online “party!” Please register here.
URL:https://lst.org/event/lst-meetup-1200-pm-or-700-pm-2/
LOCATION:Online
CATEGORIES:FriendSpeak,LST Connect
ORGANIZER;CN="Let's Start Talking":MAILTO:LST@LST.org
END:VEVENT
BEGIN:VEVENT
DTSTART;VALUE=DATE:20240323
DTEND;VALUE=DATE:20240422
DTSTAMP:20260421T191148
CREATED:20240118T225338Z
LAST-MODIFIED:20240118T225338Z
UID:4273-1711152000-1713743999@lst.org
SUMMARY:LST Project (Rio de Janeiro\, Brazil)
DESCRIPTION:
URL:https://lst.org/event/lst-project-rio-de-janeiro-brazil-5/
LOCATION:Rio de Janeiro\, Brazil\, Rio de Janeiro\, Brazil
CATEGORIES:LST Mission Projects
ORGANIZER;CN="Let's Start Talking":MAILTO:LST@LST.org
END:VEVENT
BEGIN:VEVENT
DTSTART;TZID=America/Chicago:20240324T180000
DTEND;TZID=America/Chicago:20240324T200000
DTSTAMP:20260421T191148
CREATED:20231212T212210Z
LAST-MODIFIED:20231212T212210Z
UID:4125-1711303200-1711310400@lst.org
SUMMARY:Gateway Training (LST International Projects)
DESCRIPTION:This specialized online workshop is for LST International teams who have completed most of their online training and are within a month of departure.  LST staff lead this required event. Teams can register through their online training platform.
URL:https://lst.org/event/gateway-training-lst-international-projects-3/
LOCATION:Online
CATEGORIES:LST Mission Projects
ORGANIZER;CN="Let's Start Talking":MAILTO:LST@LST.org
END:VEVENT
BEGIN:VEVENT
DTSTART;TZID=America/Chicago:20240324T200000
DTEND;TZID=America/Chicago:20240324T210000
DTSTAMP:20260421T191148
CREATED:20231220T164322Z
LAST-MODIFIED:20231220T164322Z
UID:4190-1711310400-1711314000@lst.org
SUMMARY:Advanced Training
DESCRIPTION:LST is pleased to provide specialized training for experienced Workers!  These sessions are for Workers who have been through Basic Training (or equivalent)\, have experience working with LST Readers\, and feel comfortable utilizing the LST approach.  For registered LST Connect and FriendSpeak Workers these advanced training sessions are offered for no additional fee. Click here for additional details and to register.
URL:https://lst.org/event/advanced-training-3/
LOCATION:Online
CATEGORIES:FriendSpeak,LST Connect,LST Mission Projects
ORGANIZER;CN="Let's Start Talking":MAILTO:LST@LST.org
END:VEVENT
BEGIN:VEVENT
DTSTART;TZID=America/Chicago:20240328T120000
DTEND;TZID=America/Chicago:20240328T130000
DTSTAMP:20260421T191148
CREATED:20231212T222241Z
LAST-MODIFIED:20231212T222241Z
UID:4150-1711627200-1711630800@lst.org
SUMMARY:EndMeeting
DESCRIPTION:This online workshop is for LST Teams who have recently returned from their international projects.  It is led by LST staff\, and teams can register through their online training platform.
URL:https://lst.org/event/endmeeting-19/
LOCATION:Online
CATEGORIES:LST Mission Projects
ORGANIZER;CN="Let's Start Talking":MAILTO:LST@LST.org
END:VEVENT
BEGIN:VEVENT
DTSTART;VALUE=DATE:20240401
DTEND;VALUE=DATE:20240425
DTSTAMP:20260421T191148
CREATED:20240119T200421Z
LAST-MODIFIED:20240119T200421Z
UID:4277-1711929600-1714003199@lst.org
SUMMARY:LST Project (Kasama (Tomobe)\, Japan)
DESCRIPTION:
URL:https://lst.org/event/lst-project-kasama-tomobe-japan/
LOCATION:Kasama\, Japan\, Kasama\, Japan
CATEGORIES:LST Mission Projects
ORGANIZER;CN="Let's Start Talking":MAILTO:LST@LST.org
END:VEVENT
BEGIN:VEVENT
DTSTART;TZID=America/Chicago:20240404T190000
DTEND;TZID=America/Chicago:20240404T213000
DTSTAMP:20260421T191148
CREATED:20231212T155810Z
LAST-MODIFIED:20231212T155810Z
UID:4083-1712257200-1712266200@lst.org
SUMMARY:Basic Training
DESCRIPTION:In this foundational workshop you’ll receive the basic training needed to utilize the LST approach in sharing your faith and your life with an international friend.  The focus of our time will be on the core components of the LST philosophy and methodology. Whether you’re using this training for your local FriendSpeak work\, to connect online with a Reader through LST Connect\, or preparing for an international mission project\, you are a welcome friend! Click here to register – 2024 Basic Training Registration
URL:https://lst.org/event/basic-training-82/
LOCATION:Online
CATEGORIES:FriendSpeak,LST Connect,LST Mission Projects
ORGANIZER;CN="Let's Start Talking":MAILTO:LST@LST.org
END:VEVENT
BEGIN:VEVENT
DTSTART;VALUE=DATE:20240412
DTEND;VALUE=DATE:20240429
DTSTAMP:20260421T191148
CREATED:20240213T213538Z
LAST-MODIFIED:20240213T213538Z
UID:4305-1712880000-1714348799@lst.org
SUMMARY:LST Project (Buenos Aires\, Argentina)
DESCRIPTION:
URL:https://lst.org/event/lst-project-buenos-aires-argentina-12/
LOCATION:Buenos Aires\, Argentina\, Buenos Aires\, Argentina
CATEGORIES:LST Mission Projects
ORGANIZER;CN="Let's Start Talking":MAILTO:LST@LST.org
END:VEVENT
BEGIN:VEVENT
DTSTART;TZID=America/Chicago:20240414T190000
DTEND;TZID=America/Chicago:20240414T213000
DTSTAMP:20260421T191148
CREATED:20231212T155935Z
LAST-MODIFIED:20231212T160024Z
UID:4085-1713121200-1713130200@lst.org
SUMMARY:Basic Training
DESCRIPTION:In this foundational workshop you’ll receive the basic training needed to utilize the LST approach in sharing your faith and your life with an international friend.  The focus of our time will be on the core components of the LST philosophy and methodology. Whether you’re using this training for your local FriendSpeak work\, to connect online with a Reader through LST Connect\, or preparing for an international mission project\, you are a welcome friend! Click here to register – 2024 Basic Training Registration
URL:https://lst.org/event/basic-training-83/
LOCATION:Online
CATEGORIES:FriendSpeak,LST Connect,LST Mission Projects
ORGANIZER;CN="Let's Start Talking":MAILTO:LST@LST.org
END:VEVENT
BEGIN:VEVENT
DTSTART;TZID=America/Chicago:20240424T120000
DTEND;TZID=America/Chicago:20240424T130000
DTSTAMP:20260421T191148
CREATED:20231220T164410Z
LAST-MODIFIED:20231220T164410Z
UID:4192-1713960000-1713963600@lst.org
SUMMARY:Advanced Training
DESCRIPTION:LST is pleased to provide specialized training for experienced Workers!  These sessions are for Workers who have been through Basic Training (or equivalent)\, have experience working with LST Readers\, and feel comfortable utilizing the LST approach.  For registered LST Connect and FriendSpeak Workers these advanced training sessions are offered for no additional fee. Click here for additional details and to register.
URL:https://lst.org/event/advanced-training-4/
LOCATION:Online
CATEGORIES:FriendSpeak,LST Connect,LST Mission Projects
ORGANIZER;CN="Let's Start Talking":MAILTO:LST@LST.org
END:VEVENT
BEGIN:VEVENT
DTSTART;TZID=America/Chicago:20240425T120000
DTEND;TZID=America/Chicago:20240425T130000
DTSTAMP:20260421T191148
CREATED:20231212T222320Z
LAST-MODIFIED:20231212T222320Z
UID:4152-1714046400-1714050000@lst.org
SUMMARY:EndMeeting
DESCRIPTION:This online workshop is for LST Teams who have recently returned from their international projects.  It is led by LST staff\, and teams can register through their online training platform.
URL:https://lst.org/event/endmeeting-20/
LOCATION:Online
CATEGORIES:LST Mission Projects
ORGANIZER;CN="Let's Start Talking":MAILTO:LST@LST.org
END:VEVENT
BEGIN:VEVENT
DTSTART;VALUE=DATE:20240427
DTEND;VALUE=DATE:20240428
DTSTAMP:20260421T191148
CREATED:20240109T200047Z
LAST-MODIFIED:20240117T204747Z
UID:4256-1714176000-1714262399@lst.org
SUMMARY:FriendSpeak Training (Edmond\, OK)
DESCRIPTION:
URL:https://lst.org/event/friendspeak-training-oklahoma-city-ok/
LOCATION:Edmond\, OK\, Edmond\, Oklahoma
CATEGORIES:FriendSpeak
END:VEVENT
BEGIN:VEVENT
DTSTART;TZID=America/Chicago:20240428T180000
DTEND;TZID=America/Chicago:20240428T200000
DTSTAMP:20260421T191148
CREATED:20231212T212305Z
LAST-MODIFIED:20231212T212305Z
UID:4127-1714327200-1714334400@lst.org
SUMMARY:Gateway Training (LST International Projects)
DESCRIPTION:This specialized online workshop is for LST International teams who have completed most of their online training and are within a month of departure.  LST staff lead this required event. Teams can register through their online training platform.
URL:https://lst.org/event/gateway-training-lst-international-projects-4/
LOCATION:Online
CATEGORIES:LST Mission Projects
ORGANIZER;CN="Let's Start Talking":MAILTO:LST@LST.org
END:VEVENT
BEGIN:VEVENT
DTSTART;VALUE=DATE:20240502
DTEND;VALUE=DATE:20240503
DTSTAMP:20260421T191148
CREATED:20231212T152320Z
LAST-MODIFIED:20231212T152413Z
UID:4063-1714608000-1714694399@lst.org
SUMMARY:Giving Day - FriendSpeak Giving Day 2024
DESCRIPTION:
URL:https://lst.org/event/giving-day-friendspeak-giving-day-2024/
LOCATION:Online
CATEGORIES:FriendSpeak,Fundraising
ORGANIZER;CN="Let's Start Talking":MAILTO:LST@LST.org
END:VEVENT
BEGIN:VEVENT
DTSTART;TZID=America/Chicago:20240502T120000
DTEND;TZID=America/Chicago:20240502T143000
DTSTAMP:20260421T191148
CREATED:20231212T160117Z
LAST-MODIFIED:20231212T160117Z
UID:4087-1714651200-1714660200@lst.org
SUMMARY:Basic Training
DESCRIPTION:In this foundational workshop you’ll receive the basic training needed to utilize the LST approach in sharing your faith and your life with an international friend.  The focus of our time will be on the core components of the LST philosophy and methodology. Whether you’re using this training for your local FriendSpeak work\, to connect online with a Reader through LST Connect\, or preparing for an international mission project\, you are a welcome friend! Click here to register – 2024 Basic Training Registration
URL:https://lst.org/event/basic-training-84/
LOCATION:Online
CATEGORIES:FriendSpeak,LST Connect,LST Mission Projects
ORGANIZER;CN="Let's Start Talking":MAILTO:LST@LST.org
END:VEVENT
BEGIN:VEVENT
DTSTART;VALUE=DATE:20240513
DTEND;VALUE=DATE:20240610
DTSTAMP:20260421T191148
CREATED:20240220T210831Z
LAST-MODIFIED:20240220T210831Z
UID:4320-1715558400-1717977599@lst.org
SUMMARY:LST Project (Rio de Janeiro\, Brazil)
DESCRIPTION:
URL:https://lst.org/event/lst-project-rio-de-janeiro-brazil-6/
LOCATION:Rio de Janeiro\, Brazil\, Rio de Janeiro\, Brazil
CATEGORIES:LST Mission Projects
ORGANIZER;CN="Let's Start Talking":MAILTO:LST@LST.org
END:VEVENT
BEGIN:VEVENT
DTSTART;VALUE=DATE:20240516
DTEND;VALUE=DATE:20240517
DTSTAMP:20260421T191148
CREATED:20240102T201722Z
LAST-MODIFIED:20240402T115009Z
UID:4230-1715817600-1715903999@lst.org
SUMMARY:LST MeetUp (7:00 am or 12:00 pm)
DESCRIPTION:LST Meetups are for everyone participating in LST!  This one-hour online gathering is a time to connect with other participants\, have fun\, and continue practicing English.  If you have friends interested in LST\, invite them to this online “party!” Please register here.
URL:https://lst.org/event/lst-meetup-1200-pm-or-700-pm-3/
LOCATION:Online
CATEGORIES:FriendSpeak,LST Connect
ORGANIZER;CN="Let's Start Talking":MAILTO:LST@LST.org
END:VEVENT
BEGIN:VEVENT
DTSTART;TZID=America/Chicago:20240516T190000
DTEND;TZID=America/Chicago:20240516T213000
DTSTAMP:20260421T191148
CREATED:20231212T160252Z
LAST-MODIFIED:20240326T202658Z
UID:4089-1715886000-1715895000@lst.org
SUMMARY:Basic Training
DESCRIPTION:In this foundational workshop you’ll receive the basic training needed to utilize the LST approach in sharing your faith and your life with an international friend.  The focus of our time will be on the core components of the LST philosophy and methodology. Whether you’re using this training for your local FriendSpeak work\, to connect online with a Reader through LST Connect\, or preparing for an international mission project\, you are a welcome friend! Click here to register – 2024 Basic Training Registration
URL:https://lst.org/event/basic-training-85/
LOCATION:Online
CATEGORIES:FriendSpeak,LST Connect,LST Mission Projects
ORGANIZER;CN="Let's Start Talking":MAILTO:LST@LST.org
END:VEVENT
BEGIN:VEVENT
DTSTART;VALUE=DATE:20240517
DTEND;VALUE=DATE:20240630
DTSTAMP:20260421T191148
CREATED:20240130T213652Z
LAST-MODIFIED:20240130T213652Z
UID:4282-1715904000-1719705599@lst.org
SUMMARY:LST Project (Seoul\, South Korea)
DESCRIPTION:
URL:https://lst.org/event/lst-project-seoul-south-korea-4/
LOCATION:Seoul\, South Korea\, Seoul\, Korea\, Democratic People's Republic of
CATEGORIES:LST Mission Projects
ORGANIZER;CN="Let's Start Talking":MAILTO:LST@LST.org
END:VEVENT
BEGIN:VEVENT
DTSTART;VALUE=DATE:20240519
DTEND;VALUE=DATE:20240605
DTSTAMP:20260421T191148
CREATED:20240220T202830Z
LAST-MODIFIED:20240220T202830Z
UID:4313-1716076800-1717545599@lst.org
SUMMARY:LST Project (Lecce\, Italy)
DESCRIPTION:
URL:https://lst.org/event/lst-project-lecce-italy-9/
LOCATION:Lecce\, Italy\, Lecce\, Italy
CATEGORIES:LST Mission Projects
ORGANIZER;CN="Let's Start Talking":MAILTO:LST@LST.org
END:VEVENT
BEGIN:VEVENT
DTSTART;TZID=America/Chicago:20240519T180000
DTEND;TZID=America/Chicago:20240519T200000
DTSTAMP:20260421T191148
CREATED:20231212T212355Z
LAST-MODIFIED:20231212T212355Z
UID:4129-1716141600-1716148800@lst.org
SUMMARY:Gateway Training (LST International Projects)
DESCRIPTION:This specialized online workshop is for LST International teams who have completed most of their online training and are within a month of departure.  LST staff lead this required event. Teams can register through their online training platform.
URL:https://lst.org/event/gateway-training-lst-international-projects-5/
LOCATION:Online
CATEGORIES:LST Mission Projects
ORGANIZER;CN="Let's Start Talking":MAILTO:LST@LST.org
END:VEVENT
BEGIN:VEVENT
DTSTART;TZID=America/Chicago:20240519T200000
DTEND;TZID=America/Chicago:20240519T210000
DTSTAMP:20260421T191148
CREATED:20231220T164459Z
LAST-MODIFIED:20231220T164459Z
UID:4194-1716148800-1716152400@lst.org
SUMMARY:Advanced Training
DESCRIPTION:LST is pleased to provide specialized training for experienced Workers!  These sessions are for Workers who have been through Basic Training (or equivalent)\, have experience working with LST Readers\, and feel comfortable utilizing the LST approach.  For registered LST Connect and FriendSpeak Workers these advanced training sessions are offered for no additional fee. Click here for additional details and to register.
URL:https://lst.org/event/advanced-training-5/
LOCATION:Online
CATEGORIES:FriendSpeak,LST Connect,LST Mission Projects
ORGANIZER;CN="Let's Start Talking":MAILTO:LST@LST.org
END:VEVENT
BEGIN:VEVENT
DTSTART;TZID=America/Chicago:20240523T120000
DTEND;TZID=America/Chicago:20240523T130000
DTSTAMP:20260421T191148
CREATED:20231212T222400Z
LAST-MODIFIED:20231212T222400Z
UID:4154-1716465600-1716469200@lst.org
SUMMARY:EndMeeting
DESCRIPTION:This online workshop is for LST Teams who have recently returned from their international projects.  It is led by LST staff\, and teams can register through their online training platform.
URL:https://lst.org/event/endmeeting-21/
LOCATION:Online
CATEGORIES:LST Mission Projects
ORGANIZER;CN="Let's Start Talking":MAILTO:LST@LST.org
END:VEVENT
BEGIN:VEVENT
DTSTART;TZID=America/Chicago:20240523T190000
DTEND;TZID=America/Chicago:20240523T200000
DTSTAMP:20260421T191148
CREATED:20231212T222443Z
LAST-MODIFIED:20231212T222443Z
UID:4156-1716490800-1716494400@lst.org
SUMMARY:EndMeeting
DESCRIPTION:This online workshop is for LST Teams who have recently returned from their international projects.  It is led by LST staff\, and teams can register through their online training platform.
URL:https://lst.org/event/endmeeting-22/
LOCATION:Online
CATEGORIES:LST Mission Projects
ORGANIZER;CN="Let's Start Talking":MAILTO:LST@LST.org
END:VEVENT
BEGIN:VEVENT
DTSTART;TZID=America/Chicago:20240530T190000
DTEND;TZID=America/Chicago:20240530T213000
DTSTAMP:20260421T191148
CREATED:20231212T160420Z
LAST-MODIFIED:20231212T160641Z
UID:4091-1717095600-1717104600@lst.org
SUMMARY:Basic Training
DESCRIPTION:In this foundational workshop you’ll receive the basic training needed to utilize the LST approach in sharing your faith and your life with an international friend.  The focus of our time will be on the core components of the LST philosophy and methodology. Whether you’re using this training for your local FriendSpeak work\, to connect online with a Reader through LST Connect\, or preparing for an international mission project\, you are a welcome friend! Click here to register – 2024 Basic Training Registration
URL:https://lst.org/event/basic-training-86/
LOCATION:Online
CATEGORIES:FriendSpeak,LST Connect,LST Mission Projects
ORGANIZER;CN="Let's Start Talking":MAILTO:LST@LST.org
END:VEVENT
BEGIN:VEVENT
DTSTART;VALUE=DATE:20240531
DTEND;VALUE=DATE:20240616
DTSTAMP:20260421T191148
CREATED:20240206T222319Z
LAST-MODIFIED:20240206T222319Z
UID:4297-1717113600-1718495999@lst.org
SUMMARY:LST International Project (Lecce\, Italy)
DESCRIPTION:
URL:https://lst.org/event/lst-international-project-lecce-italy/
LOCATION:Lecce\, Italy\, Lecce\, Italy
CATEGORIES:LST Mission Projects
ORGANIZER;CN="Let's Start Talking":MAILTO:LST@LST.org
END:VEVENT
BEGIN:VEVENT
DTSTART;VALUE=DATE:20240531
DTEND;VALUE=DATE:20240616
DTSTAMP:20260421T191148
CREATED:20240313T154935Z
LAST-MODIFIED:20240313T154935Z
UID:4344-1717113600-1718495999@lst.org
SUMMARY:LST Project (Niteroi\, Brazil)
DESCRIPTION:
URL:https://lst.org/event/lst-project-niteroi-brazil-3/
LOCATION:Niteroi\, Brazil\, Niteroi\, Brazil
CATEGORIES:LST Mission Projects
ORGANIZER;CN="Let's Start Talking":MAILTO:LST@LST.org
END:VEVENT
BEGIN:VEVENT
DTSTART;VALUE=DATE:20240608
DTEND;VALUE=DATE:20240707
DTSTAMP:20260421T191148
CREATED:20240221T182132Z
LAST-MODIFIED:20240221T183104Z
UID:4324-1717804800-1720310399@lst.org
SUMMARY:LST Project (West Springfield\, MA)
DESCRIPTION:
URL:https://lst.org/event/lst-project-west-springfield-ma-7/
LOCATION:West Springfield\, MA\, West Springfield\, MA\, United States
CATEGORIES:LST Mission Projects
ORGANIZER;CN="Let's Start Talking":MAILTO:LST@LST.org
END:VEVENT
BEGIN:VEVENT
DTSTART;TZID=America/Chicago:20240609T190000
DTEND;TZID=America/Chicago:20240609T213000
DTSTAMP:20260421T191148
CREATED:20231212T160828Z
LAST-MODIFIED:20231212T160828Z
UID:4093-1717959600-1717968600@lst.org
SUMMARY:Basic Training
DESCRIPTION:In this foundational workshop you’ll receive the basic training needed to utilize the LST approach in sharing your faith and your life with an international friend.  The focus of our time will be on the core components of the LST philosophy and methodology. Whether you’re using this training for your local FriendSpeak work\, to connect online with a Reader through LST Connect\, or preparing for an international mission project\, you are a welcome friend! Click here to register – 2024 Basic Training Registration
URL:https://lst.org/event/basic-training-87/
LOCATION:Online
CATEGORIES:FriendSpeak,LST Connect,LST Mission Projects
ORGANIZER;CN="Let's Start Talking":MAILTO:LST@LST.org
END:VEVENT
END:VCALENDAR