BEGIN:VCALENDAR
VERSION:2.0
PRODID:-//Let&#039;s Start Talking - ECPv6.15.20//NONSGML v1.0//EN
CALSCALE:GREGORIAN
METHOD:PUBLISH
X-ORIGINAL-URL:https://lst.org
X-WR-CALDESC:Events for Let&#039;s Start Talking
REFRESH-INTERVAL;VALUE=DURATION:PT1H
X-Robots-Tag:noindex
X-PUBLISHED-TTL:PT1H
BEGIN:VTIMEZONE
TZID:America/Chicago
BEGIN:DAYLIGHT
TZOFFSETFROM:-0600
TZOFFSETTO:-0500
TZNAME:CDT
DTSTART:20250309T080000
END:DAYLIGHT
BEGIN:STANDARD
TZOFFSETFROM:-0500
TZOFFSETTO:-0600
TZNAME:CST
DTSTART:20251102T070000
END:STANDARD
BEGIN:DAYLIGHT
TZOFFSETFROM:-0600
TZOFFSETTO:-0500
TZNAME:CDT
DTSTART:20260308T080000
END:DAYLIGHT
BEGIN:STANDARD
TZOFFSETFROM:-0500
TZOFFSETTO:-0600
TZNAME:CST
DTSTART:20261101T070000
END:STANDARD
BEGIN:DAYLIGHT
TZOFFSETFROM:-0600
TZOFFSETTO:-0500
TZNAME:CDT
DTSTART:20270314T080000
END:DAYLIGHT
BEGIN:STANDARD
TZOFFSETFROM:-0500
TZOFFSETTO:-0600
TZNAME:CST
DTSTART:20271107T070000
END:STANDARD
END:VTIMEZONE
BEGIN:VEVENT
DTSTART;VALUE=DATE:20260830
DTEND;VALUE=DATE:20260927
DTSTAMP:20260421T123256
CREATED:20260226T231124Z
LAST-MODIFIED:20260226T231124Z
UID:5589-1788048000-1790467199@lst.org
SUMMARY:LST Project (Hannover\, Germany)
DESCRIPTION:
URL:https://lst.org/event/lst-project-hannover-germany-13/
LOCATION:Hannover\, Germany\, Hannover\, Germany
CATEGORIES:LST Mission Projects
ORGANIZER;CN="Let's Start Talking":MAILTO:LST@LST.org
END:VEVENT
BEGIN:VEVENT
DTSTART;TZID=America/Chicago:20260830T180000
DTEND;TZID=America/Chicago:20260830T200000
DTSTAMP:20260421T123256
CREATED:20251218T222200Z
LAST-MODIFIED:20251218T222200Z
UID:5433-1788112800-1788120000@lst.org
SUMMARY:Gateway Training (LST International Projects)
DESCRIPTION:This specialized online workshop is for LST International teams who have completed most of their online training and are within a month of departure.  LST staff lead this required event\, and teams can register through the LST Training web page.
URL:https://lst.org/event/gateway-training-lst-international-projects-31/
LOCATION:Online
CATEGORIES:LST Mission Projects
ORGANIZER;CN="Let's Start Talking":MAILTO:LST@LST.org
END:VEVENT
BEGIN:VEVENT
DTSTART;TZID=America/Chicago:20260903T120000
DTEND;TZID=America/Chicago:20260903T143000
DTSTAMP:20260421T123256
CREATED:20251218T211331Z
LAST-MODIFIED:20251218T211331Z
UID:5345-1788436800-1788445800@lst.org
SUMMARY:Basic Training
DESCRIPTION:In this foundational workshop you’ll receive the basic training needed to utilize the LST approach in sharing your faith and your life with an international participant.  The focus of our time will be on the core components of the LST philosophy and methodology. Whether you’re using this training for your local FriendSpeak work\, to connect online with a Reader through LST Connect\, or preparing for an international mission project\, you are a welcome friend! Click here to register – 2026 Basic Training Registration
URL:https://lst.org/event/basic-training-142/
LOCATION:Online
CATEGORIES:FriendSpeak,LST Connect,LST Mission Projects
ORGANIZER;CN="Let's Start Talking":MAILTO:LST@LST.org
END:VEVENT
BEGIN:VEVENT
DTSTART;VALUE=DATE:20260911
DTEND;VALUE=DATE:20260927
DTSTAMP:20260421T123256
CREATED:20260304T225206Z
LAST-MODIFIED:20260304T225206Z
UID:5601-1789084800-1790467199@lst.org
SUMMARY:LST Project (Krakow\, Poland)
DESCRIPTION:
URL:https://lst.org/event/lst-project-krakow-poland-4/
LOCATION:Krakow\, Poland\, Krakow\, Poland
CATEGORIES:LST Mission Projects
ORGANIZER;CN="Let's Start Talking":MAILTO:LST@LST.org
END:VEVENT
BEGIN:VEVENT
DTSTART;TZID=America/Chicago:20260913T180000
DTEND;TZID=America/Chicago:20260913T200000
DTSTAMP:20260421T123256
CREATED:20251218T222250Z
LAST-MODIFIED:20251218T222300Z
UID:5435-1789322400-1789329600@lst.org
SUMMARY:Gateway Training (LST International Projects)
DESCRIPTION:This specialized online workshop is for LST International teams who have completed most of their online training and are within a month of departure.  LST staff lead this required event\, and teams can register through the LST Training web page.
URL:https://lst.org/event/gateway-training-lst-international-projects-32/
LOCATION:Online
CATEGORIES:LST Mission Projects
ORGANIZER;CN="Let's Start Talking":MAILTO:LST@LST.org
END:VEVENT
BEGIN:VEVENT
DTSTART;VALUE=DATE:20260917
DTEND;VALUE=DATE:20260918
DTSTAMP:20260421T123256
CREATED:20260105T220811Z
LAST-MODIFIED:20260105T220811Z
UID:5475-1789603200-1789689599@lst.org
SUMMARY:
DESCRIPTION:LST MeetUp \nLST Meetups are for everyone participating in LST!  This one-hour online gathering is a time to connect with other participants\, have fun\, and continue practicing English.  If you have friends interested in LST\, invite them to this online “party!” Please register here.
URL:https://lst.org/event/5475/
LOCATION:Online
CATEGORIES:FriendSpeak,LST Connect,LST Mission Projects
ORGANIZER;CN="Let's Start Talking":MAILTO:LST@LST.org
END:VEVENT
BEGIN:VEVENT
DTSTART;VALUE=DATE:20260917
DTEND;VALUE=DATE:20260918
DTSTAMP:20260421T123256
CREATED:20260105T221021Z
LAST-MODIFIED:20260105T221021Z
UID:5479-1789603200-1789689599@lst.org
SUMMARY:LST MeetUp
DESCRIPTION:LST MeetUp \nLST Meetups are for everyone participating in LST!  This one-hour online gathering is a time to connect with other participants\, have fun\, and continue practicing English.  If you have friends interested in LST\, invite them to this online “party!” Please register here.
URL:https://lst.org/event/lst-meetup-19/
LOCATION:Online
CATEGORIES:FriendSpeak,LST Connect,LST Mission Projects
ORGANIZER;CN="Let's Start Talking":MAILTO:LST@LST.org
END:VEVENT
BEGIN:VEVENT
DTSTART;VALUE=DATE:20260917
DTEND;VALUE=DATE:20260918
DTSTAMP:20260421T123256
CREATED:20260105T221943Z
LAST-MODIFIED:20260105T221943Z
UID:5489-1789603200-1789689599@lst.org
SUMMARY:North Texas GIVING DAY
DESCRIPTION:Join us in funding the good work God is directing through LST. This Giving Day is a critical part of LST’s annual fundraising. Watch the website for details concerning LST’s financial need for this particular Giving Day.
URL:https://lst.org/event/north-texas-giving-day-3/
LOCATION:Online
CATEGORIES:FriendSpeak,Fundraising,LST Connect,LST Mission Projects
ORGANIZER;CN="Let's Start Talking":MAILTO:LST@LST.org
END:VEVENT
BEGIN:VEVENT
DTSTART;TZID=America/Chicago:20260920T190000
DTEND;TZID=America/Chicago:20260920T213000
DTSTAMP:20260421T123256
CREATED:20251218T211420Z
LAST-MODIFIED:20251218T211420Z
UID:5347-1789930800-1789939800@lst.org
SUMMARY:Basic Training
DESCRIPTION:In this foundational workshop you’ll receive the basic training needed to utilize the LST approach in sharing your faith and your life with an international participant.  The focus of our time will be on the core components of the LST philosophy and methodology. Whether you’re using this training for your local FriendSpeak work\, to connect online with a Reader through LST Connect\, or preparing for an international mission project\, you are a welcome friend! Click here to register – 2026 Basic Training Registration
URL:https://lst.org/event/basic-training-143/
LOCATION:Online
CATEGORIES:FriendSpeak,LST Connect,LST Mission Projects
ORGANIZER;CN="Let's Start Talking":MAILTO:LST@LST.org
END:VEVENT
BEGIN:VEVENT
DTSTART;TZID=America/Chicago:20260924T120000
DTEND;TZID=America/Chicago:20260924T130000
DTSTAMP:20260421T123256
CREATED:20251218T220706Z
LAST-MODIFIED:20251218T220706Z
UID:5409-1790251200-1790254800@lst.org
SUMMARY:EndMeeting (LST International Projects)
DESCRIPTION:This online workshop is for LST Teams who have recently returned from their international short-term projects.  It is led by LST staff\, and teams can register through LST Training web page.
URL:https://lst.org/event/endmeeting-lst-international-projects-31/
LOCATION:Online
CATEGORIES:LST Mission Projects
ORGANIZER;CN="Let's Start Talking":MAILTO:LST@LST.org
END:VEVENT
BEGIN:VEVENT
DTSTART;TZID=America/Chicago:20260924T190000
DTEND;TZID=America/Chicago:20260924T200000
DTSTAMP:20260421T123256
CREATED:20251218T220602Z
LAST-MODIFIED:20251218T220602Z
UID:5407-1790276400-1790280000@lst.org
SUMMARY:EndMeeting (LST International Projects)
DESCRIPTION:This online workshop is for LST Teams who have recently returned from their international short-term projects.  It is led by LST staff\, and teams can register through LST Training web page.
URL:https://lst.org/event/endmeeting-lst-international-projects-30/
LOCATION:Online
CATEGORIES:LST Mission Projects
ORGANIZER;CN="Let's Start Talking":MAILTO:LST@LST.org
END:VEVENT
BEGIN:VEVENT
DTSTART;VALUE=DATE:20260925
DTEND;VALUE=DATE:20261011
DTSTAMP:20260421T123256
CREATED:20260226T225350Z
LAST-MODIFIED:20260226T225350Z
UID:5585-1790294400-1791676799@lst.org
SUMMARY:LST Project (Hannover\, Germany)
DESCRIPTION:
URL:https://lst.org/event/lst-project-hannover-germany-12/
LOCATION:Hannover\, Germany\, Hannover\, Germany
CATEGORIES:LST Mission Projects
ORGANIZER;CN="Let's Start Talking":MAILTO:LST@LST.org
END:VEVENT
BEGIN:VEVENT
DTSTART;TZID=America/Chicago:20260927T200000
DTEND;TZID=America/Chicago:20260927T204500
DTSTAMP:20260421T123256
CREATED:20251218T214315Z
LAST-MODIFIED:20251218T214315Z
UID:5377-1790539200-1790541900@lst.org
SUMMARY:Advanced Training for Experienced LST Workers
DESCRIPTION:LST is pleased to provide specialized training for experienced Workers!  These sessions are for Workers who have been through Basic Training (or equivalent)\, have experience working with LST Readers\, and feel comfortable utilizing the LST approach.  For registered LST Connect and FriendSpeak Workers these advanced training sessions are offered for no additional fee. Click here for additional details and to register.
URL:https://lst.org/event/advanced-training-for-experienced-lst-workers-21/
LOCATION:Online
CATEGORIES:FriendSpeak,LST Connect,LST Mission Projects
ORGANIZER;CN="Let's Start Talking":MAILTO:LST@LST.org
END:VEVENT
BEGIN:VEVENT
DTSTART;TZID=America/Chicago:20260929T200000
DTEND;TZID=America/Chicago:20260929T204500
DTSTAMP:20260421T123256
CREATED:20260105T214523Z
LAST-MODIFIED:20260105T214523Z
UID:5459-1790712000-1790714700@lst.org
SUMMARY:Exploring LST
DESCRIPTION:Exploring LST \nJoin us to learn what LST is all about and explore simple ways you can get involved. Offered once a month in 2026. Click HERE for details and to register.
URL:https://lst.org/event/exploring-lst-9/
LOCATION:Online
CATEGORIES:FriendSpeak,LST Connect,LST Mission Projects
ORGANIZER;CN="Let's Start Talking":MAILTO:LST@LST.org
END:VEVENT
BEGIN:VEVENT
DTSTART;VALUE=DATE:20261001
DTEND;VALUE=DATE:20261025
DTSTAMP:20260421T123256
CREATED:20260226T221319Z
LAST-MODIFIED:20260226T221319Z
UID:5579-1790812800-1792886399@lst.org
SUMMARY:LST Project (Joao Pessoa\, Brazil)
DESCRIPTION:
URL:https://lst.org/event/lst-project-joao-pessoa-brazil-2/
LOCATION:Joao Pessoa\, Brazil\, Joao Pessoa\, Brazil
CATEGORIES:LST Mission Projects
ORGANIZER;CN="Let's Start Talking":MAILTO:LST@LST.org
END:VEVENT
BEGIN:VEVENT
DTSTART;TZID=America/Chicago:20261001T190000
DTEND;TZID=America/Chicago:20261001T213000
DTSTAMP:20260421T123256
CREATED:20251218T211509Z
LAST-MODIFIED:20251218T211509Z
UID:5349-1790881200-1790890200@lst.org
SUMMARY:Basic Training
DESCRIPTION:In this foundational workshop you’ll receive the basic training needed to utilize the LST approach in sharing your faith and your life with an international participant.  The focus of our time will be on the core components of the LST philosophy and methodology. Whether you’re using this training for your local FriendSpeak work\, to connect online with a Reader through LST Connect\, or preparing for an international mission project\, you are a welcome friend! Click here to register – 2026 Basic Training Registration
URL:https://lst.org/event/basic-training-144/
LOCATION:Online
CATEGORIES:FriendSpeak,LST Connect,LST Mission Projects
ORGANIZER;CN="Let's Start Talking":MAILTO:LST@LST.org
END:VEVENT
BEGIN:VEVENT
DTSTART;VALUE=DATE:20261003
DTEND;VALUE=DATE:20261018
DTSTAMP:20260421T123256
CREATED:20260219T201850Z
LAST-MODIFIED:20260219T201850Z
UID:5548-1790985600-1792281599@lst.org
SUMMARY:LST Project (West Springfield\, MA)
DESCRIPTION:
URL:https://lst.org/event/lst-project-west-springfield-ma-16/
LOCATION:West Springfield\, MA\, West Springfield\, MA\, United States
CATEGORIES:LST Mission Projects
ORGANIZER;CN="Let's Start Talking":MAILTO:LST@LST.org
END:VEVENT
BEGIN:VEVENT
DTSTART;VALUE=DATE:20261009
DTEND;VALUE=DATE:20261025
DTSTAMP:20260421T123256
CREATED:20260327T202152Z
LAST-MODIFIED:20260327T202152Z
UID:5651-1791504000-1792886399@lst.org
SUMMARY:LST Project (Buenos Aires\, Argentina)
DESCRIPTION:
URL:https://lst.org/event/lst-project-buenos-aires-argentina-22/
LOCATION:Buenos Aires\, Argentina\, Buenos Aires\, Argentina
ORGANIZER;CN="Let's Start Talking":MAILTO:LST@LST.org
END:VEVENT
BEGIN:VEVENT
DTSTART;VALUE=DATE:20261017
DTEND;VALUE=DATE:20261101
DTSTAMP:20260421T123256
CREATED:20260226T222954Z
LAST-MODIFIED:20260226T222954Z
UID:5583-1792195200-1793491199@lst.org
SUMMARY:LST Project (West Springfield\, MA)
DESCRIPTION:
URL:https://lst.org/event/lst-project-west-springfield-ma-18/
LOCATION:West Springfield\, MA\, West Springfield\, MA\, United States
CATEGORIES:LST Mission Projects
ORGANIZER;CN="Let's Start Talking":MAILTO:LST@LST.org
END:VEVENT
BEGIN:VEVENT
DTSTART;TZID=America/Chicago:20261018T190000
DTEND;TZID=America/Chicago:20261018T213000
DTSTAMP:20260421T123256
CREATED:20251218T211604Z
LAST-MODIFIED:20251218T211614Z
UID:5351-1792350000-1792359000@lst.org
SUMMARY:Basic Training
DESCRIPTION:In this foundational workshop you’ll receive the basic training needed to utilize the LST approach in sharing your faith and your life with an international participant.  The focus of our time will be on the core components of the LST philosophy and methodology. Whether you’re using this training for your local FriendSpeak work\, to connect online with a Reader through LST Connect\, or preparing for an international mission project\, you are a welcome friend! Click here to register – 2026 Basic Training Registration
URL:https://lst.org/event/basic-training-145/
LOCATION:Online
CATEGORIES:FriendSpeak,LST Connect,LST Mission Projects
ORGANIZER;CN="Let's Start Talking":MAILTO:LST@LST.org
END:VEVENT
BEGIN:VEVENT
DTSTART;TZID=America/Chicago:20261025T180000
DTEND;TZID=America/Chicago:20261025T200000
DTSTAMP:20260421T123256
CREATED:20251218T222358Z
LAST-MODIFIED:20251218T222358Z
UID:5437-1792951200-1792958400@lst.org
SUMMARY:Gateway Training (LST International Projects)
DESCRIPTION:This specialized online workshop is for LST International teams who have completed most of their online training and are within a month of departure.  LST staff lead this required event\, and teams can register through the LST Training web page.
URL:https://lst.org/event/gateway-training-lst-international-projects-33/
LOCATION:Online
CATEGORIES:LST Mission Projects
ORGANIZER;CN="Let's Start Talking":MAILTO:LST@LST.org
END:VEVENT
BEGIN:VEVENT
DTSTART;TZID=America/Chicago:20261027T120000
DTEND;TZID=America/Chicago:20261027T124500
DTSTAMP:20260421T123256
CREATED:20260105T214630Z
LAST-MODIFIED:20260105T214630Z
UID:5461-1793102400-1793105100@lst.org
SUMMARY:Exploring LST
DESCRIPTION:Exploring LST \nJoin us to learn what LST is all about and explore simple ways you can get involved. Offered once a month in 2026. Click HERE for details and to register.
URL:https://lst.org/event/exploring-lst-10/
LOCATION:Online
CATEGORIES:FriendSpeak,LST Connect,LST Mission Projects
ORGANIZER;CN="Let's Start Talking":MAILTO:LST@LST.org
END:VEVENT
BEGIN:VEVENT
DTSTART;TZID=America/Chicago:20261028T120000
DTEND;TZID=America/Chicago:20261028T124500
DTSTAMP:20260421T123256
CREATED:20251218T214412Z
LAST-MODIFIED:20251218T214412Z
UID:5379-1793188800-1793191500@lst.org
SUMMARY:Advanced Training for Experienced LST Workers
DESCRIPTION:LST is pleased to provide specialized training for experienced Workers!  These sessions are for Workers who have been through Basic Training (or equivalent)\, have experience working with LST Readers\, and feel comfortable utilizing the LST approach.  For registered LST Connect and FriendSpeak Workers these advanced training sessions are offered for no additional fee. Click here for additional details and to register.
URL:https://lst.org/event/advanced-training-for-experienced-lst-workers-22/
LOCATION:Online
CATEGORIES:FriendSpeak,LST Connect,LST Mission Projects
ORGANIZER;CN="Let's Start Talking":MAILTO:LST@LST.org
END:VEVENT
BEGIN:VEVENT
DTSTART;TZID=America/Chicago:20261029T120000
DTEND;TZID=America/Chicago:20261029T130000
DTSTAMP:20260421T123256
CREATED:20251218T220802Z
LAST-MODIFIED:20251218T220802Z
UID:5411-1793275200-1793278800@lst.org
SUMMARY:EndMeeting (LST International Projects)
DESCRIPTION:This online workshop is for LST Teams who have recently returned from their international short-term projects.  It is led by LST staff\, and teams can register through LST Training web page.
URL:https://lst.org/event/endmeeting-lst-international-projects-32/
LOCATION:Online
CATEGORIES:LST Mission Projects
ORGANIZER;CN="Let's Start Talking":MAILTO:LST@LST.org
END:VEVENT
BEGIN:VEVENT
DTSTART;TZID=America/Chicago:20261029T190000
DTEND;TZID=America/Chicago:20261029T200000
DTSTAMP:20260421T123256
CREATED:20251218T220857Z
LAST-MODIFIED:20251218T220857Z
UID:5413-1793300400-1793304000@lst.org
SUMMARY:EndMeeting (LST International Projects)
DESCRIPTION:This online workshop is for LST Teams who have recently returned from their international short-term projects.  It is led by LST staff\, and teams can register through LST Training web page.
URL:https://lst.org/event/endmeeting-lst-international-projects-33/
LOCATION:Online
CATEGORIES:LST Mission Projects
ORGANIZER;CN="Let's Start Talking":MAILTO:LST@LST.org
END:VEVENT
BEGIN:VEVENT
DTSTART;TZID=America/Chicago:20261101T200000
DTEND;TZID=America/Chicago:20261101T204500
DTSTAMP:20260421T123256
CREATED:20251218T214512Z
LAST-MODIFIED:20251218T214512Z
UID:5381-1793563200-1793565900@lst.org
SUMMARY:Advanced Training for Experienced LST Workers
DESCRIPTION:LST is pleased to provide specialized training for experienced Workers!  These sessions are for Workers who have been through Basic Training (or equivalent)\, have experience working with LST Readers\, and feel comfortable utilizing the LST approach.  For registered LST Connect and FriendSpeak Workers these advanced training sessions are offered for no additional fee. Click here for additional details and to register.
URL:https://lst.org/event/advanced-training-for-experienced-lst-workers-23/
LOCATION:Online
CATEGORIES:FriendSpeak,LST Connect,LST Mission Projects
ORGANIZER;CN="Let's Start Talking":MAILTO:LST@LST.org
END:VEVENT
BEGIN:VEVENT
DTSTART;TZID=America/Chicago:20261105T120000
DTEND;TZID=America/Chicago:20261105T143000
DTSTAMP:20260421T123256
CREATED:20251218T211752Z
LAST-MODIFIED:20251218T211752Z
UID:5353-1793880000-1793889000@lst.org
SUMMARY:Basic Training
DESCRIPTION:In this foundational workshop you’ll receive the basic training needed to utilize the LST approach in sharing your faith and your life with an international participant.  The focus of our time will be on the core components of the LST philosophy and methodology. Whether you’re using this training for your local FriendSpeak work\, to connect online with a Reader through LST Connect\, or preparing for an international mission project\, you are a welcome friend! Click here to register – 2026 Basic Training Registration
URL:https://lst.org/event/basic-training-146/
LOCATION:Online
CATEGORIES:FriendSpeak,LST Connect,LST Mission Projects
ORGANIZER;CN="Let's Start Talking":MAILTO:LST@LST.org
END:VEVENT
BEGIN:VEVENT
DTSTART;TZID=America/Chicago:20261108T180000
DTEND;TZID=America/Chicago:20261108T200000
DTSTAMP:20260421T123256
CREATED:20251218T222445Z
LAST-MODIFIED:20251218T222445Z
UID:5439-1794160800-1794168000@lst.org
SUMMARY:Gateway Training (LST International Projects)
DESCRIPTION:This specialized online workshop is for LST International teams who have completed most of their online training and are within a month of departure.  LST staff lead this required event\, and teams can register through the LST Training web page.
URL:https://lst.org/event/gateway-training-lst-international-projects-34/
LOCATION:Online
CATEGORIES:LST Mission Projects
ORGANIZER;CN="Let's Start Talking":MAILTO:LST@LST.org
END:VEVENT
BEGIN:VEVENT
DTSTART;TZID=America/Chicago:20261112T190000
DTEND;TZID=America/Chicago:20261112T200000
DTSTAMP:20260421T123256
CREATED:20251218T220946Z
LAST-MODIFIED:20251218T221211Z
UID:5415-1794510000-1794513600@lst.org
SUMMARY:EndMeeting (LST International Projects)
DESCRIPTION:This online workshop is for LST Teams who have recently returned from their international short-term projects.  It is led by LST staff\, and teams can register through LST Training web page.
URL:https://lst.org/event/endmeeting-lst-international-projects-34/
LOCATION:Online
CATEGORIES:LST Mission Projects
ORGANIZER;CN="Let's Start Talking":MAILTO:LST@LST.org
END:VEVENT
BEGIN:VEVENT
DTSTART;TZID=America/Chicago:20261115T190000
DTEND;TZID=America/Chicago:20261115T213000
DTSTAMP:20260421T123256
CREATED:20251218T211850Z
LAST-MODIFIED:20251218T211850Z
UID:5355-1794769200-1794778200@lst.org
SUMMARY:Basic Training
DESCRIPTION:In this foundational workshop you’ll receive the basic training needed to utilize the LST approach in sharing your faith and your life with an international participant.  The focus of our time will be on the core components of the LST philosophy and methodology. Whether you’re using this training for your local FriendSpeak work\, to connect online with a Reader through LST Connect\, or preparing for an international mission project\, you are a welcome friend! Click here to register – 2026 Basic Training Registration
URL:https://lst.org/event/basic-training-147/
LOCATION:Online
CATEGORIES:FriendSpeak,LST Connect,LST Mission Projects
ORGANIZER;CN="Let's Start Talking":MAILTO:LST@LST.org
END:VEVENT
END:VCALENDAR