BEGIN:VCALENDAR
VERSION:2.0
PRODID:-//Let&#039;s Start Talking - ECPv6.15.20//NONSGML v1.0//EN
CALSCALE:GREGORIAN
METHOD:PUBLISH
X-WR-CALNAME:Let&#039;s Start Talking
X-ORIGINAL-URL:https://lst.org
X-WR-CALDESC:Events for Let&#039;s Start Talking
REFRESH-INTERVAL;VALUE=DURATION:PT1H
X-Robots-Tag:noindex
X-PUBLISHED-TTL:PT1H
BEGIN:VTIMEZONE
TZID:America/Chicago
BEGIN:DAYLIGHT
TZOFFSETFROM:-0600
TZOFFSETTO:-0500
TZNAME:CDT
DTSTART:20230312T080000
END:DAYLIGHT
BEGIN:STANDARD
TZOFFSETFROM:-0500
TZOFFSETTO:-0600
TZNAME:CST
DTSTART:20231105T070000
END:STANDARD
BEGIN:DAYLIGHT
TZOFFSETFROM:-0600
TZOFFSETTO:-0500
TZNAME:CDT
DTSTART:20240310T080000
END:DAYLIGHT
BEGIN:STANDARD
TZOFFSETFROM:-0500
TZOFFSETTO:-0600
TZNAME:CST
DTSTART:20241103T070000
END:STANDARD
BEGIN:DAYLIGHT
TZOFFSETFROM:-0600
TZOFFSETTO:-0500
TZNAME:CDT
DTSTART:20250309T080000
END:DAYLIGHT
BEGIN:STANDARD
TZOFFSETFROM:-0500
TZOFFSETTO:-0600
TZNAME:CST
DTSTART:20251102T070000
END:STANDARD
END:VTIMEZONE
BEGIN:VEVENT
DTSTART;VALUE=DATE:20240901
DTEND;VALUE=DATE:20240922
DTSTAMP:20260421T163733
CREATED:20240901T022318Z
LAST-MODIFIED:20240901T022318Z
UID:4568-1725148800-1726963199@lst.org
SUMMARY:LST Project (Krakow\, Poland)
DESCRIPTION:
URL:https://lst.org/event/lst-project-krakow-poland-2/
LOCATION:Krakow\, Poland\, Krakow\, Poland
CATEGORIES:LST Mission Projects
ORGANIZER;CN="Let's Start Talking":MAILTO:LST@LST.org
END:VEVENT
BEGIN:VEVENT
DTSTART;TZID=America/Chicago:20240829T190000
DTEND;TZID=America/Chicago:20240829T200000
DTSTAMP:20260421T163733
CREATED:20231212T222856Z
LAST-MODIFIED:20231212T222856Z
UID:4168-1724958000-1724961600@lst.org
SUMMARY:EndMeeting
DESCRIPTION:This online workshop is for LST Teams who have recently returned from their international projects.  It is led by LST staff\, and teams can register through their online training platform.
URL:https://lst.org/event/endmeeting-28/
LOCATION:Online
CATEGORIES:LST Mission Projects
ORGANIZER;CN="Let's Start Talking":MAILTO:LST@LST.org
END:VEVENT
BEGIN:VEVENT
DTSTART;TZID=America/Chicago:20240829T120000
DTEND;TZID=America/Chicago:20240829T130000
DTSTAMP:20260421T163733
CREATED:20231212T222807Z
LAST-MODIFIED:20231212T222807Z
UID:4166-1724932800-1724936400@lst.org
SUMMARY:EndMeeting
DESCRIPTION:This online workshop is for LST Teams who have recently returned from their international projects.  It is led by LST staff\, and teams can register through their online training platform.
URL:https://lst.org/event/endmeeting-27/
LOCATION:Online
CATEGORIES:LST Mission Projects
ORGANIZER;CN="Let's Start Talking":MAILTO:LST@LST.org
END:VEVENT
BEGIN:VEVENT
DTSTART;TZID=America/Chicago:20240828T120000
DTEND;TZID=America/Chicago:20240828T130000
DTSTAMP:20260421T163733
CREATED:20231220T164723Z
LAST-MODIFIED:20231220T164723Z
UID:4200-1724846400-1724850000@lst.org
SUMMARY:Advanced Training
DESCRIPTION:LST is pleased to provide specialized training for experienced Workers!  These sessions are for Workers who have been through Basic Training (or equivalent)\, have experience working with LST Readers\, and feel comfortable utilizing the LST approach.  For registered LST Connect and FriendSpeak Workers these advanced training sessions are offered for no additional fee. Click here for additional details and to register.
URL:https://lst.org/event/advanced-training-8/
LOCATION:Online
CATEGORIES:FriendSpeak,LST Connect,LST Mission Projects
ORGANIZER;CN="Let's Start Talking":MAILTO:LST@LST.org
END:VEVENT
BEGIN:VEVENT
DTSTART;VALUE=DATE:20240826
DTEND;VALUE=DATE:20240827
DTSTAMP:20260421T163733
CREATED:20240827T011341Z
LAST-MODIFIED:20240827T011341Z
UID:4545-1724630400-1724716799@lst.org
SUMMARY:FriendSpeak Training (Indianapolis\, IN)
DESCRIPTION:
URL:https://lst.org/event/friendspeak-training-indianapolis-in/
LOCATION:Indianapolis\, IN\, Indianapolis\, IN\, United States
CATEGORIES:FriendSpeak
END:VEVENT
BEGIN:VEVENT
DTSTART;TZID=America/Chicago:20240825T180000
DTEND;TZID=America/Chicago:20240825T200000
DTSTAMP:20260421T163733
CREATED:20231212T212640Z
LAST-MODIFIED:20231212T212640Z
UID:4135-1724608800-1724616000@lst.org
SUMMARY:Gateway Training (LST International Projects)
DESCRIPTION:This specialized online workshop is for LST International teams who have completed most of their online training and are within a month of departure.  LST staff lead this required event. Teams can register through their online training platform.
URL:https://lst.org/event/gateway-training-lst-international-projects-7/
LOCATION:Online
CATEGORIES:LST Mission Projects
ORGANIZER;CN="Let's Start Talking":MAILTO:LST@LST.org
END:VEVENT
BEGIN:VEVENT
DTSTART;TZID=America/Chicago:20240822T120000
DTEND;TZID=America/Chicago:20240822T143000
DTSTAMP:20260421T163733
CREATED:20231212T161819Z
LAST-MODIFIED:20231212T161819Z
UID:4103-1724328000-1724337000@lst.org
SUMMARY:Basic Training
DESCRIPTION:In this foundational workshop you’ll receive the basic training needed to utilize the LST approach in sharing your faith and your life with an international friend.  The focus of our time will be on the core components of the LST philosophy and methodology. Whether you’re using this training for your local FriendSpeak work\, to connect online with a Reader through LST Connect\, or preparing for an international mission project\, you are a welcome friend! Click here to register – 2024 Basic Training Registration
URL:https://lst.org/event/basic-training-92/
LOCATION:Online
CATEGORIES:FriendSpeak,LST Connect,LST Mission Projects
ORGANIZER;CN="Let's Start Talking":MAILTO:LST@LST.org
END:VEVENT
BEGIN:VEVENT
DTSTART;VALUE=DATE:20240810
DTEND;VALUE=DATE:20240811
DTSTAMP:20260421T163733
CREATED:20240417T124808Z
LAST-MODIFIED:20241003T190540Z
UID:4402-1723248000-1723334399@lst.org
SUMMARY:FriendSpeak Training Seminar (Arlington\, TX)
DESCRIPTION:
URL:https://lst.org/event/friendspeak-training-seminar-arlington-tx-2/
LOCATION:Arlington\, TX\, Arlington\, TX\, United States
CATEGORIES:FriendSpeak
END:VEVENT
BEGIN:VEVENT
DTSTART;TZID=America/Chicago:20240804T190000
DTEND;TZID=America/Chicago:20240804T213000
DTSTAMP:20260421T163733
CREATED:20231212T161558Z
LAST-MODIFIED:20231212T161558Z
UID:4101-1722798000-1722807000@lst.org
SUMMARY:Basic Training
DESCRIPTION:In this foundational workshop you’ll receive the basic training needed to utilize the LST approach in sharing your faith and your life with an international friend.  The focus of our time will be on the core components of the LST philosophy and methodology. Whether you’re using this training for your local FriendSpeak work\, to connect online with a Reader through LST Connect\, or preparing for an international mission project\, you are a welcome friend! Click here to register – 2024 Basic Training Registration
URL:https://lst.org/event/basic-training-91/
LOCATION:Online
CATEGORIES:FriendSpeak,LST Connect,LST Mission Projects
ORGANIZER;CN="Let's Start Talking":MAILTO:LST@LST.org
END:VEVENT
BEGIN:VEVENT
DTSTART;VALUE=DATE:20240729
DTEND;VALUE=DATE:20240730
DTSTAMP:20260421T163733
CREATED:20240729T204133Z
LAST-MODIFIED:20241003T190516Z
UID:4500-1722211200-1722297599@lst.org
SUMMARY:FriendSpeak Training (Crosby\, TX)
DESCRIPTION:
URL:https://lst.org/event/friendspeak-training-crosby-tx/
LOCATION:Crosby\, TX\, Crosby\, TX\, United States
CATEGORIES:FriendSpeak
END:VEVENT
BEGIN:VEVENT
DTSTART;TZID=America/Chicago:20240728T200000
DTEND;TZID=America/Chicago:20240728T210000
DTSTAMP:20260421T163733
CREATED:20231220T164642Z
LAST-MODIFIED:20231220T164642Z
UID:4198-1722196800-1722200400@lst.org
SUMMARY:Advanced Training
DESCRIPTION:LST is pleased to provide specialized training for experienced Workers!  These sessions are for Workers who have been through Basic Training (or equivalent)\, have experience working with LST Readers\, and feel comfortable utilizing the LST approach.  For registered LST Connect and FriendSpeak Workers these advanced training sessions are offered for no additional fee. Click here for additional details and to register.
URL:https://lst.org/event/advanced-training-7/
LOCATION:Online
CATEGORIES:FriendSpeak,LST Connect,LST Mission Projects
ORGANIZER;CN="Let's Start Talking":MAILTO:LST@LST.org
END:VEVENT
BEGIN:VEVENT
DTSTART;TZID=America/Chicago:20240725T190000
DTEND;TZID=America/Chicago:20240725T213000
DTSTAMP:20260421T163733
CREATED:20231212T161308Z
LAST-MODIFIED:20231212T161308Z
UID:4099-1721934000-1721943000@lst.org
SUMMARY:Basic Training
DESCRIPTION:In this foundational workshop you’ll receive the basic training needed to utilize the LST approach in sharing your faith and your life with an international friend.  The focus of our time will be on the core components of the LST philosophy and methodology. Whether you’re using this training for your local FriendSpeak work\, to connect online with a Reader through LST Connect\, or preparing for an international mission project\, you are a welcome friend! Click here to register – 2024 Basic Training Registration
URL:https://lst.org/event/basic-training-90/
LOCATION:Online
CATEGORIES:FriendSpeak,LST Connect,LST Mission Projects
ORGANIZER;CN="Let's Start Talking":MAILTO:LST@LST.org
END:VEVENT
BEGIN:VEVENT
DTSTART;VALUE=DATE:20240725
DTEND;VALUE=DATE:20240726
DTSTAMP:20260421T163733
CREATED:20240723T161222Z
LAST-MODIFIED:20241003T190532Z
UID:4487-1721865600-1721951999@lst.org
SUMMARY:FriendSpeak Training (Marietta\, GA)
DESCRIPTION:
URL:https://lst.org/event/friendspeak-training-marietta-ga/
LOCATION:Marietta\, GA\, Marietta\, Georgia
CATEGORIES:FriendSpeak
END:VEVENT
BEGIN:VEVENT
DTSTART;VALUE=DATE:20240722
DTEND;VALUE=DATE:20240723
DTSTAMP:20260421T163733
CREATED:20240712T164216Z
LAST-MODIFIED:20240712T170913Z
UID:4467-1721606400-1721692799@lst.org
SUMMARY:FriendSpeak Training Seminar (Columbia\, TN)
DESCRIPTION:
URL:https://lst.org/event/friendspeak-training-seminar-columbia-tn/
LOCATION:Columbia\, TN\, Columbia\, TN
CATEGORIES:FriendSpeak
END:VEVENT
BEGIN:VEVENT
DTSTART;TZID=America/Chicago:20240721T180000
DTEND;TZID=America/Chicago:20240721T200000
DTSTAMP:20260421T163733
CREATED:20231212T212541Z
LAST-MODIFIED:20231212T212541Z
UID:4133-1721584800-1721592000@lst.org
SUMMARY:Gateway Training (LST International Projects)
DESCRIPTION:This specialized online workshop is for LST International teams who have completed most of their online training and are within a month of departure.  LST staff lead this required event. Teams can register through their online training platform.
URL:https://lst.org/event/gateway-training-lst-international-projects-6/
LOCATION:Online
CATEGORIES:LST Mission Projects
ORGANIZER;CN="Let's Start Talking":MAILTO:LST@LST.org
END:VEVENT
BEGIN:VEVENT
DTSTART;VALUE=DATE:20240719
DTEND;VALUE=DATE:20240729
DTSTAMP:20260421T163733
CREATED:20240323T031133Z
LAST-MODIFIED:20240323T031133Z
UID:4362-1721347200-1722211199@lst.org
SUMMARY:LST Project (Tabacundo\, Ecuador)
DESCRIPTION:
URL:https://lst.org/event/lst-project-tabacundo-ecuador/
LOCATION:Tabacundo\, Ecuador\, Tabacundo\, Ecuador
CATEGORIES:LST Mission Projects
ORGANIZER;CN="Let's Start Talking":MAILTO:LST@LST.org
END:VEVENT
BEGIN:VEVENT
DTSTART;TZID=America/Chicago:20240718T190000
DTEND;TZID=America/Chicago:20240718T200000
DTSTAMP:20260421T163733
CREATED:20231212T222724Z
LAST-MODIFIED:20231212T222724Z
UID:4164-1721329200-1721332800@lst.org
SUMMARY:EndMeeting
DESCRIPTION:This online workshop is for LST Teams who have recently returned from their international projects.  It is led by LST staff\, and teams can register through their online training platform.
URL:https://lst.org/event/endmeeting-26/
LOCATION:Online
CATEGORIES:LST Mission Projects
ORGANIZER;CN="Let's Start Talking":MAILTO:LST@LST.org
END:VEVENT
BEGIN:VEVENT
DTSTART;TZID=America/Chicago:20240718T120000
DTEND;TZID=America/Chicago:20240718T130000
DTSTAMP:20260421T163733
CREATED:20231212T222643Z
LAST-MODIFIED:20231212T222643Z
UID:4162-1721304000-1721307600@lst.org
SUMMARY:EndMeeting
DESCRIPTION:This online workshop is for LST Teams who have recently returned from their international projects.  It is led by LST staff\, and teams can register through their online training platform.
URL:https://lst.org/event/endmeeting-25/
LOCATION:Online
CATEGORIES:LST Mission Projects
ORGANIZER;CN="Let's Start Talking":MAILTO:LST@LST.org
END:VEVENT
BEGIN:VEVENT
DTSTART;VALUE=DATE:20240711
DTEND;VALUE=DATE:20240712
DTSTAMP:20260421T163733
CREATED:20240102T201847Z
LAST-MODIFIED:20240402T115030Z
UID:4232-1720656000-1720742399@lst.org
SUMMARY:LST MeetUp (7:00 am or 12:00 pm)
DESCRIPTION:LST Meetups are for everyone participating in LST!  This one-hour online gathering is a time to connect with other participants\, have fun\, and continue practicing English.  If you have friends interested in LST\, invite them to this online “party!” Please register here.
URL:https://lst.org/event/lst-meetup-1200-pm-or-700-pm-4/
LOCATION:Online
CATEGORIES:FriendSpeak,LST Connect
ORGANIZER;CN="Let's Start Talking":MAILTO:LST@LST.org
END:VEVENT
BEGIN:VEVENT
DTSTART;TZID=America/Chicago:20240707T190000
DTEND;TZID=America/Chicago:20240707T213000
DTSTAMP:20260421T163733
CREATED:20231212T161139Z
LAST-MODIFIED:20231212T161139Z
UID:4097-1720378800-1720387800@lst.org
SUMMARY:Basic Training
DESCRIPTION:In this foundational workshop you’ll receive the basic training needed to utilize the LST approach in sharing your faith and your life with an international friend.  The focus of our time will be on the core components of the LST philosophy and methodology. Whether you’re using this training for your local FriendSpeak work\, to connect online with a Reader through LST Connect\, or preparing for an international mission project\, you are a welcome friend! Click here to register – 2024 Basic Training Registration
URL:https://lst.org/event/basic-training-89/
LOCATION:Online
CATEGORIES:FriendSpeak,LST Connect,LST Mission Projects
ORGANIZER;CN="Let's Start Talking":MAILTO:LST@LST.org
END:VEVENT
BEGIN:VEVENT
DTSTART;VALUE=DATE:20240628
DTEND;VALUE=DATE:20240715
DTSTAMP:20260421T163733
CREATED:20240108T220515Z
LAST-MODIFIED:20240108T220515Z
UID:4252-1719532800-1721001599@lst.org
SUMMARY:LST Project (Lodz\, Poland)
DESCRIPTION:
URL:https://lst.org/event/lst-project-lodz-poland-6/
LOCATION:Lodz\, Poland\, Lodz\, Poland
CATEGORIES:LST Mission Projects
END:VEVENT
BEGIN:VEVENT
DTSTART;TZID=America/Chicago:20240627T120000
DTEND;TZID=America/Chicago:20240627T143000
DTSTAMP:20260421T163733
CREATED:20231212T160950Z
LAST-MODIFIED:20231212T160950Z
UID:4095-1719489600-1719498600@lst.org
SUMMARY:Basic Training
DESCRIPTION:In this foundational workshop you’ll receive the basic training needed to utilize the LST approach in sharing your faith and your life with an international friend.  The focus of our time will be on the core components of the LST philosophy and methodology. Whether you’re using this training for your local FriendSpeak work\, to connect online with a Reader through LST Connect\, or preparing for an international mission project\, you are a welcome friend! Click here to register – 2024 Basic Training Registration
URL:https://lst.org/event/basic-training-88/
LOCATION:Online
CATEGORIES:FriendSpeak,LST Connect,LST Mission Projects
ORGANIZER;CN="Let's Start Talking":MAILTO:LST@LST.org
END:VEVENT
BEGIN:VEVENT
DTSTART;TZID=America/Chicago:20240626T120000
DTEND;TZID=America/Chicago:20240626T130000
DTSTAMP:20260421T163733
CREATED:20231220T164548Z
LAST-MODIFIED:20231220T164548Z
UID:4196-1719403200-1719406800@lst.org
SUMMARY:Advanced Training
DESCRIPTION:LST is pleased to provide specialized training for experienced Workers!  These sessions are for Workers who have been through Basic Training (or equivalent)\, have experience working with LST Readers\, and feel comfortable utilizing the LST approach.  For registered LST Connect and FriendSpeak Workers these advanced training sessions are offered for no additional fee. Click here for additional details and to register.
URL:https://lst.org/event/advanced-training-6/
LOCATION:Online
CATEGORIES:FriendSpeak,LST Connect,LST Mission Projects
ORGANIZER;CN="Let's Start Talking":MAILTO:LST@LST.org
END:VEVENT
BEGIN:VEVENT
DTSTART;TZID=America/Chicago:20240623T180000
DTEND;TZID=America/Chicago:20240623T200000
DTSTAMP:20260421T163733
CREATED:20231212T212443Z
LAST-MODIFIED:20231212T213212Z
UID:4131-1719165600-1719172800@lst.org
SUMMARY:Gateway Training (LST International Projects)
DESCRIPTION:This specialized online workshop is for LST International teams who have completed most of their online training and are within a month of departure.  LST staff lead this required event. Teams can register through their online training platform.
URL:https://lst.org/event/basic-training-lst-international-projects/
LOCATION:Online
CATEGORIES:LST Mission Projects
ORGANIZER;CN="Let's Start Talking":MAILTO:LST@LST.org
END:VEVENT
BEGIN:VEVENT
DTSTART;TZID=America/Chicago:20240620T190000
DTEND;TZID=America/Chicago:20240620T200000
DTSTAMP:20260421T163733
CREATED:20231212T222601Z
LAST-MODIFIED:20231212T222601Z
UID:4160-1718910000-1718913600@lst.org
SUMMARY:EndMeeting
DESCRIPTION:This online workshop is for LST Teams who have recently returned from their international projects.  It is led by LST staff\, and teams can register through their online training platform.
URL:https://lst.org/event/endmeeting-24/
LOCATION:Online
CATEGORIES:LST Mission Projects
ORGANIZER;CN="Let's Start Talking":MAILTO:LST@LST.org
END:VEVENT
BEGIN:VEVENT
DTSTART;TZID=America/Chicago:20240620T120000
DTEND;TZID=America/Chicago:20240620T130000
DTSTAMP:20260421T163733
CREATED:20231212T222522Z
LAST-MODIFIED:20231212T222522Z
UID:4158-1718884800-1718888400@lst.org
SUMMARY:EndMeeting
DESCRIPTION:This online workshop is for LST Teams who have recently returned from their international projects.  It is led by LST staff\, and teams can register through their online training platform.
URL:https://lst.org/event/endmeeting-23/
LOCATION:Online
CATEGORIES:LST Mission Projects
ORGANIZER;CN="Let's Start Talking":MAILTO:LST@LST.org
END:VEVENT
BEGIN:VEVENT
DTSTART;VALUE=DATE:20240615
DTEND;VALUE=DATE:20240701
DTSTAMP:20260421T163733
CREATED:20240314T191006Z
LAST-MODIFIED:20240314T191028Z
UID:4355-1718409600-1719791999@lst.org
SUMMARY:LST Project (Rio de Janeiro\, Brazil)
DESCRIPTION:
URL:https://lst.org/event/lst-project-rio-de-janeiro-brazil-7/
LOCATION:Rio de Janeiro\, Brazil\, Rio de Janeiro\, Brazil
CATEGORIES:LST Mission Projects
ORGANIZER;CN="Let's Start Talking":MAILTO:LST@LST.org
END:VEVENT
BEGIN:VEVENT
DTSTART;VALUE=DATE:20240614
DTEND;VALUE=DATE:20240701
DTSTAMP:20260421T163733
CREATED:20240221T210238Z
LAST-MODIFIED:20240221T210238Z
UID:4326-1718323200-1719791999@lst.org
SUMMARY:LST Project (Buenos Aires\, Argentina)
DESCRIPTION:
URL:https://lst.org/event/lst-project-buenos-aires-argentina-13/
LOCATION:Buenos Aires\, Argentina\, Buenos Aires\, Argentina
CATEGORIES:LST Mission Projects
ORGANIZER;CN="Let's Start Talking":MAILTO:LST@LST.org
END:VEVENT
BEGIN:VEVENT
DTSTART;VALUE=DATE:20240614
DTEND;VALUE=DATE:20240630
DTSTAMP:20260421T163733
CREATED:20240313T174212Z
LAST-MODIFIED:20240313T174212Z
UID:4348-1718323200-1719705599@lst.org
SUMMARY:LST Project (Niteroi\, Brazil)
DESCRIPTION:
URL:https://lst.org/event/lst-project-niteroi-brazil-5/
LOCATION:Niteroi\, Brazil\, Niteroi\, Brazil
CATEGORIES:LST Mission Projects
ORGANIZER;CN="Let's Start Talking":MAILTO:LST@LST.org
END:VEVENT
BEGIN:VEVENT
DTSTART;VALUE=DATE:20240612
DTEND;VALUE=DATE:20240613
DTSTAMP:20260421T163733
CREATED:20240414T162919Z
LAST-MODIFIED:20241003T190546Z
UID:4372-1718150400-1718236799@lst.org
SUMMARY:FriendSpeak Training Seminar (Manchester\, CT)
DESCRIPTION:
URL:https://lst.org/event/friendspeak-training-seminar-manchester-ct/
LOCATION:Manchester\, CT\, Manchester\, CT\, United States
CATEGORIES:FriendSpeak
END:VEVENT
END:VCALENDAR