BEGIN:VCALENDAR
VERSION:2.0
PRODID:-//Let&#039;s Start Talking - ECPv6.15.20//NONSGML v1.0//EN
CALSCALE:GREGORIAN
METHOD:PUBLISH
X-WR-CALNAME:Let&#039;s Start Talking
X-ORIGINAL-URL:https://lst.org
X-WR-CALDESC:Events for Let&#039;s Start Talking
REFRESH-INTERVAL;VALUE=DURATION:PT1H
X-Robots-Tag:noindex
X-PUBLISHED-TTL:PT1H
BEGIN:VTIMEZONE
TZID:America/Chicago
BEGIN:DAYLIGHT
TZOFFSETFROM:-0600
TZOFFSETTO:-0500
TZNAME:CDT
DTSTART:20210314T080000
END:DAYLIGHT
BEGIN:STANDARD
TZOFFSETFROM:-0500
TZOFFSETTO:-0600
TZNAME:CST
DTSTART:20211107T070000
END:STANDARD
BEGIN:DAYLIGHT
TZOFFSETFROM:-0600
TZOFFSETTO:-0500
TZNAME:CDT
DTSTART:20220313T080000
END:DAYLIGHT
BEGIN:STANDARD
TZOFFSETFROM:-0500
TZOFFSETTO:-0600
TZNAME:CST
DTSTART:20221106T070000
END:STANDARD
BEGIN:DAYLIGHT
TZOFFSETFROM:-0600
TZOFFSETTO:-0500
TZNAME:CDT
DTSTART:20230312T080000
END:DAYLIGHT
BEGIN:STANDARD
TZOFFSETFROM:-0500
TZOFFSETTO:-0600
TZNAME:CST
DTSTART:20231105T070000
END:STANDARD
BEGIN:DAYLIGHT
TZOFFSETFROM:-0600
TZOFFSETTO:-0500
TZNAME:CDT
DTSTART:20240310T080000
END:DAYLIGHT
BEGIN:STANDARD
TZOFFSETFROM:-0500
TZOFFSETTO:-0600
TZNAME:CST
DTSTART:20241103T070000
END:STANDARD
END:VTIMEZONE
BEGIN:VTIMEZONE
TZID:UTC
BEGIN:STANDARD
TZOFFSETFROM:+0000
TZOFFSETTO:+0000
TZNAME:UTC
DTSTART:20210101T000000
END:STANDARD
END:VTIMEZONE
BEGIN:VEVENT
DTSTART;TZID=America/Chicago:20230209T190000
DTEND;TZID=America/Chicago:20230209T220000
DTSTAMP:20260421T115113
CREATED:20221210T013618Z
LAST-MODIFIED:20221210T013618Z
UID:3446-1675969200-1675980000@lst.org
SUMMARY:Basic Training
DESCRIPTION:In this three-hour workshop receive the basic training you’ll need to utilize the LST approach in sharing your faith and your life with an international friend.  Whether you’re using this training for your local FriendSpeak work\, to connect online with a Reader through LST Connect\, or preparing for an international mission project\, you’re welcome! This seminar will cover the basic LST philosophy and methodology.  Click here to register.
URL:https://lst.org/event/basic-training-54/
LOCATION:Online
CATEGORIES:FriendSpeak,Fundraising,LST Mission Projects
ORGANIZER;CN="Let's Start Talking":MAILTO:LST@LST.org
END:VEVENT
BEGIN:VEVENT
DTSTART;VALUE=DATE:20230202
DTEND;VALUE=DATE:20230203
DTSTAMP:20260421T115113
CREATED:20230111T214624Z
LAST-MODIFIED:20230111T214624Z
UID:3548-1675296000-1675382399@lst.org
SUMMARY:FriendSpeak Training (Katy\, TX)
DESCRIPTION:
URL:https://lst.org/event/friendspeak-training-katy-tx/
LOCATION:Katy\, TX\, Katy\, TX\, United States
CATEGORIES:FriendSpeak
END:VEVENT
BEGIN:VEVENT
DTSTART;VALUE=DATE:20230202
DTEND;VALUE=DATE:20230203
DTSTAMP:20260421T115113
CREATED:20230110T030639Z
LAST-MODIFIED:20230110T030639Z
UID:3543-1675296000-1675382399@lst.org
SUMMARY:FriendSpeak Training Seminar (Katy\, TX)
DESCRIPTION:
URL:https://lst.org/event/friendspeak-training-seminar-katy-tx-2/
LOCATION:Katy\, TX\, Katy\, TX\, United States
END:VEVENT
BEGIN:VEVENT
DTSTART;TZID=America/Chicago:20230129T200000
DTEND;TZID=America/Chicago:20230129T210000
DTSTAMP:20260421T115113
CREATED:20221210T014250Z
LAST-MODIFIED:20221210T014250Z
UID:3454-1675022400-1675026000@lst.org
SUMMARY:Advanced Training: Beyond the Basics
DESCRIPTION:LST is pleased to provide specialized training for experienced Workers!  These sessions are for Workers who have been through Basic Training (or equivalent)\, have experience working with LST Readers\, and feel comfortable utilizing the LST approach.  For registered LST Connect and FriendSpeak Workers these advanced training sessions are offered for no additional fee. Click here to register.
URL:https://lst.org/event/advanced-training-beyond-the-basics-6/
LOCATION:Online
CATEGORIES:FriendSpeak,LST Connect
ORGANIZER;CN="Let's Start Talking":MAILTO:LST@LST.org
END:VEVENT
BEGIN:VEVENT
DTSTART;TZID=America/Chicago:20230129T180000
DTEND;TZID=America/Chicago:20230129T193000
DTSTAMP:20260421T115113
CREATED:20221210T015508Z
LAST-MODIFIED:20221210T015508Z
UID:3464-1675015200-1675020600@lst.org
SUMMARY:LST Gateway Training
DESCRIPTION:Specialized online workshop for LST teams who have completed their online training and are within a month of departure.  Led by LST staff.  Register through the online training platform.
URL:https://lst.org/event/lst-gateway-training-3/
LOCATION:Online
CATEGORIES:LST Mission Projects
ORGANIZER;CN="Let's Start Talking":MAILTO:LST@LST.org
END:VEVENT
BEGIN:VEVENT
DTSTART;TZID=America/Chicago:20230126T120000
DTEND;TZID=America/Chicago:20230126T130000
DTSTAMP:20260421T115113
CREATED:20221210T021133Z
LAST-MODIFIED:20221210T021133Z
UID:3486-1674734400-1674738000@lst.org
SUMMARY:EndMeeting
DESCRIPTION:This online workshop is for LST Teams who have recently returned from their projects.  Led by LST staff.  Register through the online training platform.
URL:https://lst.org/event/endmeeting/
LOCATION:Online
CATEGORIES:LST Mission Projects
ORGANIZER;CN="Let's Start Talking":MAILTO:LST@LST.org
END:VEVENT
BEGIN:VEVENT
DTSTART;TZID=America/Chicago:20230122T190000
DTEND;TZID=America/Chicago:20230122T220000
DTSTAMP:20260421T115113
CREATED:20221210T013501Z
LAST-MODIFIED:20221210T013501Z
UID:3444-1674414000-1674424800@lst.org
SUMMARY:Basic Training
DESCRIPTION:In this three-hour workshop receive the basic training you’ll need to utilize the LST approach in sharing your faith and your life with an international friend.  Whether you’re using this training for your local FriendSpeak work\, to connect online with a Reader through LST Connect\, or preparing for an international mission project\, you’re welcome! This seminar will cover the basic LST philosophy and methodology.  Click here to register.
URL:https://lst.org/event/basic-training-53/
LOCATION:Online
CATEGORIES:FriendSpeak,LST Connect,LST Mission Projects
ORGANIZER;CN="Let's Start Talking":MAILTO:LST@LST.org
END:VEVENT
BEGIN:VEVENT
DTSTART;TZID=America/Chicago:20230112T120000
DTEND;TZID=America/Chicago:20230112T150000
DTSTAMP:20260421T115113
CREATED:20221210T013410Z
LAST-MODIFIED:20221210T013410Z
UID:3442-1673524800-1673535600@lst.org
SUMMARY:Basic Training
DESCRIPTION:In this three-hour workshop receive the basic training you’ll need to utilize the LST approach in sharing your faith and your life with an international friend.  Whether you’re using this training for your local FriendSpeak work\, to connect online with a Reader through LST Connect\, or preparing for an international mission project\, you’re welcome! This seminar will cover the basic LST philosophy and methodology.  Click here to register.
URL:https://lst.org/event/basic-training-52/
LOCATION:Online
CATEGORIES:FriendSpeak,LST Connect,LST Mission Projects
ORGANIZER;CN="Let's Start Talking":MAILTO:LST@LST.org
END:VEVENT
BEGIN:VEVENT
DTSTART;VALUE=DATE:20230107
DTEND;VALUE=DATE:20230108
DTSTAMP:20260421T115113
CREATED:20221201T213737Z
LAST-MODIFIED:20221201T214758Z
UID:3400-1673049600-1673135999@lst.org
SUMMARY:FriendSpeak Training (Edmond\, OK)
DESCRIPTION:
URL:https://lst.org/event/friendspeak-training-edmond-ok/
LOCATION:Edmond\, OK\, Edmond\, Oklahoma
CATEGORIES:FriendSpeak
END:VEVENT
BEGIN:VEVENT
DTSTART;TZID=America/Chicago:20221218T200000
DTEND;TZID=America/Chicago:20221218T210000
DTSTAMP:20260421T115113
CREATED:20221006T004522Z
LAST-MODIFIED:20221008T050100Z
UID:3304-1671393600-1671397200@lst.org
SUMMARY:Advanced Training: Praying for Readers
DESCRIPTION:LST is pleased to provide specialized training for experienced Workers!  These sessions are for Workers who have been through Basic Training (or equivalent)\, have experience working with LST Readers\, and feel comfortable utilizing the LST approach.  For registered LST Connect and FriendSpeak Workers these advanced training sessions are offered for no additional fee. Click here to register.
URL:https://lst.org/event/advanced-training-praying-for-readers/
LOCATION:Online
CATEGORIES:FriendSpeak,LST Connect,LST Mission Projects
ORGANIZER;CN="Let's Start Talking":MAILTO:LST@LST.org
END:VEVENT
BEGIN:VEVENT
DTSTART;TZID=America/Chicago:20221211T190000
DTEND;TZID=America/Chicago:20221211T220000
DTSTAMP:20260421T115113
CREATED:20220831T003925Z
LAST-MODIFIED:20221008T045534Z
UID:3245-1670785200-1670796000@lst.org
SUMMARY:Basic Training
DESCRIPTION:In this three-hour workshop receive the basic training you’ll need to utilize the LST approach in sharing your faith and your life with an international friend.  Whether you’re using this training for your local FriendSpeak work\, to connect online with a Reader through LST Connect\, or preparing for an international mission project\, you’re welcome! This seminar will cover the basic LST philosophy and methodology.  Click here to register.
URL:https://lst.org/event/basic-training-51/
LOCATION:Online
CATEGORIES:FriendSpeak,LST Connect,LST Mission Projects
ORGANIZER;CN="Let's Start Talking":MAILTO:LST@LST.org
END:VEVENT
BEGIN:VEVENT
DTSTART;TZID=America/Chicago:20221208T120000
DTEND;TZID=America/Chicago:20221208T130000
DTSTAMP:20260421T115113
CREATED:20221006T005651Z
LAST-MODIFIED:20221006T005651Z
UID:3312-1670500800-1670504400@lst.org
SUMMARY:EndMeeting for Returned LST Teams
DESCRIPTION:
URL:https://lst.org/event/endmeeting-for-returned-lst-teams-17/
LOCATION:Online
CATEGORIES:LST Mission Projects
ORGANIZER;CN="Let's Start Talking":MAILTO:LST@LST.org
END:VEVENT
BEGIN:VEVENT
DTSTART;TZID=America/Chicago:20221208T120000
DTEND;TZID=America/Chicago:20221208T130000
DTSTAMP:20260421T115113
CREATED:20220622T204604Z
LAST-MODIFIED:20220622T204604Z
UID:3137-1670500800-1670504400@lst.org
SUMMARY:EndMeeting for Returned LST Teams
DESCRIPTION:
URL:https://lst.org/event/endmeeting-for-returned-lst-teams-10/
LOCATION:Online
CATEGORIES:LST Mission Projects
ORGANIZER;CN="Let's Start Talking":MAILTO:LST@LST.org
END:VEVENT
BEGIN:VEVENT
DTSTART;TZID=America/Chicago:20221201T120000
DTEND;TZID=America/Chicago:20221201T150000
DTSTAMP:20260421T115113
CREATED:20220831T003820Z
LAST-MODIFIED:20221008T045608Z
UID:3243-1669896000-1669906800@lst.org
SUMMARY:Basic Training
DESCRIPTION:In this three-hour workshop receive the basic training you’ll need to utilize the LST approach in sharing your faith and your life with an international friend.  Whether you’re using this training for your local FriendSpeak work\, to connect online with a Reader through LST Connect\, or preparing for an international mission project\, you’re welcome! This seminar will cover the basic LST philosophy and methodology.  Click here to register.
URL:https://lst.org/event/basic-training-50/
LOCATION:Online
CATEGORIES:FriendSpeak,LST Connect,LST Mission Projects
ORGANIZER;CN="Let's Start Talking":MAILTO:LST@LST.org
END:VEVENT
BEGIN:VEVENT
DTSTART;VALUE=DATE:20221129
DTEND;VALUE=DATE:20221130
DTSTAMP:20260421T115113
CREATED:20220314T211028Z
LAST-MODIFIED:20220314T211028Z
UID:2814-1669680000-1669766399@lst.org
SUMMARY:Giving Tuesday
DESCRIPTION:
URL:https://lst.org/event/giving-tuesday-2/
LOCATION:Online
CATEGORIES:Fundraising
ORGANIZER;CN="Let's Start Talking":MAILTO:LST@LST.org
END:VEVENT
BEGIN:VEVENT
DTSTART;VALUE=DATE:20221119
DTEND;VALUE=DATE:20221120
DTSTAMP:20260421T115113
CREATED:20221019T195232Z
LAST-MODIFIED:20221019T195232Z
UID:3367-1668816000-1668902399@lst.org
SUMMARY:FriendSpeak Training Seminar (Wenatchee\, WA)
DESCRIPTION:
URL:https://lst.org/event/friendspeak-training-seminar-wenatchee-wa/
LOCATION:Wenatchee\, WA\, Wenatchee\, WA
CATEGORIES:FriendSpeak
END:VEVENT
BEGIN:VEVENT
DTSTART;VALUE=DATE:20221118
DTEND;VALUE=DATE:20221206
DTSTAMP:20260421T115113
CREATED:20220501T163434Z
LAST-MODIFIED:20220501T163434Z
UID:2919-1668729600-1670284799@lst.org
SUMMARY:LST Project (Lecce\, Italy)
DESCRIPTION:
URL:https://lst.org/event/lst-project-lecce-italy-3/
LOCATION:Lecce\, Italy\, Lecce\, Italy
CATEGORIES:LST Mission Projects
ORGANIZER;CN="Let's Start Talking":MAILTO:LST@LST.org
END:VEVENT
BEGIN:VEVENT
DTSTART;TZID=America/Chicago:20221117T120000
DTEND;TZID=America/Chicago:20221117T130000
DTSTAMP:20260421T115113
CREATED:20221006T005544Z
LAST-MODIFIED:20221006T005738Z
UID:3310-1668686400-1668690000@lst.org
SUMMARY:EndMeeting for Returned LST Teams
DESCRIPTION:
URL:https://lst.org/event/endmeeting-for-returned-lst-teams-16/
LOCATION:Online
CATEGORIES:LST Mission Projects
ORGANIZER;CN="Let's Start Talking":MAILTO:LST@LST.org
END:VEVENT
BEGIN:VEVENT
DTSTART;TZID=America/Chicago:20221117T120000
DTEND;TZID=America/Chicago:20221117T130000
DTSTAMP:20260421T115113
CREATED:20220622T204454Z
LAST-MODIFIED:20220622T204454Z
UID:3135-1668686400-1668690000@lst.org
SUMMARY:EndMeeting for Returned LST Teams
DESCRIPTION:
URL:https://lst.org/event/endmeeting-for-returned-lst-teams-9/
LOCATION:Online
CATEGORIES:LST Mission Projects
ORGANIZER;CN="Let's Start Talking":MAILTO:LST@LST.org
END:VEVENT
BEGIN:VEVENT
DTSTART;TZID=America/Chicago:20221116T120000
DTEND;TZID=America/Chicago:20221116T130000
DTSTAMP:20260421T115113
CREATED:20221006T004347Z
LAST-MODIFIED:20221008T050024Z
UID:3302-1668600000-1668603600@lst.org
SUMMARY:Advanced Training: Listening
DESCRIPTION:LST is pleased to provide specialized training for experienced Workers!  These sessions are for Workers who have been through Basic Training (or equivalent)\, have experience working with LST Readers\, and feel comfortable utilizing the LST approach.  For registered LST Connect and FriendSpeak Workers these advanced training sessions are offered for no additional fee. Click here to register.
URL:https://lst.org/event/advanced-training-listening/
LOCATION:Online
CATEGORIES:FriendSpeak,LST Connect,LST Mission Projects
ORGANIZER;CN="Let's Start Talking":MAILTO:LST@LST.org
END:VEVENT
BEGIN:VEVENT
DTSTART;TZID=America/Chicago:20221113T190000
DTEND;TZID=America/Chicago:20221113T220000
DTSTAMP:20260421T115113
CREATED:20220831T003713Z
LAST-MODIFIED:20221008T045639Z
UID:3241-1668366000-1668376800@lst.org
SUMMARY:Basic Training
DESCRIPTION:In this three-hour workshop receive the basic training you’ll need to utilize the LST approach in sharing your faith and your life with an international friend.  Whether you’re using this training for your local FriendSpeak work\, to connect online with a Reader through LST Connect\, or preparing for an international mission project\, you’re welcome! This seminar will cover the basic LST philosophy and methodology.  Click here to register.
URL:https://lst.org/event/basic-training-49/
LOCATION:Online
CATEGORIES:FriendSpeak,LST Connect,LST Mission Projects
END:VEVENT
BEGIN:VEVENT
DTSTART;TZID=America/Chicago:20221103T190000
DTEND;TZID=America/Chicago:20221103T220000
DTSTAMP:20260421T115113
CREATED:20220831T003613Z
LAST-MODIFIED:20221008T045700Z
UID:3239-1667502000-1667512800@lst.org
SUMMARY:Basic Training
DESCRIPTION:In this three-hour workshop receive the basic training you’ll need to utilize the LST approach in sharing your faith and your life with an international friend.  Whether you’re using this training for your local FriendSpeak work\, to connect online with a Reader through LST Connect\, or preparing for an international mission project\, you’re welcome! This seminar will cover the basic LST philosophy and methodology.  Click here to register.
URL:https://lst.org/event/basic-training-48/
LOCATION:Online
CATEGORIES:FriendSpeak,LST Connect,LST Mission Projects
ORGANIZER;CN="Let's Start Talking":MAILTO:LST@LST.org
END:VEVENT
BEGIN:VEVENT
DTSTART;TZID=America/Chicago:20221027T190000
DTEND;TZID=America/Chicago:20221027T200000
DTSTAMP:20260421T115113
CREATED:20221006T005500Z
LAST-MODIFIED:20221006T005500Z
UID:3308-1666897200-1666900800@lst.org
SUMMARY:EndMeeting for Returned LST Teams
DESCRIPTION:
URL:https://lst.org/event/endmeeting-for-returned-lst-teams-15/
LOCATION:Online
CATEGORIES:LST Mission Projects
ORGANIZER;CN="Let's Start Talking":MAILTO:LST@LST.org
END:VEVENT
BEGIN:VEVENT
DTSTART;TZID=America/Chicago:20221027T120000
DTEND;TZID=America/Chicago:20221027T130000
DTSTAMP:20260421T115113
CREATED:20221006T005311Z
LAST-MODIFIED:20221006T005719Z
UID:3306-1666872000-1666875600@lst.org
SUMMARY:EndMeeting for Returned LST Teams
DESCRIPTION:
URL:https://lst.org/event/endmeeting-for-returned-lst-teams-14/
LOCATION:Online
CATEGORIES:LST Mission Projects
ORGANIZER;CN="Let's Start Talking":MAILTO:LST@LST.org
END:VEVENT
BEGIN:VEVENT
DTSTART;TZID=America/Chicago:20221027T120000
DTEND;TZID=America/Chicago:20221027T130000
DTSTAMP:20260421T115113
CREATED:20220622T204344Z
LAST-MODIFIED:20220622T204344Z
UID:3133-1666872000-1666875600@lst.org
SUMMARY:EndMeeting for Returned LST Teams
DESCRIPTION:
URL:https://lst.org/event/endmeeting-for-returned-lst-teams-8/
LOCATION:Online
CATEGORIES:LST Mission Projects
ORGANIZER;CN="Let's Start Talking":MAILTO:LST@LST.org
END:VEVENT
BEGIN:VEVENT
DTSTART;VALUE=DATE:20221025
DTEND;VALUE=DATE:20221026
DTSTAMP:20260421T115113
CREATED:20221019T195039Z
LAST-MODIFIED:20221019T195101Z
UID:3360-1666656000-1666742399@lst.org
SUMMARY:FriendSpeak Leadership Training (Wenatchee\, WA)
DESCRIPTION:
URL:https://lst.org/event/friendspeak-leadership-training-wenatchee-wa/
LOCATION:Wenatchee\, WA\, Wenatchee\, WA
CATEGORIES:FriendSpeak
END:VEVENT
BEGIN:VEVENT
DTSTART;TZID=America/Chicago:20221023T200000
DTEND;TZID=America/Chicago:20221023T210000
DTSTAMP:20260421T115113
CREATED:20221006T004210Z
LAST-MODIFIED:20221008T045914Z
UID:3300-1666555200-1666558800@lst.org
SUMMARY:Advanced Training: LST Workbooks Overview
DESCRIPTION:LST is pleased to provide specialized training for experienced Workers!  These sessions are for Workers who have been through Basic Training (or equivalent)\, have experience working with LST Readers\, and feel comfortable utilizing the LST approach.  For registered LST Connect and FriendSpeak Workers these advanced training sessions are offered for no additional fee. Click here to register.
URL:https://lst.org/event/advanced-training-lst-workbooks-overview-3/
LOCATION:Online
CATEGORIES:FriendSpeak,LST Connect,LST Mission Projects
ORGANIZER;CN="Let's Start Talking":MAILTO:LST@LST.org
END:VEVENT
BEGIN:VEVENT
DTSTART;TZID=America/Chicago:20221023T180000
DTEND;TZID=America/Chicago:20221023T193000
DTSTAMP:20260421T115113
CREATED:20220622T210159Z
LAST-MODIFIED:20220622T210159Z
UID:3139-1666548000-1666553400@lst.org
SUMMARY:LST Gateway Training for Teams Leaving Soon
DESCRIPTION:
URL:https://lst.org/event/lst-gateway-training-for-teams-leaving-soon-7/
LOCATION:Online
CATEGORIES:LST Mission Projects
ORGANIZER;CN="Let's Start Talking":MAILTO:LST@LST.org
END:VEVENT
BEGIN:VEVENT
DTSTART;TZID=America/Chicago:20221020T190000
DTEND;TZID=America/Chicago:20221020T200000
DTSTAMP:20260421T115113
CREATED:20220922T010137Z
LAST-MODIFIED:20220922T010137Z
UID:3273-1666292400-1666296000@lst.org
SUMMARY:LST MeetUp (Party)
DESCRIPTION:LST Meetups are for LST Readers and Workers participating in the LST Connect program!  This one-hour online gathering is a time to connect with other participants\, have fun\, and continue practicing English.  If you have friends interested in LST Connect\, invite them to this online “party!”
URL:https://lst.org/event/lst-meetup-party-21/
LOCATION:Online
ORGANIZER;CN="Let's Start Talking":MAILTO:LST@LST.org
END:VEVENT
BEGIN:VEVENT
DTSTART;TZID=America/Chicago:20221020T120000
DTEND;TZID=America/Chicago:20221020T150000
DTSTAMP:20260421T115113
CREATED:20220831T003514Z
LAST-MODIFIED:20221008T045730Z
UID:3237-1666267200-1666278000@lst.org
SUMMARY:Basic Training
DESCRIPTION:In this three-hour workshop receive the basic training you’ll need to utilize the LST approach in sharing your faith and your life with an international friend.  Whether you’re using this training for your local FriendSpeak work\, to connect online with a Reader through LST Connect\, or preparing for an international mission project\, you’re welcome! This seminar will cover the basic LST philosophy and methodology.  Click here to register.
URL:https://lst.org/event/basic-training-47/
LOCATION:Online
CATEGORIES:FriendSpeak,LST Connect,LST Mission Projects
ORGANIZER;CN="Let's Start Talking":MAILTO:LST@LST.org
END:VEVENT
END:VCALENDAR