BEGIN:VCALENDAR
VERSION:2.0
PRODID:-//Let&#039;s Start Talking - ECPv6.15.20//NONSGML v1.0//EN
CALSCALE:GREGORIAN
METHOD:PUBLISH
X-ORIGINAL-URL:https://lst.org
X-WR-CALDESC:Events for Let&#039;s Start Talking
REFRESH-INTERVAL;VALUE=DURATION:PT1H
X-Robots-Tag:noindex
X-PUBLISHED-TTL:PT1H
BEGIN:VTIMEZONE
TZID:America/Chicago
BEGIN:DAYLIGHT
TZOFFSETFROM:-0600
TZOFFSETTO:-0500
TZNAME:CDT
DTSTART:20220313T080000
END:DAYLIGHT
BEGIN:STANDARD
TZOFFSETFROM:-0500
TZOFFSETTO:-0600
TZNAME:CST
DTSTART:20221106T070000
END:STANDARD
BEGIN:DAYLIGHT
TZOFFSETFROM:-0600
TZOFFSETTO:-0500
TZNAME:CDT
DTSTART:20230312T080000
END:DAYLIGHT
BEGIN:STANDARD
TZOFFSETFROM:-0500
TZOFFSETTO:-0600
TZNAME:CST
DTSTART:20231105T070000
END:STANDARD
BEGIN:DAYLIGHT
TZOFFSETFROM:-0600
TZOFFSETTO:-0500
TZNAME:CDT
DTSTART:20240310T080000
END:DAYLIGHT
BEGIN:STANDARD
TZOFFSETFROM:-0500
TZOFFSETTO:-0600
TZNAME:CST
DTSTART:20241103T070000
END:STANDARD
BEGIN:DAYLIGHT
TZOFFSETFROM:-0600
TZOFFSETTO:-0500
TZNAME:CDT
DTSTART:20250309T080000
END:DAYLIGHT
BEGIN:STANDARD
TZOFFSETFROM:-0500
TZOFFSETTO:-0600
TZNAME:CST
DTSTART:20251102T070000
END:STANDARD
END:VTIMEZONE
BEGIN:VEVENT
DTSTART;TZID=America/Chicago:20231207T120000
DTEND;TZID=America/Chicago:20231207T130000
DTSTAMP:20260421T142958
CREATED:20230921T084735Z
LAST-MODIFIED:20230921T084735Z
UID:3979-1701950400-1701954000@lst.org
SUMMARY:LST MeetUp
DESCRIPTION:LST Meetups are for LST Readers and Workers participating in the LST Connect program!  This one-hour online gathering is a time to connect with other participants\, have fun\, and continue practicing English.  If you have friends interested in LST Connect\, invite them to this online “party!” Please register here.
URL:https://lst.org/event/lst-meetup-12/
LOCATION:Online
CATEGORIES:LST Connect
ORGANIZER;CN="Let's Start Talking":MAILTO:LST@LST.org
END:VEVENT
BEGIN:VEVENT
DTSTART;TZID=America/Chicago:20231207T190000
DTEND;TZID=America/Chicago:20231207T200000
DTSTAMP:20260421T142958
CREATED:20230921T084846Z
LAST-MODIFIED:20230921T084846Z
UID:3981-1701975600-1701979200@lst.org
SUMMARY:LST MeetUp
DESCRIPTION:LST Meetups are for LST Readers and Workers participating in the LST Connect program!  This one-hour online gathering is a time to connect with other participants\, have fun\, and continue practicing English.  If you have friends interested in LST Connect\, invite them to this online “party!” Please register here.
URL:https://lst.org/event/lst-meetup-13/
LOCATION:Online
CATEGORIES:LST Connect
ORGANIZER;CN="Let's Start Talking":MAILTO:LST@LST.org
END:VEVENT
BEGIN:VEVENT
DTSTART;TZID=America/Chicago:20231213T120000
DTEND;TZID=America/Chicago:20231213T130000
DTSTAMP:20260421T142958
CREATED:20230921T080851Z
LAST-MODIFIED:20230921T080851Z
UID:3972-1702468800-1702472400@lst.org
SUMMARY:Advanced Training: Praying for Readers
DESCRIPTION:LST is pleased to provide specialized training for experienced Workers!  These sessions are for Workers who have been through Basic Training (or equivalent)\, have experience working with LST Readers\, and feel comfortable utilizing the LST approach.  For registered LST Connect and FriendSpeak Workers these advanced training sessions are offered for no additional fee. Click here to register.
URL:https://lst.org/event/advanced-training-praying-for-readers-2/
LOCATION:Online
CATEGORIES:FriendSpeak,LST Connect,LST Mission Projects
ORGANIZER;CN="Let's Start Talking":MAILTO:LST@LST.org
END:VEVENT
BEGIN:VEVENT
DTSTART;TZID=America/Chicago:20231214T120000
DTEND;TZID=America/Chicago:20231214T130000
DTSTAMP:20260421T142958
CREATED:20221210T022622Z
LAST-MODIFIED:20221210T022622Z
UID:3516-1702555200-1702558800@lst.org
SUMMARY:EndMeeting
DESCRIPTION:This online workshop is for LST Teams who have recently returned from their projects.  Led by LST staff.  Register through the online training platform.
URL:https://lst.org/event/endmeeting-16/
LOCATION:Online
CATEGORIES:LST Mission Projects
ORGANIZER;CN="Let's Start Talking":MAILTO:LST@LST.org
END:VEVENT
BEGIN:VEVENT
DTSTART;TZID=America/Chicago:20231214T190000
DTEND;TZID=America/Chicago:20231214T220000
DTSTAMP:20260421T142958
CREATED:20230920T092225Z
LAST-MODIFIED:20230920T092225Z
UID:3964-1702580400-1702591200@lst.org
SUMMARY:Basic Training
DESCRIPTION:In this three-hour workshop receive the basic training you’ll need to utilize the LST approach in sharing your faith and your life with an international friend.  Whether you’re using this training for your local FriendSpeak work\, to connect online with a Reader through LST Connect\, or preparing for an international mission project\, you’re welcome! This seminar will cover the basic LST philosophy and methodology.  Click here to register.
URL:https://lst.org/event/basic-training-75/
LOCATION:Online
CATEGORIES:FriendSpeak,LST Connect,LST Mission Projects
ORGANIZER;CN="Let's Start Talking":MAILTO:LST@LST.org
END:VEVENT
BEGIN:VEVENT
DTSTART;TZID=America/Chicago:20240111T120000
DTEND;TZID=America/Chicago:20240111T143000
DTSTAMP:20260421T142958
CREATED:20231212T153518Z
LAST-MODIFIED:20231212T153518Z
UID:4071-1704974400-1704983400@lst.org
SUMMARY:Basic Training
DESCRIPTION:In this foundational workshop you’ll receive the basic training needed to utilize the LST approach in sharing your faith and your life with an international friend.  The focus of our time will be on the core components of the LST philosophy and methodology. Whether you’re using this training for your local FriendSpeak work\, to connect online with a Reader through LST Connect\, or preparing for an international mission project\, you are a welcome friend! Click here to register – 2024 Basic Training Registration
URL:https://lst.org/event/basic-training-76/
LOCATION:Online
CATEGORIES:FriendSpeak,LST Connect,LST Mission Projects
ORGANIZER;CN="Let's Start Talking":MAILTO:LST@LST.org
END:VEVENT
BEGIN:VEVENT
DTSTART;VALUE=DATE:20240118
DTEND;VALUE=DATE:20240119
DTSTAMP:20260421T142958
CREATED:20240102T201507Z
LAST-MODIFIED:20240102T201742Z
UID:4225-1705536000-1705622399@lst.org
SUMMARY:LST MeetUp (12:00 pm or 7:00 pm)
DESCRIPTION:LST Meetups are for everyone participating in LST!  This one-hour online gathering is a time to connect with other participants\, have fun\, and continue practicing English.  If you have friends interested in LST\, invite them to this online “party!” Please register here.
URL:https://lst.org/event/lst-meetup-1200-pm-or-700-pm/
LOCATION:Online
CATEGORIES:FriendSpeak,LST Connect
ORGANIZER;CN="Let's Start Talking":MAILTO:LST@LST.org
END:VEVENT
BEGIN:VEVENT
DTSTART;TZID=America/Chicago:20240121T190000
DTEND;TZID=America/Chicago:20240121T213000
DTSTAMP:20260421T142958
CREATED:20231212T153805Z
LAST-MODIFIED:20231212T153945Z
UID:4073-1705863600-1705872600@lst.org
SUMMARY:Basic Training
DESCRIPTION:In this foundational workshop you’ll receive the basic training needed to utilize the LST approach in sharing your faith and your life with an international friend.  The focus of our time will be on the core components of the LST philosophy and methodology. Whether you’re using this training for your local FriendSpeak work\, to connect online with a Reader through LST Connect\, or preparing for an international mission project\, you are a welcome friend! Click here to register – 2024 Basic Training Registration
URL:https://lst.org/event/basic-training-77/
LOCATION:Online
CATEGORIES:FriendSpeak,LST Connect,LST Mission Projects
ORGANIZER;CN="Let's Start Talking":MAILTO:LST@LST.org
END:VEVENT
BEGIN:VEVENT
DTSTART;TZID=America/Chicago:20240125T120000
DTEND;TZID=America/Chicago:20240125T130000
DTSTAMP:20260421T142958
CREATED:20231212T222103Z
LAST-MODIFIED:20231212T222103Z
UID:4146-1706184000-1706187600@lst.org
SUMMARY:EndMeeting
DESCRIPTION:This online workshop is for LST Teams who have recently returned from their international projects.  It is led by LST staff\, and teams can register through their online training platform.
URL:https://lst.org/event/endmeeting-17/
LOCATION:Online
CATEGORIES:LST Mission Projects
ORGANIZER;CN="Let's Start Talking":MAILTO:LST@LST.org
END:VEVENT
BEGIN:VEVENT
DTSTART;VALUE=DATE:20240127
DTEND;VALUE=DATE:20240128
DTSTAMP:20260421T142958
CREATED:20231107T202833Z
LAST-MODIFIED:20231107T202833Z
UID:4029-1706313600-1706399999@lst.org
SUMMARY:FriendSpeak Training (Rancho Santa Margarita\, CA)
DESCRIPTION:
URL:https://lst.org/event/friendspeak-training-rancho-santa-margarita-ca/
LOCATION:Rancho Santa Margarita\, CA\, Rancho Santa Margarita\, California
CATEGORIES:FriendSpeak
END:VEVENT
BEGIN:VEVENT
DTSTART;TZID=America/Chicago:20240128T180000
DTEND;TZID=America/Chicago:20240128T200000
DTSTAMP:20260421T142958
CREATED:20231212T212034Z
LAST-MODIFIED:20231212T212034Z
UID:4121-1706464800-1706472000@lst.org
SUMMARY:Gateway Training (LST International Projects)
DESCRIPTION:This specialized online workshop is for LST International teams who have completed most of their online training and are within a month of departure.  LST staff lead this required event. Teams can register through their online training platform.
URL:https://lst.org/event/gateway-training-lst-international-projects/
LOCATION:Online
CATEGORIES:LST Mission Projects
ORGANIZER;CN="Let's Start Talking":MAILTO:LST@LST.org
END:VEVENT
BEGIN:VEVENT
DTSTART;TZID=America/Chicago:20240128T200000
DTEND;TZID=America/Chicago:20240128T210000
DTSTAMP:20260421T142958
CREATED:20231220T164101Z
LAST-MODIFIED:20231220T164238Z
UID:4185-1706472000-1706475600@lst.org
SUMMARY:Advanced Training
DESCRIPTION:LST is pleased to provide specialized training for experienced Workers!  These sessions are for Workers who have been through Basic Training (or equivalent)\, have experience working with LST Readers\, and feel comfortable utilizing the LST approach.  For registered LST Connect and FriendSpeak Workers these advanced training sessions are offered for no additional fee. Click here for additional details and to register.
URL:https://lst.org/event/advanced-training/
LOCATION:Online
CATEGORIES:FriendSpeak,LST Connect,LST Mission Projects
ORGANIZER;CN="Let's Start Talking":MAILTO:LST@LST.org
END:VEVENT
BEGIN:VEVENT
DTSTART;TZID=America/Chicago:20240208T190000
DTEND;TZID=America/Chicago:20240208T210000
DTSTAMP:20260421T142958
CREATED:20231212T154152Z
LAST-MODIFIED:20231212T154237Z
UID:4075-1707418800-1707426000@lst.org
SUMMARY:Basic Training
DESCRIPTION:In this foundational workshop you’ll receive the basic training needed to utilize the LST approach in sharing your faith and your life with an international friend.  The focus of our time will be on the core components of the LST philosophy and methodology. Whether you’re using this training for your local FriendSpeak work\, to connect online with a Reader through LST Connect\, or preparing for an international mission project\, you are a welcome friend! Click here to register – 2024 Basic Training Registration
URL:https://lst.org/event/basic-training-78/
LOCATION:Online
CATEGORIES:FriendSpeak,LST Connect,LST Mission Projects
ORGANIZER;CN="Let's Start Talking":MAILTO:LST@LST.org
END:VEVENT
BEGIN:VEVENT
DTSTART;VALUE=DATE:20240218
DTEND;VALUE=DATE:20240219
DTSTAMP:20260421T142958
CREATED:20231107T203014Z
LAST-MODIFIED:20240103T225252Z
UID:4034-1708214400-1708300799@lst.org
SUMMARY:FriendSpeak Training (Springtown\, TX)
DESCRIPTION:
URL:https://lst.org/event/friendspeak-training-springdale-tx/
LOCATION:Springtown\, TX\, Springtown\, United States
CATEGORIES:FriendSpeak
END:VEVENT
BEGIN:VEVENT
DTSTART;TZID=America/Chicago:20240218T190000
DTEND;TZID=America/Chicago:20240218T213000
DTSTAMP:20260421T142958
CREATED:20231212T154329Z
LAST-MODIFIED:20231212T154329Z
UID:4077-1708282800-1708291800@lst.org
SUMMARY:Basic Training
DESCRIPTION:In this foundational workshop you’ll receive the basic training needed to utilize the LST approach in sharing your faith and your life with an international friend.  The focus of our time will be on the core components of the LST philosophy and methodology. Whether you’re using this training for your local FriendSpeak work\, to connect online with a Reader through LST Connect\, or preparing for an international mission project\, you are a welcome friend! Click here to register – 2024 Basic Training Registration
URL:https://lst.org/event/basic-training-79/
LOCATION:Online
CATEGORIES:FriendSpeak,LST Connect,LST Mission Projects
ORGANIZER;CN="Let's Start Talking":MAILTO:LST@LST.org
END:VEVENT
BEGIN:VEVENT
DTSTART;VALUE=DATE:20240224
DTEND;VALUE=DATE:20240225
DTSTAMP:20260421T142958
CREATED:20231107T203156Z
LAST-MODIFIED:20231107T203156Z
UID:4039-1708732800-1708819199@lst.org
SUMMARY:FriendSpeak Training (Tulsa\, OK)
DESCRIPTION:
URL:https://lst.org/event/friendspeak-training-tulsa-ok/
LOCATION:Tulsa\, OK\, Tulsa\, OK\, United States
CATEGORIES:FriendSpeak
END:VEVENT
BEGIN:VEVENT
DTSTART;TZID=America/Chicago:20240225T180000
DTEND;TZID=America/Chicago:20240225T200000
DTSTAMP:20260421T142958
CREATED:20231212T212115Z
LAST-MODIFIED:20231212T212115Z
UID:4123-1708884000-1708891200@lst.org
SUMMARY:Gateway Training (LST International Projects)
DESCRIPTION:
URL:https://lst.org/event/gateway-training-lst-international-projects-2/
LOCATION:Online
CATEGORIES:LST Mission Projects
ORGANIZER;CN="Let's Start Talking":MAILTO:LST@LST.org
END:VEVENT
BEGIN:VEVENT
DTSTART;VALUE=DATE:20240227
DTEND;VALUE=DATE:20240528
DTSTAMP:20260421T142958
CREATED:20240227T221122Z
LAST-MODIFIED:20240227T221122Z
UID:4329-1708992000-1716854399@lst.org
SUMMARY:LST Project (Seoul\, South Korea)
DESCRIPTION:
URL:https://lst.org/event/lst-project-seoul-south-korea-5/
LOCATION:Seoul\, South Korea\, Seoul\, Korea\, Democratic People's Republic of
CATEGORIES:LST Mission Projects
ORGANIZER;CN="Let's Start Talking":MAILTO:LST@LST.org
END:VEVENT
BEGIN:VEVENT
DTSTART;TZID=America/Chicago:20240228T120000
DTEND;TZID=America/Chicago:20240228T130000
DTSTAMP:20260421T142958
CREATED:20231220T164218Z
LAST-MODIFIED:20231220T164218Z
UID:4188-1709121600-1709125200@lst.org
SUMMARY:Advanced Training
DESCRIPTION:LST is pleased to provide specialized training for experienced Workers!  These sessions are for Workers who have been through Basic Training (or equivalent)\, have experience working with LST Readers\, and feel comfortable utilizing the LST approach.  For registered LST Connect and FriendSpeak Workers these advanced training sessions are offered for no additional fee. Click here for additional details and to register.
URL:https://lst.org/event/advanced-training-2/
LOCATION:Online
CATEGORIES:FriendSpeak,LST Connect,LST Mission Projects
ORGANIZER;CN="Let's Start Talking":MAILTO:LST@LST.org
END:VEVENT
BEGIN:VEVENT
DTSTART;TZID=America/Chicago:20240229T120000
DTEND;TZID=America/Chicago:20240229T130000
DTSTAMP:20260421T142958
CREATED:20231212T222154Z
LAST-MODIFIED:20231212T222154Z
UID:4148-1709208000-1709211600@lst.org
SUMMARY:EndMeeting
DESCRIPTION:This online workshop is for LST Teams who have recently returned from their international projects.  It is led by LST staff\, and teams can register through their online training platform.
URL:https://lst.org/event/endmeeting-18/
LOCATION:Online
CATEGORIES:LST Mission Projects
ORGANIZER;CN="Let's Start Talking":MAILTO:LST@LST.org
END:VEVENT
BEGIN:VEVENT
DTSTART;VALUE=DATE:20240301
DTEND;VALUE=DATE:20240311
DTSTAMP:20260421T142958
CREATED:20240227T221720Z
LAST-MODIFIED:20240227T221720Z
UID:4331-1709251200-1710115199@lst.org
SUMMARY:LST Project (Marburg\, Germany)
DESCRIPTION:
URL:https://lst.org/event/lst-project-marburg-germany/
LOCATION:Marburg\, Germany\, Marburg\, Germany
CATEGORIES:LST Mission Projects
ORGANIZER;CN="Let's Start Talking":MAILTO:LST@LST.org
END:VEVENT
BEGIN:VEVENT
DTSTART;VALUE=DATE:20240303
DTEND;VALUE=DATE:20240304
DTSTAMP:20260421T142958
CREATED:20231107T203304Z
LAST-MODIFIED:20231107T203423Z
UID:4044-1709424000-1709510399@lst.org
SUMMARY:FriendSpeak Training and FriendSpeak Celebration (Sugar Land\, TX)
DESCRIPTION:
URL:https://lst.org/event/friendspeak-training-and-friendspeak-celebration-sugar-land-tx/
LOCATION:Sugar Land\, TX\, Sugar Land\, TX\, United States
CATEGORIES:FriendSpeak
END:VEVENT
BEGIN:VEVENT
DTSTART;VALUE=DATE:20240307
DTEND;VALUE=DATE:20240308
DTSTAMP:20260421T142958
CREATED:20231212T152213Z
LAST-MODIFIED:20231212T152421Z
UID:4061-1709769600-1709855999@lst.org
SUMMARY:Giving Day - LST Connect Giving Day 2024
DESCRIPTION:
URL:https://lst.org/event/giving-day-lst-connect-giving-day-2024/
LOCATION:Online
CATEGORIES:Fundraising,LST Connect
ORGANIZER;CN="Let's Start Talking":MAILTO:LST@LST.org
END:VEVENT
BEGIN:VEVENT
DTSTART;TZID=America/Chicago:20240307T120000
DTEND;TZID=America/Chicago:20240307T143000
DTSTAMP:20260421T142958
CREATED:20231212T155510Z
LAST-MODIFIED:20231212T155510Z
UID:4079-1709812800-1709821800@lst.org
SUMMARY:Basic Training
DESCRIPTION:In this foundational workshop you’ll receive the basic training needed to utilize the LST approach in sharing your faith and your life with an international friend.  The focus of our time will be on the core components of the LST philosophy and methodology. Whether you’re using this training for your local FriendSpeak work\, to connect online with a Reader through LST Connect\, or preparing for an international mission project\, you are a welcome friend! Click here to register – 2024 Basic Training Registration
URL:https://lst.org/event/basic-training-80/
LOCATION:Online
CATEGORIES:FriendSpeak,LST Connect,LST Mission Projects
ORGANIZER;CN="Let's Start Talking":MAILTO:LST@LST.org
END:VEVENT
BEGIN:VEVENT
DTSTART;TZID=America/Chicago:20240317T190000
DTEND;TZID=America/Chicago:20240317T213000
DTSTAMP:20260421T142958
CREATED:20231212T155626Z
LAST-MODIFIED:20231212T155626Z
UID:4081-1710702000-1710711000@lst.org
SUMMARY:Basic Training
DESCRIPTION:In this foundational workshop you’ll receive the basic training needed to utilize the LST approach in sharing your faith and your life with an international friend.  The focus of our time will be on the core components of the LST philosophy and methodology. Whether you’re using this training for your local FriendSpeak work\, to connect online with a Reader through LST Connect\, or preparing for an international mission project\, you are a welcome friend! Click here to register – 2024 Basic Training Registration
URL:https://lst.org/event/basic-training-81/
LOCATION:Online
CATEGORIES:FriendSpeak,LST Connect,LST Mission Projects
ORGANIZER;CN="Let's Start Talking":MAILTO:LST@LST.org
END:VEVENT
BEGIN:VEVENT
DTSTART;VALUE=DATE:20240321
DTEND;VALUE=DATE:20240322
DTSTAMP:20260421T142958
CREATED:20240102T201626Z
LAST-MODIFIED:20240102T201748Z
UID:4228-1710979200-1711065599@lst.org
SUMMARY:LST MeetUp (12:00 pm or 7:00 pm)
DESCRIPTION:LST Meetups are for everyone participating in LST!  This one-hour online gathering is a time to connect with other participants\, have fun\, and continue practicing English.  If you have friends interested in LST\, invite them to this online “party!” Please register here.
URL:https://lst.org/event/lst-meetup-1200-pm-or-700-pm-2/
LOCATION:Online
CATEGORIES:FriendSpeak,LST Connect
ORGANIZER;CN="Let's Start Talking":MAILTO:LST@LST.org
END:VEVENT
BEGIN:VEVENT
DTSTART;VALUE=DATE:20240323
DTEND;VALUE=DATE:20240422
DTSTAMP:20260421T142958
CREATED:20240118T225338Z
LAST-MODIFIED:20240118T225338Z
UID:4273-1711152000-1713743999@lst.org
SUMMARY:LST Project (Rio de Janeiro\, Brazil)
DESCRIPTION:
URL:https://lst.org/event/lst-project-rio-de-janeiro-brazil-5/
LOCATION:Rio de Janeiro\, Brazil\, Rio de Janeiro\, Brazil
CATEGORIES:LST Mission Projects
ORGANIZER;CN="Let's Start Talking":MAILTO:LST@LST.org
END:VEVENT
BEGIN:VEVENT
DTSTART;TZID=America/Chicago:20240324T180000
DTEND;TZID=America/Chicago:20240324T200000
DTSTAMP:20260421T142958
CREATED:20231212T212210Z
LAST-MODIFIED:20231212T212210Z
UID:4125-1711303200-1711310400@lst.org
SUMMARY:Gateway Training (LST International Projects)
DESCRIPTION:This specialized online workshop is for LST International teams who have completed most of their online training and are within a month of departure.  LST staff lead this required event. Teams can register through their online training platform.
URL:https://lst.org/event/gateway-training-lst-international-projects-3/
LOCATION:Online
CATEGORIES:LST Mission Projects
ORGANIZER;CN="Let's Start Talking":MAILTO:LST@LST.org
END:VEVENT
BEGIN:VEVENT
DTSTART;TZID=America/Chicago:20240324T200000
DTEND;TZID=America/Chicago:20240324T210000
DTSTAMP:20260421T142958
CREATED:20231220T164322Z
LAST-MODIFIED:20231220T164322Z
UID:4190-1711310400-1711314000@lst.org
SUMMARY:Advanced Training
DESCRIPTION:LST is pleased to provide specialized training for experienced Workers!  These sessions are for Workers who have been through Basic Training (or equivalent)\, have experience working with LST Readers\, and feel comfortable utilizing the LST approach.  For registered LST Connect and FriendSpeak Workers these advanced training sessions are offered for no additional fee. Click here for additional details and to register.
URL:https://lst.org/event/advanced-training-3/
LOCATION:Online
CATEGORIES:FriendSpeak,LST Connect,LST Mission Projects
ORGANIZER;CN="Let's Start Talking":MAILTO:LST@LST.org
END:VEVENT
BEGIN:VEVENT
DTSTART;TZID=America/Chicago:20240328T120000
DTEND;TZID=America/Chicago:20240328T130000
DTSTAMP:20260421T142958
CREATED:20231212T222241Z
LAST-MODIFIED:20231212T222241Z
UID:4150-1711627200-1711630800@lst.org
SUMMARY:EndMeeting
DESCRIPTION:This online workshop is for LST Teams who have recently returned from their international projects.  It is led by LST staff\, and teams can register through their online training platform.
URL:https://lst.org/event/endmeeting-19/
LOCATION:Online
CATEGORIES:LST Mission Projects
ORGANIZER;CN="Let's Start Talking":MAILTO:LST@LST.org
END:VEVENT
END:VCALENDAR