BEGIN:VCALENDAR
VERSION:2.0
PRODID:-//Let&#039;s Start Talking - ECPv6.15.20//NONSGML v1.0//EN
CALSCALE:GREGORIAN
METHOD:PUBLISH
X-WR-CALNAME:Let&#039;s Start Talking
X-ORIGINAL-URL:https://lst.org
X-WR-CALDESC:Events for Let&#039;s Start Talking
REFRESH-INTERVAL;VALUE=DURATION:PT1H
X-Robots-Tag:noindex
X-PUBLISHED-TTL:PT1H
BEGIN:VTIMEZONE
TZID:America/Chicago
BEGIN:DAYLIGHT
TZOFFSETFROM:-0600
TZOFFSETTO:-0500
TZNAME:CDT
DTSTART:20230312T080000
END:DAYLIGHT
BEGIN:STANDARD
TZOFFSETFROM:-0500
TZOFFSETTO:-0600
TZNAME:CST
DTSTART:20231105T070000
END:STANDARD
BEGIN:DAYLIGHT
TZOFFSETFROM:-0600
TZOFFSETTO:-0500
TZNAME:CDT
DTSTART:20240310T080000
END:DAYLIGHT
BEGIN:STANDARD
TZOFFSETFROM:-0500
TZOFFSETTO:-0600
TZNAME:CST
DTSTART:20241103T070000
END:STANDARD
BEGIN:DAYLIGHT
TZOFFSETFROM:-0600
TZOFFSETTO:-0500
TZNAME:CDT
DTSTART:20250309T080000
END:DAYLIGHT
BEGIN:STANDARD
TZOFFSETFROM:-0500
TZOFFSETTO:-0600
TZNAME:CST
DTSTART:20251102T070000
END:STANDARD
BEGIN:DAYLIGHT
TZOFFSETFROM:-0600
TZOFFSETTO:-0500
TZNAME:CDT
DTSTART:20260308T080000
END:DAYLIGHT
BEGIN:STANDARD
TZOFFSETFROM:-0500
TZOFFSETTO:-0600
TZNAME:CST
DTSTART:20261101T070000
END:STANDARD
END:VTIMEZONE
BEGIN:VEVENT
DTSTART;VALUE=DATE:20250321
DTEND;VALUE=DATE:20250413
DTSTAMP:20260421T140439
CREATED:20241204T215428Z
LAST-MODIFIED:20241204T215557Z
UID:4745-1742515200-1744502399@lst.org
SUMMARY:LST Project (Hannover\, Germany)
DESCRIPTION:
URL:https://lst.org/event/lst-project-hannover-germany-7/
LOCATION:Hannover\, Germany\, Hannover\, Germany
CATEGORIES:LST Mission Projects
ORGANIZER;CN="Let's Start Talking":MAILTO:LST@LST.org
END:VEVENT
BEGIN:VEVENT
DTSTART;VALUE=DATE:20250321
DTEND;VALUE=DATE:20250407
DTSTAMP:20260421T140439
CREATED:20241030T164401Z
LAST-MODIFIED:20241030T164401Z
UID:4647-1742515200-1743983999@lst.org
SUMMARY:LST Project (Florianopolis\, Brazil)
DESCRIPTION:
URL:https://lst.org/event/lst-project-florianopolis-brazil/
LOCATION:Florianopolis\, Brazil\, Florianopolis\, Brazil
CATEGORIES:LST Mission Projects
ORGANIZER;CN="Let's Start Talking":MAILTO:LST@LST.org
END:VEVENT
BEGIN:VEVENT
DTSTART;TZID=America/Chicago:20250313T120000
DTEND;TZID=America/Chicago:20250313T143000
DTSTAMP:20260421T140439
CREATED:20241214T001554Z
LAST-MODIFIED:20241214T001554Z
UID:4796-1741867200-1741876200@lst.org
SUMMARY:Basic Training
DESCRIPTION:In this foundational workshop you’ll receive the basic training needed to utilize the LST approach in sharing your faith and your life with an international participant.  The focus of our time will be on the core components of the LST philosophy and methodology. Whether you’re using this training for your local FriendSpeak work\, to connect online with a Reader through LST Connect\, or preparing for an international mission project\, you are a welcome friend! Click here to register – 2025 Basic Training Registration
URL:https://lst.org/event/basic-training-105/
LOCATION:Online
CATEGORIES:FriendSpeak,LST Connect,LST Mission Projects
ORGANIZER;CN="Let's Start Talking":MAILTO:LST@LST.org
END:VEVENT
BEGIN:VEVENT
DTSTART;VALUE=DATE:20250310
DTEND;VALUE=DATE:20250609
DTSTAMP:20260421T140439
CREATED:20250114T160353Z
LAST-MODIFIED:20250114T160353Z
UID:4970-1741564800-1749427199@lst.org
SUMMARY:LST Project (Vicenza\, Italy)
DESCRIPTION:
URL:https://lst.org/event/lst-project-vicenza-italy/
LOCATION:Vicenza\, Italy\, Vicenza\, Italy
CATEGORIES:LST Mission Projects
END:VEVENT
BEGIN:VEVENT
DTSTART;VALUE=DATE:20250306
DTEND;VALUE=DATE:20250307
DTSTAMP:20260421T140439
CREATED:20241214T003308Z
LAST-MODIFIED:20241214T003308Z
UID:4838-1741219200-1741305599@lst.org
SUMMARY:Fundraising-LST Connect Giving Day 2025
DESCRIPTION:
URL:https://lst.org/event/fundraising-lst-connect-giving-day-2025/
CATEGORIES:Fundraising
ORGANIZER;CN="Let's Start Talking":MAILTO:LST@LST.org
END:VEVENT
BEGIN:VEVENT
DTSTART;VALUE=DATE:20250301
DTEND;VALUE=DATE:20250322
DTSTAMP:20260421T140439
CREATED:20241030T165017Z
LAST-MODIFIED:20241030T165017Z
UID:4653-1740787200-1742601599@lst.org
SUMMARY:LST Project (Buenos Aires)
DESCRIPTION:
URL:https://lst.org/event/lst-project-buenos-aires/
LOCATION:Buenos Aires\, Argentina\, Buenos Aires\, Argentina
CATEGORIES:LST Mission Projects
ORGANIZER;CN="Let's Start Talking":MAILTO:LST@LST.org
END:VEVENT
BEGIN:VEVENT
DTSTART;VALUE=DATE:20250301
DTEND;VALUE=DATE:20250302
DTSTAMP:20260421T140439
CREATED:20250227T154520Z
LAST-MODIFIED:20250227T154520Z
UID:5046-1740787200-1740873599@lst.org
SUMMARY:FriendSpeak Training (Houston\, TX)
DESCRIPTION:
URL:https://lst.org/event/friendspeak-training-houston-tx-2/
LOCATION:Houston\, TX\, Houston\, TX\, United States
CATEGORIES:Fundraising
END:VEVENT
BEGIN:VEVENT
DTSTART;VALUE=DATE:20250301
DTEND;VALUE=DATE:20250302
DTSTAMP:20260421T140439
CREATED:20250214T171431Z
LAST-MODIFIED:20250214T171431Z
UID:5041-1740787200-1740873599@lst.org
SUMMARY:FriendSpeak Training Seminar (Sugarland TX)
DESCRIPTION:
URL:https://lst.org/event/friendspeak-training-seminar-sugarland-tx/
LOCATION:Sugar Land\, TX\, Sugar Land\, TX\, United States
CATEGORIES:FriendSpeak
END:VEVENT
BEGIN:VEVENT
DTSTART;VALUE=DATE:20250228
DTEND;VALUE=DATE:20250310
DTSTAMP:20260421T140439
CREATED:20241030T202359Z
LAST-MODIFIED:20241030T202359Z
UID:4655-1740700800-1741564799@lst.org
SUMMARY:LST Project (Marseille\, France)
DESCRIPTION:
URL:https://lst.org/event/lst-project-marseille-france-2/
LOCATION:Marseille\, France\, Marseille\, France
CATEGORIES:LST Mission Projects
ORGANIZER;CN="Let's Start Talking":MAILTO:LST@LST.org
END:VEVENT
BEGIN:VEVENT
DTSTART;VALUE=DATE:20250228
DTEND;VALUE=DATE:20250309
DTSTAMP:20260421T140439
CREATED:20241220T223503Z
LAST-MODIFIED:20241220T223503Z
UID:4956-1740700800-1741478399@lst.org
SUMMARY:LST Project (Hannover\, Germany)
DESCRIPTION:
URL:https://lst.org/event/lst-project-hannover-germany-9/
LOCATION:Hannover\, Germany\, Hannover\, Germany
CATEGORIES:LST Mission Projects
ORGANIZER;CN="Let's Start Talking":MAILTO:LST@LST.org
END:VEVENT
BEGIN:VEVENT
DTSTART;TZID=America/Chicago:20250227T120000
DTEND;TZID=America/Chicago:20250227T130000
DTSTAMP:20260421T140439
CREATED:20241220T194353Z
LAST-MODIFIED:20241220T194353Z
UID:4917-1740657600-1740661200@lst.org
SUMMARY:EndMeeting (LST International Projects)
DESCRIPTION:This online workshop is for LST Teams who have recently returned from their international projects.  It is led by LST staff\, and teams can register through their online training platform.
URL:https://lst.org/event/endmeeting-lst-international-projects-2/
LOCATION:Online
CATEGORIES:LST Mission Projects
ORGANIZER;CN="Let's Start Talking":MAILTO:LST@LST.org
END:VEVENT
BEGIN:VEVENT
DTSTART;TZID=America/Chicago:20250226T120000
DTEND;TZID=America/Chicago:20250226T130000
DTSTAMP:20260421T140439
CREATED:20241218T223018Z
LAST-MODIFIED:20241218T223018Z
UID:4867-1740571200-1740574800@lst.org
SUMMARY:Advanced Training for Experienced LST Workers
DESCRIPTION:LST is pleased to provide specialized training for experienced Workers!  These sessions are for Workers who have been through Basic Training (or equivalent)\, have experience working with LST Readers\, and feel comfortable utilizing the LST approach.  For registered LST Connect and FriendSpeak Workers these advanced training sessions are offered for no additional fee. Click here for additional details and to register.
URL:https://lst.org/event/advanced-training-for-experienced-lst-workers-2/
LOCATION:Online
CATEGORIES:FriendSpeak,LST Connect,LST Mission Projects
ORGANIZER;CN="Let's Start Talking":MAILTO:LST@LST.org
END:VEVENT
BEGIN:VEVENT
DTSTART;TZID=America/Chicago:20250223T180000
DTEND;TZID=America/Chicago:20250223T200000
DTSTAMP:20260421T140439
CREATED:20241220T173610Z
LAST-MODIFIED:20241220T173610Z
UID:4892-1740333600-1740340800@lst.org
SUMMARY:Gateway Training (LST International Projects)
DESCRIPTION:This specialized online workshop is for LST International teams who have completed most of their online training and are within a month of departure.  LST staff lead this required event. Teams can register through their online training platform.
URL:https://lst.org/event/gateway-training-lst-international-projects-13/
LOCATION:Online
CATEGORIES:LST Mission Projects
ORGANIZER;CN="Let's Start Talking":MAILTO:LST@LST.org
END:VEVENT
BEGIN:VEVENT
DTSTART;VALUE=DATE:20250220
DTEND;VALUE=DATE:20250221
DTSTAMP:20260421T140439
CREATED:20250214T172149Z
LAST-MODIFIED:20250214T172149Z
UID:5043-1740009600-1740095999@lst.org
SUMMARY:FriendSpeak Leaders Training (Western Kentucky University)
DESCRIPTION:
URL:https://lst.org/event/friendspeak-leaders-training-western-kentucky-university/
LOCATION:Online
ORGANIZER;CN="Let's Start Talking":MAILTO:LST@LST.org
END:VEVENT
BEGIN:VEVENT
DTSTART;TZID=America/Chicago:20250216T190000
DTEND;TZID=America/Chicago:20250216T213000
DTSTAMP:20260421T140439
CREATED:20241214T001506Z
LAST-MODIFIED:20241214T001506Z
UID:4794-1739732400-1739741400@lst.org
SUMMARY:Basic Training
DESCRIPTION:In this foundational workshop you’ll receive the basic training needed to utilize the LST approach in sharing your faith and your life with an international participant.  The focus of our time will be on the core components of the LST philosophy and methodology. Whether you’re using this training for your local FriendSpeak work\, to connect online with a Reader through LST Connect\, or preparing for an international mission project\, you are a welcome friend! Click here to register – 2025 Basic Training Registration
URL:https://lst.org/event/basic-training-104/
LOCATION:Online
CATEGORIES:FriendSpeak,LST Connect,LST Mission Projects
ORGANIZER;CN="Let's Start Talking":MAILTO:LST@LST.org
END:VEVENT
BEGIN:VEVENT
DTSTART;TZID=America/Chicago:20250206T190000
DTEND;TZID=America/Chicago:20250206T213000
DTSTAMP:20260421T140439
CREATED:20241214T001421Z
LAST-MODIFIED:20241214T001421Z
UID:4792-1738868400-1738877400@lst.org
SUMMARY:Basic Training
DESCRIPTION:In this foundational workshop you’ll receive the basic training needed to utilize the LST approach in sharing your faith and your life with an international participant.  The focus of our time will be on the core components of the LST philosophy and methodology. Whether you’re using this training for your local FriendSpeak work\, to connect online with a Reader through LST Connect\, or preparing for an international mission project\, you are a welcome friend! Click here to register – 2025 Basic Training Registration
URL:https://lst.org/event/basic-training-103/
LOCATION:Online
CATEGORIES:FriendSpeak,LST Connect,LST Mission Projects
ORGANIZER;CN="Let's Start Talking":MAILTO:LST@LST.org
END:VEVENT
BEGIN:VEVENT
DTSTART;VALUE=DATE:20250201
DTEND;VALUE=DATE:20250427
DTSTAMP:20260421T140439
CREATED:20241030T213811Z
LAST-MODIFIED:20241030T213811Z
UID:4660-1738368000-1745711999@lst.org
SUMMARY:LST Project (Lecce\, Italy)
DESCRIPTION:
URL:https://lst.org/event/lst-project-lecce-italy-11/
LOCATION:Lecce\, Italy\, Lecce\, Italy
CATEGORIES:LST Mission Projects
ORGANIZER;CN="Let's Start Talking":MAILTO:LST@LST.org
END:VEVENT
BEGIN:VEVENT
DTSTART;TZID=America/Chicago:20250130T120000
DTEND;TZID=America/Chicago:20250130T130000
DTSTAMP:20260421T140439
CREATED:20241220T194306Z
LAST-MODIFIED:20241220T194306Z
UID:4915-1738238400-1738242000@lst.org
SUMMARY:EndMeeting (LST International Projects)
DESCRIPTION:This online workshop is for LST Teams who have recently returned from their international projects.  It is led by LST staff\, and teams can register through their online training platform.
URL:https://lst.org/event/endmeeting-lst-international-projects/
LOCATION:Online
CATEGORIES:LST Mission Projects
ORGANIZER;CN="Let's Start Talking":MAILTO:LST@LST.org
END:VEVENT
BEGIN:VEVENT
DTSTART;VALUE=DATE:20250127
DTEND;VALUE=DATE:20250128
DTSTAMP:20260421T140439
CREATED:20250127T232852Z
LAST-MODIFIED:20250127T232852Z
UID:4992-1737936000-1738022399@lst.org
SUMMARY:FriendSpeak Training (Southwest Church of Christ\, Omaha NE)
DESCRIPTION:
URL:https://lst.org/event/friendspeak-training-southwest-church-of-christ-omaha-ne/
LOCATION:Southwest Church of Christ (Omaha)\, Omaha\, Nebraska
END:VEVENT
BEGIN:VEVENT
DTSTART;TZID=America/Chicago:20250126T200000
DTEND;TZID=America/Chicago:20250126T210000
DTSTAMP:20260421T140439
CREATED:20241218T222909Z
LAST-MODIFIED:20241218T222909Z
UID:4864-1737921600-1737925200@lst.org
SUMMARY:Advanced Training for Experienced LST Workers
DESCRIPTION:LST is pleased to provide specialized training for experienced Workers!  These sessions are for Workers who have been through Basic Training (or equivalent)\, have experience working with LST Readers\, and feel comfortable utilizing the LST approach.  For registered LST Connect and FriendSpeak Workers these advanced training sessions are offered for no additional fee. Click here for additional details and to register.
URL:https://lst.org/event/advanced-training-for-experienced-lst-workers/
LOCATION:Online
CATEGORIES:FriendSpeak,LST Connect,LST Mission Projects
ORGANIZER;CN="Let's Start Talking":MAILTO:LST@LST.org
END:VEVENT
BEGIN:VEVENT
DTSTART;TZID=America/Chicago:20250126T180000
DTEND;TZID=America/Chicago:20250126T200000
DTSTAMP:20260421T140439
CREATED:20241220T173517Z
LAST-MODIFIED:20241220T173517Z
UID:4890-1737914400-1737921600@lst.org
SUMMARY:Gateway Training (LST International Projects)
DESCRIPTION:This specialized online workshop is for LST International teams who have completed most of their online training and are within a month of departure.  LST staff lead this required event. Teams can register through their online training platform.
URL:https://lst.org/event/gateway-training-lst-international-projects-12/
LOCATION:Online
CATEGORIES:LST Mission Projects
ORGANIZER;CN="Let's Start Talking":MAILTO:LST@LST.org
END:VEVENT
BEGIN:VEVENT
DTSTART;TZID=America/Chicago:20250119T190000
DTEND;TZID=America/Chicago:20250119T213000
DTSTAMP:20260421T140439
CREATED:20241214T001312Z
LAST-MODIFIED:20241214T001312Z
UID:4790-1737313200-1737322200@lst.org
SUMMARY:Basic Training
DESCRIPTION:In this foundational workshop you’ll receive the basic training needed to utilize the LST approach in sharing your faith and your life with an international participant.  The focus of our time will be on the core components of the LST philosophy and methodology. Whether you’re using this training for your local FriendSpeak work\, to connect online with a Reader through LST Connect\, or preparing for an international mission project\, you are a welcome friend! Click here to register – 2025 Basic Training Registration
URL:https://lst.org/event/basic-training-102/
LOCATION:Online
CATEGORIES:FriendSpeak,LST Connect,LST Mission Projects
ORGANIZER;CN="Let's Start Talking":MAILTO:LST@LST.org
END:VEVENT
BEGIN:VEVENT
DTSTART;VALUE=DATE:20250118
DTEND;VALUE=DATE:20250119
DTSTAMP:20260421T140439
CREATED:20241203T211832Z
LAST-MODIFIED:20241203T212802Z
UID:4731-1737158400-1737244799@lst.org
SUMMARY:FriendSpeak Training (Mooresville\, IN)
DESCRIPTION:
URL:https://lst.org/event/friendspeak-training-mooresville-in/
LOCATION:Mooresville\, IN\, Mooresville\, Indiana
CATEGORIES:FriendSpeak
END:VEVENT
BEGIN:VEVENT
DTSTART;VALUE=DATE:20250115
DTEND;VALUE=DATE:20250116
DTSTAMP:20260421T140439
CREATED:20250108T143538Z
LAST-MODIFIED:20250108T143538Z
UID:4960-1736899200-1736985599@lst.org
SUMMARY:FriendSpeak Training (Omaha\, NE)
DESCRIPTION:
URL:https://lst.org/event/friendspeak-training-omaha-ne/
LOCATION:Omaha\, NE\, Omaha\, Nebraska
CATEGORIES:FriendSpeak
END:VEVENT
BEGIN:VEVENT
DTSTART;VALUE=DATE:20250111
DTEND;VALUE=DATE:20250112
DTSTAMP:20260421T140439
CREATED:20241203T211011Z
LAST-MODIFIED:20241203T211011Z
UID:4724-1736553600-1736639999@lst.org
SUMMARY:FriendSpeak Training (York\, NE)
DESCRIPTION:
URL:https://lst.org/event/friendspeak-training-york-ne/
LOCATION:York\, NE\, York\, Nebraska
CATEGORIES:FriendSpeak
END:VEVENT
BEGIN:VEVENT
DTSTART;VALUE=DATE:20250111
DTEND;VALUE=DATE:20250112
DTSTAMP:20260421T140439
CREATED:20241203T210427Z
LAST-MODIFIED:20241203T210831Z
UID:4722-1736553600-1736639999@lst.org
SUMMARY:FriendSpeak Training (Austin\, TX)
DESCRIPTION:
URL:https://lst.org/event/friendspeak-training-austin-tx-2/
LOCATION:Austin\, TX\, Austin\, TX\, United States
CATEGORIES:FriendSpeak
END:VEVENT
BEGIN:VEVENT
DTSTART;TZID=America/Chicago:20250109T120000
DTEND;TZID=America/Chicago:20250109T143000
DTSTAMP:20260421T140439
CREATED:20241214T001222Z
LAST-MODIFIED:20241214T001222Z
UID:4787-1736424000-1736433000@lst.org
SUMMARY:Basic Training
DESCRIPTION:In this foundational workshop you’ll receive the basic training needed to utilize the LST approach in sharing your faith and your life with an international participant.  The focus of our time will be on the core components of the LST philosophy and methodology. Whether you’re using this training for your local FriendSpeak work\, to connect online with a Reader through LST Connect\, or preparing for an international mission project\, you are a welcome friend! Click here to register – 2025 Basic Training Registration
URL:https://lst.org/event/basic-training-101/
LOCATION:Online
CATEGORIES:FriendSpeak,LST Connect,LST Mission Projects
ORGANIZER;CN="Let's Start Talking":MAILTO:LST@LST.org
END:VEVENT
BEGIN:VEVENT
DTSTART;TZID=America/Chicago:20241215T180000
DTEND;TZID=America/Chicago:20241215T200000
DTSTAMP:20260421T140439
CREATED:20231212T213031Z
LAST-MODIFIED:20231212T213031Z
UID:4143-1734285600-1734292800@lst.org
SUMMARY:Gateway Training (LST International Projects)
DESCRIPTION:This specialized online workshop is for LST International teams who have completed most of their online training and are within a month of departure.  LST staff lead this required event. Teams can register through their online training platform.
URL:https://lst.org/event/gateway-training-lst-international-projects-11/
LOCATION:Online
CATEGORIES:LST Mission Projects
ORGANIZER;CN="Let's Start Talking":MAILTO:LST@LST.org
END:VEVENT
BEGIN:VEVENT
DTSTART;TZID=America/Chicago:20241212T120000
DTEND;TZID=America/Chicago:20241212T143000
DTSTAMP:20260421T140439
CREATED:20231212T163923Z
LAST-MODIFIED:20231212T163923Z
UID:4119-1734004800-1734013800@lst.org
SUMMARY:Basic Training
DESCRIPTION:In this foundational workshop you’ll receive the basic training needed to utilize the LST approach in sharing your faith and your life with an international friend.  The focus of our time will be on the core components of the LST philosophy and methodology. Whether you’re using this training for your local FriendSpeak work\, to connect online with a Reader through LST Connect\, or preparing for an international mission project\, you are a welcome friend! Click here to register – 2024 Basic Training Registration
URL:https://lst.org/event/basic-training-100/
LOCATION:Online
CATEGORIES:FriendSpeak,LST Connect,LST Mission Projects
ORGANIZER;CN="Let's Start Talking":MAILTO:LST@LST.org
END:VEVENT
BEGIN:VEVENT
DTSTART;TZID=America/Chicago:20241211T120000
DTEND;TZID=America/Chicago:20241211T130000
DTSTAMP:20260421T140439
CREATED:20231220T165050Z
LAST-MODIFIED:20231220T165050Z
UID:4208-1733918400-1733922000@lst.org
SUMMARY:Advanced Training
DESCRIPTION:LST is pleased to provide specialized training for experienced Workers!  These sessions are for Workers who have been through Basic Training (or equivalent)\, have experience working with LST Readers\, and feel comfortable utilizing the LST approach.  For registered LST Connect and FriendSpeak Workers these advanced training sessions are offered for no additional fee. Click here for additional details and to register.
URL:https://lst.org/event/advanced-training-12/
LOCATION:Online
CATEGORIES:FriendSpeak,LST Connect,LST Mission Projects
ORGANIZER;CN="Let's Start Talking":MAILTO:LST@LST.org
END:VEVENT
END:VCALENDAR