BEGIN:VCALENDAR
VERSION:2.0
PRODID:-//Let&#039;s Start Talking - ECPv6.15.20//NONSGML v1.0//EN
CALSCALE:GREGORIAN
METHOD:PUBLISH
X-WR-CALNAME:Let&#039;s Start Talking
X-ORIGINAL-URL:https://lst.org
X-WR-CALDESC:Events for Let&#039;s Start Talking
REFRESH-INTERVAL;VALUE=DURATION:PT1H
X-Robots-Tag:noindex
X-PUBLISHED-TTL:PT1H
BEGIN:VTIMEZONE
TZID:America/Chicago
BEGIN:DAYLIGHT
TZOFFSETFROM:-0600
TZOFFSETTO:-0500
TZNAME:CDT
DTSTART:20250309T080000
END:DAYLIGHT
BEGIN:STANDARD
TZOFFSETFROM:-0500
TZOFFSETTO:-0600
TZNAME:CST
DTSTART:20251102T070000
END:STANDARD
BEGIN:DAYLIGHT
TZOFFSETFROM:-0600
TZOFFSETTO:-0500
TZNAME:CDT
DTSTART:20260308T080000
END:DAYLIGHT
BEGIN:STANDARD
TZOFFSETFROM:-0500
TZOFFSETTO:-0600
TZNAME:CST
DTSTART:20261101T070000
END:STANDARD
BEGIN:DAYLIGHT
TZOFFSETFROM:-0600
TZOFFSETTO:-0500
TZNAME:CDT
DTSTART:20270314T080000
END:DAYLIGHT
BEGIN:STANDARD
TZOFFSETFROM:-0500
TZOFFSETTO:-0600
TZNAME:CST
DTSTART:20271107T070000
END:STANDARD
END:VTIMEZONE
BEGIN:VEVENT
DTSTART;TZID=America/Chicago:20260226T190000
DTEND;TZID=America/Chicago:20260226T200000
DTSTAMP:20260420T095743
CREATED:20251218T215642Z
LAST-MODIFIED:20251218T215642Z
UID:5387-1772132400-1772136000@lst.org
SUMMARY:EndMeeting (LST International Projects)
DESCRIPTION:This online workshop is for LST Teams who have recently returned from their international short-term projects.  It is led by LST staff\, and teams can register through LST Training web page.
URL:https://lst.org/event/endmeeting-lst-international-projects-20/
LOCATION:Online
CATEGORIES:LST Mission Projects
ORGANIZER;CN="Let's Start Talking":MAILTO:LST@LST.org
END:VEVENT
BEGIN:VEVENT
DTSTART;VALUE=DATE:20260305
DTEND;VALUE=DATE:20260306
DTSTAMP:20260420T095743
CREATED:20260105T221713Z
LAST-MODIFIED:20260105T221713Z
UID:5484-1772668800-1772755199@lst.org
SUMMARY:LST Connect GIVING DAY
DESCRIPTION:Join us in funding the good work God is directing through LST Connect. This Giving Day is a critical part of LST’s annual fundraising. Watch the website for details concerning LST’s financial need for this particular Giving Day.
URL:https://lst.org/event/lst-connect-giving-day-3/
LOCATION:Online
CATEGORIES:Fundraising,LST Connect
ORGANIZER;CN="Let's Start Talking":MAILTO:LST@LST.org
END:VEVENT
BEGIN:VEVENT
DTSTART;VALUE=DATE:20260306
DTEND;VALUE=DATE:20260316
DTSTAMP:20260420T095743
CREATED:20260124T192653Z
LAST-MODIFIED:20260124T192653Z
UID:5508-1772755200-1773619199@lst.org
SUMMARY:LST Project (Marseille\, France)
DESCRIPTION:
URL:https://lst.org/event/lst-project-marseille-france-3/
LOCATION:Marseille\, France\, Marseille\, France
CATEGORIES:LST Mission Projects
ORGANIZER;CN="Let's Start Talking":MAILTO:LST@LST.org
END:VEVENT
BEGIN:VEVENT
DTSTART;VALUE=DATE:20260307
DTEND;VALUE=DATE:20260308
DTSTAMP:20260420T095743
CREATED:20260128T161738Z
LAST-MODIFIED:20260129T141657Z
UID:5514-1772841600-1772927999@lst.org
SUMMARY:FriendSpeak Training (Loveland\, CO)
DESCRIPTION:
URL:https://lst.org/event/friendspeak-training-loveland-co/
LOCATION:Loveland\, CO\, Loveland\, Colorado
CATEGORIES:FriendSpeak
END:VEVENT
BEGIN:VEVENT
DTSTART;VALUE=DATE:20260307
DTEND;VALUE=DATE:20260308
DTSTAMP:20260420T095743
CREATED:20260128T161839Z
LAST-MODIFIED:20260129T141735Z
UID:5521-1772841600-1772927999@lst.org
SUMMARY:FriendSpeak Training (Lewisville\, TX)
DESCRIPTION:
URL:https://lst.org/event/friendspeak-training-lewisville-tx/
LOCATION:Lewisville\, TX\, Lewisville\, TX\, United States
CATEGORIES:FriendSpeak
END:VEVENT
BEGIN:VEVENT
DTSTART;TZID=America/Chicago:20260312T120000
DTEND;TZID=America/Chicago:20260312T143000
DTSTAMP:20260420T095743
CREATED:20251218T210150Z
LAST-MODIFIED:20251218T210150Z
UID:5321-1773316800-1773325800@lst.org
SUMMARY:Basic Training
DESCRIPTION:In this foundational workshop you’ll receive the basic training needed to utilize the LST approach in sharing your faith and your life with an international participant.  The focus of our time will be on the core components of the LST philosophy and methodology. Whether you’re using this training for your local FriendSpeak work\, to connect online with a Reader through LST Connect\, or preparing for an international mission project\, you are a welcome friend! Click here to register – 2026 Basic Training Registration
URL:https://lst.org/event/basic-training-130/
LOCATION:Online
CATEGORIES:FriendSpeak,LST Connect,LST Mission Projects
ORGANIZER;CN="Let's Start Talking":MAILTO:LST@LST.org
END:VEVENT
BEGIN:VEVENT
DTSTART;TZID=America/Chicago:20260315T180000
DTEND;TZID=America/Chicago:20260315T200000
DTSTAMP:20260420T095743
CREATED:20251218T221822Z
LAST-MODIFIED:20251218T221822Z
UID:5423-1773597600-1773604800@lst.org
SUMMARY:Gateway Training (LST International Projects)
DESCRIPTION:This specialized online workshop is for LST International teams who have completed most of their online training and are within a month of departure.  LST staff lead this required event\, and teams can register through the LST Training web page.
URL:https://lst.org/event/gateway-training-lst-international-projects-26/
LOCATION:Online
CATEGORIES:LST Mission Projects
ORGANIZER;CN="Let's Start Talking":MAILTO:LST@LST.org
END:VEVENT
BEGIN:VEVENT
DTSTART;VALUE=DATE:20260316
DTEND;VALUE=DATE:20260401
DTSTAMP:20260420T095743
CREATED:20260214T220507Z
LAST-MODIFIED:20260214T220507Z
UID:5542-1773619200-1775001599@lst.org
SUMMARY:LST Project (Lecce\, Italy)
DESCRIPTION:
URL:https://lst.org/event/lst-project-lecce-italy-18/
LOCATION:Lecce\, Italy\, Lecce\, Italy
CATEGORIES:LST Mission Projects
ORGANIZER;CN="Let's Start Talking":MAILTO:LST@LST.org
END:VEVENT
BEGIN:VEVENT
DTSTART;VALUE=DATE:20260319
DTEND;VALUE=DATE:20260320
DTSTAMP:20260420T095743
CREATED:20260105T220614Z
LAST-MODIFIED:20260105T220614Z
UID:5469-1773878400-1773964799@lst.org
SUMMARY:LST MeetUp
DESCRIPTION:LST MeetUp \nLST Meetups are for everyone participating in LST!  This one-hour online gathering is a time to connect with other participants\, have fun\, and continue practicing English.  If you have friends interested in LST\, invite them to this online “party!” Please register here.
URL:https://lst.org/event/lst-meetup-15/
LOCATION:Online
CATEGORIES:FriendSpeak,LST Connect,LST Mission Projects
ORGANIZER;CN="Let's Start Talking":MAILTO:LST@LST.org
END:VEVENT
BEGIN:VEVENT
DTSTART;TZID=America/Chicago:20260322T190000
DTEND;TZID=America/Chicago:20260322T213000
DTSTAMP:20260420T095743
CREATED:20251218T210259Z
LAST-MODIFIED:20251218T210259Z
UID:5323-1774206000-1774215000@lst.org
SUMMARY:Basic Training
DESCRIPTION:In this foundational workshop you’ll receive the basic training needed to utilize the LST approach in sharing your faith and your life with an international participant.  The focus of our time will be on the core components of the LST philosophy and methodology. Whether you’re using this training for your local FriendSpeak work\, to connect online with a Reader through LST Connect\, or preparing for an international mission project\, you are a welcome friend! Click here to register – 2026 Basic Training Registration
URL:https://lst.org/event/basic-training-131/
LOCATION:Online
CATEGORIES:FriendSpeak,LST Connect,LST Mission Projects
ORGANIZER;CN="Let's Start Talking":MAILTO:LST@LST.org
END:VEVENT
BEGIN:VEVENT
DTSTART;TZID=America/Chicago:20260324T200000
DTEND;TZID=America/Chicago:20260324T204500
DTSTAMP:20260420T095743
CREATED:20260105T213947Z
LAST-MODIFIED:20260105T213947Z
UID:5447-1774382400-1774385100@lst.org
SUMMARY:Exploring LST
DESCRIPTION:Exploring LST \nJoin us to learn what LST is all about and explore simple ways you can get involved. Offered once a month in 2026. Click HERE for details and to register.
URL:https://lst.org/event/exploring-lst-3/
LOCATION:Online
CATEGORIES:FriendSpeak,LST Connect,LST Mission Projects
ORGANIZER;CN="Let's Start Talking":MAILTO:LST@LST.org
END:VEVENT
BEGIN:VEVENT
DTSTART;TZID=America/Chicago:20260326T190000
DTEND;TZID=America/Chicago:20260326T200000
DTSTAMP:20260420T095743
CREATED:20251218T215739Z
LAST-MODIFIED:20251218T215821Z
UID:5389-1774551600-1774555200@lst.org
SUMMARY:EndMeeting (LST International Projects)
DESCRIPTION:This online workshop is for LST Teams who have recently returned from their international short-term projects.  It is led by LST staff\, and teams can register through LST Training web page.
URL:https://lst.org/event/endmeeting-lst-international-projects-21/
LOCATION:Online
CATEGORIES:LST Mission Projects
ORGANIZER;CN="Let's Start Talking":MAILTO:LST@LST.org
END:VEVENT
BEGIN:VEVENT
DTSTART;TZID=America/Chicago:20260329T200000
DTEND;TZID=America/Chicago:20260329T204500
DTSTAMP:20260420T095743
CREATED:20251218T213740Z
LAST-MODIFIED:20251218T213740Z
UID:5365-1774814400-1774817100@lst.org
SUMMARY:Advanced Training for Experienced LST Workers
DESCRIPTION:LST is pleased to provide specialized training for experienced Workers!  These sessions are for Workers who have been through Basic Training (or equivalent)\, have experience working with LST Readers\, and feel comfortable utilizing the LST approach.  For registered LST Connect and FriendSpeak Workers these advanced training sessions are offered for no additional fee. Click here for additional details and to register.
URL:https://lst.org/event/advanced-training-for-experienced-lst-workers-15/
LOCATION:Online
CATEGORIES:FriendSpeak,LST Connect,LST Mission Projects
ORGANIZER;CN="Let's Start Talking":MAILTO:LST@LST.org
END:VEVENT
BEGIN:VEVENT
DTSTART;VALUE=DATE:20260403
DTEND;VALUE=DATE:20260414
DTSTAMP:20260420T095743
CREATED:20260318T233813Z
LAST-MODIFIED:20260318T233813Z
UID:5622-1775174400-1776124799@lst.org
SUMMARY:LST Project (YoungFriends to Tabacundo\, Ecuador)
DESCRIPTION:
URL:https://lst.org/event/lst-project-youngfriends-to-tabacundo-ecuador/
LOCATION:Tabacundo\, Ecuador\, Tabacundo\, Ecuador
CATEGORIES:LST Mission Projects
ORGANIZER;CN="Let's Start Talking":MAILTO:LST@LST.org
END:VEVENT
BEGIN:VEVENT
DTSTART;VALUE=DATE:20260403
DTEND;VALUE=DATE:20260419
DTSTAMP:20260420T095743
CREATED:20260225T155832Z
LAST-MODIFIED:20260225T155832Z
UID:5559-1775174400-1776556799@lst.org
SUMMARY:LST Project (Lecce\, Italy)
DESCRIPTION:
URL:https://lst.org/event/lst-project-lecce-italy-19/
LOCATION:Lecce\, Italy\, Lecce\, Italy
CATEGORIES:LST Mission Projects
ORGANIZER;CN="Let's Start Talking":MAILTO:LST@LST.org
END:VEVENT
BEGIN:VEVENT
DTSTART;TZID=America/Chicago:20260409T190000
DTEND;TZID=America/Chicago:20260409T213000
DTSTAMP:20260420T095743
CREATED:20251218T210350Z
LAST-MODIFIED:20251218T210350Z
UID:5325-1775761200-1775770200@lst.org
SUMMARY:Basic Training
DESCRIPTION:In this foundational workshop you’ll receive the basic training needed to utilize the LST approach in sharing your faith and your life with an international participant.  The focus of our time will be on the core components of the LST philosophy and methodology. Whether you’re using this training for your local FriendSpeak work\, to connect online with a Reader through LST Connect\, or preparing for an international mission project\, you are a welcome friend! Click here to register – 2026 Basic Training Registration
URL:https://lst.org/event/basic-training-132/
LOCATION:Online
CATEGORIES:FriendSpeak,LST Connect,LST Mission Projects
ORGANIZER;CN="Let's Start Talking":MAILTO:LST@LST.org
END:VEVENT
BEGIN:VEVENT
DTSTART;VALUE=DATE:20260410
DTEND;VALUE=DATE:20260427
DTSTAMP:20260420T095743
CREATED:20251116T203715Z
LAST-MODIFIED:20251116T203715Z
UID:5262-1775779200-1777247999@lst.org
SUMMARY:LST Project (Buenos Aires\, Argentina)
DESCRIPTION:
URL:https://lst.org/event/lst-project-buenos-aires-argentina-20/
LOCATION:Buenos Aires\, Argentina\, Buenos Aires\, Argentina
CATEGORIES:LST Mission Projects
ORGANIZER;CN="Let's Start Talking":MAILTO:LST@LST.org
END:VEVENT
BEGIN:VEVENT
DTSTART;VALUE=DATE:20260410
DTEND;VALUE=DATE:20260427
DTSTAMP:20260420T095743
CREATED:20260219T233127Z
LAST-MODIFIED:20260219T233127Z
UID:5557-1775779200-1777247999@lst.org
SUMMARY:LST Project (Hannover\, Germany)
DESCRIPTION:
URL:https://lst.org/event/lst-project-hannover-germany-11/
LOCATION:Hannover\, Germany\, Hannover\, Germany
CATEGORIES:LST Mission Projects
ORGANIZER;CN="Let's Start Talking":MAILTO:LST@LST.org
END:VEVENT
BEGIN:VEVENT
DTSTART;VALUE=DATE:20260415
DTEND;VALUE=DATE:20260416
DTSTAMP:20260420T095743
CREATED:20260325T204002Z
LAST-MODIFIED:20260325T204002Z
UID:5644-1776211200-1776297599@lst.org
SUMMARY:FriendSpeak Training (Dallas\, TX)
DESCRIPTION:
URL:https://lst.org/event/friendspeak-training-dallas-tx/
LOCATION:Dallas\, TX\, Dallas\, TX\, United States
END:VEVENT
BEGIN:VEVENT
DTSTART;VALUE=DATE:20260417
DTEND;VALUE=DATE:20260503
DTSTAMP:20260420T095743
CREATED:20260225T200905Z
LAST-MODIFIED:20260225T200905Z
UID:5561-1776384000-1777766399@lst.org
SUMMARY:LST Project (Lecce\, Italy)
DESCRIPTION:
URL:https://lst.org/event/lst-project-lecce-italy-20/
LOCATION:Lecce\, Italy\, Lecce\, Italy
CATEGORIES:LST Mission Projects
ORGANIZER;CN="Let's Start Talking":MAILTO:LST@LST.org
END:VEVENT
BEGIN:VEVENT
DTSTART;TZID=America/Chicago:20260419T170000
DTEND;TZID=America/Chicago:20260419T190000
DTSTAMP:20260420T095743
CREATED:20251218T221906Z
LAST-MODIFIED:20260217T163147Z
UID:5425-1776618000-1776625200@lst.org
SUMMARY:Gateway Training (LST International Projects)
DESCRIPTION:This specialized online workshop is for LST International teams who have completed most of their online training and are within a month of departure.  LST staff lead this required event\, and teams can register through the LST Training web page.
URL:https://lst.org/event/gateway-training-lst-international-projects-27/
LOCATION:Online
CATEGORIES:LST Mission Projects
ORGANIZER;CN="Let's Start Talking":MAILTO:LST@LST.org
END:VEVENT
BEGIN:VEVENT
DTSTART;TZID=America/Chicago:20260419T190000
DTEND;TZID=America/Chicago:20260419T213000
DTSTAMP:20260420T095743
CREATED:20251218T210444Z
LAST-MODIFIED:20251218T210444Z
UID:5327-1776625200-1776634200@lst.org
SUMMARY:Basic Training
DESCRIPTION:In this foundational workshop you’ll receive the basic training needed to utilize the LST approach in sharing your faith and your life with an international participant.  The focus of our time will be on the core components of the LST philosophy and methodology. Whether you’re using this training for your local FriendSpeak work\, to connect online with a Reader through LST Connect\, or preparing for an international mission project\, you are a welcome friend! Click here to register – 2026 Basic Training Registration
URL:https://lst.org/event/basic-training-133/
LOCATION:Online
CATEGORIES:FriendSpeak,LST Connect,LST Mission Projects
ORGANIZER;CN="Let's Start Talking":MAILTO:LST@LST.org
END:VEVENT
BEGIN:VEVENT
DTSTART;VALUE=DATE:20260424
DTEND;VALUE=DATE:20260510
DTSTAMP:20260420T095743
CREATED:20260225T203340Z
LAST-MODIFIED:20260225T203340Z
UID:5563-1776988800-1778371199@lst.org
SUMMARY:LST Project (Buenos Aires\, Argentina)
DESCRIPTION:
URL:https://lst.org/event/lst-project-buenos-aires-argentina-21/
LOCATION:Buenos Aires\, Argentina\, Buenos Aires\, Argentina
CATEGORIES:LST Mission Projects
ORGANIZER;CN="Let's Start Talking":MAILTO:LST@LST.org
END:VEVENT
BEGIN:VEVENT
DTSTART;TZID=America/Chicago:20260428T120000
DTEND;TZID=America/Chicago:20260428T124500
DTSTAMP:20260420T095743
CREATED:20260105T214043Z
LAST-MODIFIED:20260105T214043Z
UID:5449-1777377600-1777380300@lst.org
SUMMARY:Exploring LST
DESCRIPTION:Exploring LST \nJoin us to learn what LST is all about and explore simple ways you can get involved. Offered once a month in 2026. Click HERE for details and to register.
URL:https://lst.org/event/exploring-lst-4/
LOCATION:Online
CATEGORIES:FriendSpeak,LST Connect,LST Mission Projects
ORGANIZER;CN="Let's Start Talking":MAILTO:LST@LST.org
END:VEVENT
BEGIN:VEVENT
DTSTART;TZID=America/Chicago:20260429T120000
DTEND;TZID=America/Chicago:20260429T124500
DTSTAMP:20260420T095743
CREATED:20251218T213833Z
LAST-MODIFIED:20251218T213833Z
UID:5367-1777464000-1777466700@lst.org
SUMMARY:Advanced Training for Experienced LST Workers
DESCRIPTION:LST is pleased to provide specialized training for experienced Workers!  These sessions are for Workers who have been through Basic Training (or equivalent)\, have experience working with LST Readers\, and feel comfortable utilizing the LST approach.  For registered LST Connect and FriendSpeak Workers these advanced training sessions are offered for no additional fee. Click here for additional details and to register.
URL:https://lst.org/event/advanced-training-for-experienced-lst-workers-16/
LOCATION:Online
CATEGORIES:FriendSpeak,LST Connect,LST Mission Projects
ORGANIZER;CN="Let's Start Talking":MAILTO:LST@LST.org
END:VEVENT
BEGIN:VEVENT
DTSTART;TZID=America/Chicago:20260430T190000
DTEND;TZID=America/Chicago:20260430T200000
DTSTAMP:20260420T095743
CREATED:20251218T215912Z
LAST-MODIFIED:20251218T215912Z
UID:5391-1777575600-1777579200@lst.org
SUMMARY:EndMeeting (LST International Projects)
DESCRIPTION:This online workshop is for LST Teams who have recently returned from their international short-term projects.  It is led by LST staff\, and teams can register through LST Training web page.
URL:https://lst.org/event/endmeeting-lst-international-projects-22/
LOCATION:Online
CATEGORIES:LST Mission Projects
ORGANIZER;CN="Let's Start Talking":MAILTO:LST@LST.org
END:VEVENT
BEGIN:VEVENT
DTSTART;VALUE=DATE:20260501
DTEND;VALUE=DATE:20260531
DTSTAMP:20260420T095743
CREATED:20251112T160205Z
LAST-MODIFIED:20251112T160205Z
UID:5253-1777593600-1780185599@lst.org
SUMMARY:LST Project (Lecce\, Italy)
DESCRIPTION:
URL:https://lst.org/event/lst-project-lecce-italy-15/
LOCATION:Lecce\, Italy\, Lecce\, Italy
CATEGORIES:LST Mission Projects
ORGANIZER;CN="Let's Start Talking":MAILTO:LST@LST.org
END:VEVENT
BEGIN:VEVENT
DTSTART;VALUE=DATE:20260502
DTEND;VALUE=DATE:20260503
DTSTAMP:20260420T095743
CREATED:20260325T203621Z
LAST-MODIFIED:20260325T203621Z
UID:5637-1777680000-1777766399@lst.org
SUMMARY:FriendSpeak Training (Olympia\, WA)
DESCRIPTION:
URL:https://lst.org/event/friendspeak-training-olympia-wa/
LOCATION:Olympia\, WA\, Olympia\, Washington
END:VEVENT
BEGIN:VEVENT
DTSTART;VALUE=DATE:20260504
DTEND;VALUE=DATE:20260614
DTSTAMP:20260420T095743
CREATED:20260225T212953Z
LAST-MODIFIED:20260225T212953Z
UID:5567-1777852800-1781395199@lst.org
SUMMARY:LST Project (Seoul\, South Korea)
DESCRIPTION:
URL:https://lst.org/event/lst-project-seoul-south-korea-10/
LOCATION:Seoul\, South Korea\, Seoul\, Korea\, Democratic People's Republic of
CATEGORIES:LST Mission Projects
ORGANIZER;CN="Let's Start Talking":MAILTO:LST@LST.org
END:VEVENT
BEGIN:VEVENT
DTSTART;VALUE=DATE:20260507
DTEND;VALUE=DATE:20260508
DTSTAMP:20260420T095743
CREATED:20260105T221826Z
LAST-MODIFIED:20260105T221826Z
UID:5487-1778112000-1778198399@lst.org
SUMMARY:FriendSpeak GIVING DAY
DESCRIPTION:Join us in funding the good work God is directing through LST’s FriendSpeak program. This Giving Day is a critical part of LST’s annual fundraising. Watch the website for details concerning LST’s financial need for this particular Giving Day.
URL:https://lst.org/event/friendspeak-giving-day-3/
LOCATION:Online
CATEGORIES:FriendSpeak,Fundraising
ORGANIZER;CN="Let's Start Talking":MAILTO:LST@LST.org
END:VEVENT
END:VCALENDAR