BEGIN:VCALENDAR
VERSION:2.0
PRODID:-//Let&#039;s Start Talking - ECPv6.15.20//NONSGML v1.0//EN
CALSCALE:GREGORIAN
METHOD:PUBLISH
X-WR-CALNAME:Let&#039;s Start Talking
X-ORIGINAL-URL:https://lst.org
X-WR-CALDESC:Events for Let&#039;s Start Talking
REFRESH-INTERVAL;VALUE=DURATION:PT1H
X-Robots-Tag:noindex
X-PUBLISHED-TTL:PT1H
BEGIN:VTIMEZONE
TZID:America/Chicago
BEGIN:DAYLIGHT
TZOFFSETFROM:-0600
TZOFFSETTO:-0500
TZNAME:CDT
DTSTART:20240310T080000
END:DAYLIGHT
BEGIN:STANDARD
TZOFFSETFROM:-0500
TZOFFSETTO:-0600
TZNAME:CST
DTSTART:20241103T070000
END:STANDARD
BEGIN:DAYLIGHT
TZOFFSETFROM:-0600
TZOFFSETTO:-0500
TZNAME:CDT
DTSTART:20250309T080000
END:DAYLIGHT
BEGIN:STANDARD
TZOFFSETFROM:-0500
TZOFFSETTO:-0600
TZNAME:CST
DTSTART:20251102T070000
END:STANDARD
BEGIN:DAYLIGHT
TZOFFSETFROM:-0600
TZOFFSETTO:-0500
TZNAME:CDT
DTSTART:20260308T080000
END:DAYLIGHT
BEGIN:STANDARD
TZOFFSETFROM:-0500
TZOFFSETTO:-0600
TZNAME:CST
DTSTART:20261101T070000
END:STANDARD
END:VTIMEZONE
BEGIN:VEVENT
DTSTART;TZID=America/Chicago:20250529T190000
DTEND;TZID=America/Chicago:20250529T200000
DTSTAMP:20260420T101444
CREATED:20241220T194725Z
LAST-MODIFIED:20241220T194725Z
UID:4925-1748545200-1748548800@lst.org
SUMMARY:EndMeeting (LST International Projects)
DESCRIPTION:This online workshop is for LST Teams who have recently returned from their international projects.  It is led by LST staff\, and teams can register through their online training platform.
URL:https://lst.org/event/endmeeting-lst-international-projects-6/
LOCATION:Online
CATEGORIES:LST Mission Projects
ORGANIZER;CN="Let's Start Talking":MAILTO:LST@LST.org
END:VEVENT
BEGIN:VEVENT
DTSTART;TZID=America/Chicago:20250529T120000
DTEND;TZID=America/Chicago:20250529T130000
DTSTAMP:20260420T101444
CREATED:20241220T194637Z
LAST-MODIFIED:20241220T194637Z
UID:4923-1748520000-1748523600@lst.org
SUMMARY:EndMeeting (LST International Projects)
DESCRIPTION:This online workshop is for LST Teams who have recently returned from their international projects.  It is led by LST staff\, and teams can register through their online training platform.
URL:https://lst.org/event/endmeeting-lst-international-projects-5/
LOCATION:Online
CATEGORIES:LST Mission Projects
ORGANIZER;CN="Let's Start Talking":MAILTO:LST@LST.org
END:VEVENT
BEGIN:VEVENT
DTSTART;VALUE=DATE:20250526
DTEND;VALUE=DATE:20250629
DTSTAMP:20260420T101444
CREATED:20250206T230115Z
LAST-MODIFIED:20250206T230115Z
UID:5020-1748217600-1751155199@lst.org
SUMMARY:LST Project (Seoul\, South Korea)
DESCRIPTION:
URL:https://lst.org/event/lst-project-seoul-south-korea-8/
LOCATION:Seoul\, South Korea\, Seoul\, Korea\, Democratic People's Republic of
CATEGORIES:LST Mission Projects
ORGANIZER;CN="Let's Start Talking":MAILTO:LST@LST.org
END:VEVENT
BEGIN:VEVENT
DTSTART;TZID=America/Chicago:20250522T190000
DTEND;TZID=America/Chicago:20250522T213000
DTSTAMP:20260420T101444
CREATED:20241214T002034Z
LAST-MODIFIED:20241214T002034Z
UID:4808-1747940400-1747949400@lst.org
SUMMARY:Basic Training
DESCRIPTION:In this foundational workshop you’ll receive the basic training needed to utilize the LST approach in sharing your faith and your life with an international participant.  The focus of our time will be on the core components of the LST philosophy and methodology. Whether you’re using this training for your local FriendSpeak work\, to connect online with a Reader through LST Connect\, or preparing for an international mission project\, you are a welcome friend! Click here to register – 2025 Basic Training Registration
URL:https://lst.org/event/basic-training-111/
LOCATION:Online
CATEGORIES:FriendSpeak,LST Connect,LST Mission Projects
ORGANIZER;CN="Let's Start Talking":MAILTO:LST@LST.org
END:VEVENT
BEGIN:VEVENT
DTSTART;TZID=America/Chicago:20250518T200000
DTEND;TZID=America/Chicago:20250518T210000
DTSTAMP:20260420T101444
CREATED:20241218T223335Z
LAST-MODIFIED:20241218T223335Z
UID:4873-1747598400-1747602000@lst.org
SUMMARY:Advanced Training for Experienced LST Workers
DESCRIPTION:LST is pleased to provide specialized training for experienced Workers!  These sessions are for Workers who have been through Basic Training (or equivalent)\, have experience working with LST Readers\, and feel comfortable utilizing the LST approach.  For registered LST Connect and FriendSpeak Workers these advanced training sessions are offered for no additional fee. Click here for additional details and to register.
URL:https://lst.org/event/advanced-training-for-experienced-lst-workers-5/
LOCATION:Online
CATEGORIES:FriendSpeak,LST Connect,LST Mission Projects
ORGANIZER;CN="Let's Start Talking":MAILTO:LST@LST.org
END:VEVENT
BEGIN:VEVENT
DTSTART;TZID=America/Chicago:20250518T180000
DTEND;TZID=America/Chicago:20250518T200000
DTSTAMP:20260420T101444
CREATED:20241220T173839Z
LAST-MODIFIED:20241220T173839Z
UID:4898-1747591200-1747598400@lst.org
SUMMARY:Gateway Training (LST International Projects)
DESCRIPTION:This specialized online workshop is for LST International teams who have completed most of their online training and are within a month of departure.  LST staff lead this required event. Teams can register through their online training platform.
URL:https://lst.org/event/gateway-training-lst-international-projects-16/
LOCATION:Online
CATEGORIES:LST Mission Projects
ORGANIZER;CN="Let's Start Talking":MAILTO:LST@LST.org
END:VEVENT
BEGIN:VEVENT
DTSTART;VALUE=DATE:20250516
DTEND;VALUE=DATE:20250629
DTSTAMP:20260420T101444
CREATED:20241204T220944Z
LAST-MODIFIED:20241204T220944Z
UID:4757-1747353600-1751155199@lst.org
SUMMARY:LST Project (Joao Pessoa\, Brazil)
DESCRIPTION:
URL:https://lst.org/event/lst-project-joao-pessoa-brazil/
LOCATION:Joao Pessoa\, Brazil\, Joao Pessoa\, Brazil
CATEGORIES:LST Mission Projects
ORGANIZER;CN="Let's Start Talking":MAILTO:LST@LST.org
END:VEVENT
BEGIN:VEVENT
DTSTART;VALUE=DATE:20250512
DTEND;VALUE=DATE:20250622
DTSTAMP:20260420T101444
CREATED:20241216T163620Z
LAST-MODIFIED:20241216T173040Z
UID:4846-1747008000-1750550399@lst.org
SUMMARY:LST Project (Murcia/Alcantarilla\, Spain)
DESCRIPTION:
URL:https://lst.org/event/lst-project-murcia-alcantarilla-spain/
LOCATION:Murcia\, Spain\, Murcia\, Spain
CATEGORIES:LST Mission Projects
ORGANIZER;CN="Let's Start Talking":MAILTO:LST@LST.org
END:VEVENT
BEGIN:VEVENT
DTSTART;VALUE=DATE:20250510
DTEND;VALUE=DATE:20250622
DTSTAMP:20260420T101444
CREATED:20241204T220604Z
LAST-MODIFIED:20241204T220738Z
UID:4753-1746835200-1750550399@lst.org
SUMMARY:LST Project (Buenos Aires\, Argentina)
DESCRIPTION:
URL:https://lst.org/event/lst-project-buenos-aires-argentina-15/
LOCATION:Buenos Aires\, Argentina\, Buenos Aires\, Argentina
CATEGORIES:LST Mission Projects
ORGANIZER;CN="Let's Start Talking":MAILTO:LST@LST.org
END:VEVENT
BEGIN:VEVENT
DTSTART;VALUE=DATE:20250509
DTEND;VALUE=DATE:20250622
DTSTAMP:20260420T101444
CREATED:20250206T222732Z
LAST-MODIFIED:20250206T222732Z
UID:5012-1746748800-1750550399@lst.org
SUMMARY:LST Project (Kasama\, Japan)
DESCRIPTION:
URL:https://lst.org/event/lst-project-kasama-japan/
LOCATION:Kasama\, Japan\, Kasama\, Japan
CATEGORIES:LST Mission Projects
ORGANIZER;CN="Let's Start Talking":MAILTO:LST@LST.org
END:VEVENT
BEGIN:VEVENT
DTSTART;VALUE=DATE:20250509
DTEND;VALUE=DATE:20250601
DTSTAMP:20260420T101444
CREATED:20241216T174726Z
LAST-MODIFIED:20241216T174726Z
UID:4856-1746748800-1748735999@lst.org
SUMMARY:LST Project (Lecce\, Italy)
DESCRIPTION:
URL:https://lst.org/event/lst-project-lecce-italy-14/
LOCATION:Lecce\, Italy\, Lecce\, Italy
CATEGORIES:LST Mission Projects
ORGANIZER;CN="Let's Start Talking":MAILTO:LST@LST.org
END:VEVENT
BEGIN:VEVENT
DTSTART;VALUE=DATE:20250507
DTEND;VALUE=DATE:20250608
DTSTAMP:20260420T101444
CREATED:20241204T220316Z
LAST-MODIFIED:20241204T220316Z
UID:4751-1746576000-1749340799@lst.org
SUMMARY:LST Project (Florianopolis\, Brazil)
DESCRIPTION:
URL:https://lst.org/event/lst-project-florianopolis-brazil-3/
LOCATION:Florianopolis\, Brazil\, Florianopolis\, Brazil
CATEGORIES:LST Mission Projects
ORGANIZER;CN="Let's Start Talking":MAILTO:LST@LST.org
END:VEVENT
BEGIN:VEVENT
DTSTART;TZID=America/Chicago:20250504T190000
DTEND;TZID=America/Chicago:20250504T213000
DTSTAMP:20260420T101444
CREATED:20241214T001940Z
LAST-MODIFIED:20241214T001940Z
UID:4806-1746385200-1746394200@lst.org
SUMMARY:Basic Training
DESCRIPTION:In this foundational workshop you’ll receive the basic training needed to utilize the LST approach in sharing your faith and your life with an international participant.  The focus of our time will be on the core components of the LST philosophy and methodology. Whether you’re using this training for your local FriendSpeak work\, to connect online with a Reader through LST Connect\, or preparing for an international mission project\, you are a welcome friend! Click here to register – 2025 Basic Training Registration
URL:https://lst.org/event/basic-training-110/
LOCATION:Online
CATEGORIES:FriendSpeak,LST Connect,LST Mission Projects
ORGANIZER;CN="Let's Start Talking":MAILTO:LST@LST.org
END:VEVENT
BEGIN:VEVENT
DTSTART;VALUE=DATE:20250501
DTEND;VALUE=DATE:20250502
DTSTAMP:20260420T101444
CREATED:20241214T003346Z
LAST-MODIFIED:20241214T003346Z
UID:4840-1746057600-1746143999@lst.org
SUMMARY:Fundraising-LST FriendSpeak Giving Day 2025
DESCRIPTION:
URL:https://lst.org/event/fundraising-lst-friendspeak-giving-day-2025/
CATEGORIES:Fundraising
ORGANIZER;CN="Let's Start Talking":MAILTO:LST@LST.org
END:VEVENT
BEGIN:VEVENT
DTSTART;VALUE=DATE:20250430
DTEND;VALUE=DATE:20250501
DTSTAMP:20260420T101444
CREATED:20250416T201859Z
LAST-MODIFIED:20250416T201859Z
UID:5069-1745971200-1746057599@lst.org
SUMMARY:FriendSpeak Leadership Training
DESCRIPTION:
URL:https://lst.org/event/friendspeak-leadership-training-2/
LOCATION:Online
END:VEVENT
BEGIN:VEVENT
DTSTART;TZID=America/Chicago:20250427T180000
DTEND;TZID=America/Chicago:20250427T200000
DTSTAMP:20260420T101444
CREATED:20241220T173755Z
LAST-MODIFIED:20241220T173755Z
UID:4896-1745776800-1745784000@lst.org
SUMMARY:Gateway Training (LST International Projects)
DESCRIPTION:This specialized online workshop is for LST International teams who have completed most of their online training and are within a month of departure.  LST staff lead this required event. Teams can register through their online training platform.
URL:https://lst.org/event/gateway-training-lst-international-projects-15/
LOCATION:Online
CATEGORIES:LST Mission Projects
ORGANIZER;CN="Let's Start Talking":MAILTO:LST@LST.org
END:VEVENT
BEGIN:VEVENT
DTSTART;VALUE=DATE:20250426
DTEND;VALUE=DATE:20250511
DTSTAMP:20260420T101444
CREATED:20250207T002050Z
LAST-MODIFIED:20250207T002050Z
UID:5022-1745625600-1746921599@lst.org
SUMMARY:LST Project (West Springfield\, MA)
DESCRIPTION:
URL:https://lst.org/event/lst-project-west-springfield-ma-11/
LOCATION:West Springfield\, MA\, West Springfield\, MA\, United States
CATEGORIES:LST Mission Projects
ORGANIZER;CN="Let's Start Talking":MAILTO:LST@LST.org
END:VEVENT
BEGIN:VEVENT
DTSTART;TZID=America/Chicago:20250424T120000
DTEND;TZID=America/Chicago:20250424T143000
DTSTAMP:20260420T101444
CREATED:20241214T001858Z
LAST-MODIFIED:20241214T001858Z
UID:4804-1745496000-1745505000@lst.org
SUMMARY:Basic Training
DESCRIPTION:In this foundational workshop you’ll receive the basic training needed to utilize the LST approach in sharing your faith and your life with an international participant.  The focus of our time will be on the core components of the LST philosophy and methodology. Whether you’re using this training for your local FriendSpeak work\, to connect online with a Reader through LST Connect\, or preparing for an international mission project\, you are a welcome friend! Click here to register – 2025 Basic Training Registration
URL:https://lst.org/event/basic-training-109/
LOCATION:Online
CATEGORIES:FriendSpeak,LST Connect,LST Mission Projects
ORGANIZER;CN="Let's Start Talking":MAILTO:LST@LST.org
END:VEVENT
BEGIN:VEVENT
DTSTART;VALUE=DATE:20250424
DTEND;VALUE=DATE:20250511
DTSTAMP:20260420T101444
CREATED:20241204T215712Z
LAST-MODIFIED:20241204T215820Z
UID:4747-1745452800-1746921599@lst.org
SUMMARY:LST Project (Lecce\, Italy)
DESCRIPTION:
URL:https://lst.org/event/lst-project-lecce-italy-12/
LOCATION:Lecce\, Italy\, Lecce\, Italy
CATEGORIES:LST Mission Projects
ORGANIZER;CN="Let's Start Talking":MAILTO:LST@LST.org
END:VEVENT
BEGIN:VEVENT
DTSTART;TZID=America/Chicago:20250423T120000
DTEND;TZID=America/Chicago:20250423T130000
DTSTAMP:20260420T101444
CREATED:20241218T223240Z
LAST-MODIFIED:20241218T223240Z
UID:4871-1745409600-1745413200@lst.org
SUMMARY:Advanced Training for Experienced LST Workers
DESCRIPTION:LST is pleased to provide specialized training for experienced Workers!  These sessions are for Workers who have been through Basic Training (or equivalent)\, have experience working with LST Readers\, and feel comfortable utilizing the LST approach.  For registered LST Connect and FriendSpeak Workers these advanced training sessions are offered for no additional fee. Click here for additional details and to register.
URL:https://lst.org/event/advanced-training-for-experienced-lst-workers-4/
LOCATION:Online
CATEGORIES:FriendSpeak,LST Connect,LST Mission Projects
ORGANIZER;CN="Let's Start Talking":MAILTO:LST@LST.org
END:VEVENT
BEGIN:VEVENT
DTSTART;TZID=America/Chicago:20250417T120000
DTEND;TZID=America/Chicago:20250417T130000
DTSTAMP:20260420T101444
CREATED:20241220T194544Z
LAST-MODIFIED:20241220T194544Z
UID:4921-1744891200-1744894800@lst.org
SUMMARY:EndMeeting (LST International Projects)
DESCRIPTION:This online workshop is for LST Teams who have recently returned from their international projects.  It is led by LST staff\, and teams can register through their online training platform.
URL:https://lst.org/event/endmeeting-lst-international-projects-4/
LOCATION:Online
CATEGORIES:LST Mission Projects
ORGANIZER;CN="Let's Start Talking":MAILTO:LST@LST.org
END:VEVENT
BEGIN:VEVENT
DTSTART;TZID=America/Chicago:20250413T190000
DTEND;TZID=America/Chicago:20250413T213000
DTSTAMP:20260420T101444
CREATED:20241214T001817Z
LAST-MODIFIED:20241214T001817Z
UID:4802-1744570800-1744579800@lst.org
SUMMARY:Basic Training
DESCRIPTION:In this foundational workshop you’ll receive the basic training needed to utilize the LST approach in sharing your faith and your life with an international participant.  The focus of our time will be on the core components of the LST philosophy and methodology. Whether you’re using this training for your local FriendSpeak work\, to connect online with a Reader through LST Connect\, or preparing for an international mission project\, you are a welcome friend! Click here to register – 2025 Basic Training Registration
URL:https://lst.org/event/basic-training-108/
LOCATION:Online
CATEGORIES:FriendSpeak,LST Connect,LST Mission Projects
ORGANIZER;CN="Let's Start Talking":MAILTO:LST@LST.org
END:VEVENT
BEGIN:VEVENT
DTSTART;TZID=America/Chicago:20250410T190000
DTEND;TZID=America/Chicago:20250410T213000
DTSTAMP:20260420T101444
CREATED:20241214T001724Z
LAST-MODIFIED:20241214T001724Z
UID:4800-1744311600-1744320600@lst.org
SUMMARY:Basic Training
DESCRIPTION:In this foundational workshop you’ll receive the basic training needed to utilize the LST approach in sharing your faith and your life with an international participant.  The focus of our time will be on the core components of the LST philosophy and methodology. Whether you’re using this training for your local FriendSpeak work\, to connect online with a Reader through LST Connect\, or preparing for an international mission project\, you are a welcome friend! Click here to register – 2025 Basic Training Registration
URL:https://lst.org/event/basic-training-107/
LOCATION:Online
CATEGORIES:FriendSpeak,LST Connect,LST Mission Projects
ORGANIZER;CN="Let's Start Talking":MAILTO:LST@LST.org
END:VEVENT
BEGIN:VEVENT
DTSTART;VALUE=DATE:20250405
DTEND;VALUE=DATE:20250406
DTSTAMP:20260420T101444
CREATED:20250313T191553Z
LAST-MODIFIED:20250313T191553Z
UID:5053-1743811200-1743897599@lst.org
SUMMARY:FriendSpeak Training Seminar (Marietta\, GA)
DESCRIPTION:
URL:https://lst.org/event/friendspeak-training-seminar-marietta-ga/
LOCATION:Marietta\, GA\, Marietta\, Georgia
CATEGORIES:FriendSpeak
END:VEVENT
BEGIN:VEVENT
DTSTART;TZID=America/Chicago:20250330T200000
DTEND;TZID=America/Chicago:20250330T210000
DTSTAMP:20260420T101444
CREATED:20241218T223143Z
LAST-MODIFIED:20241218T223143Z
UID:4869-1743364800-1743368400@lst.org
SUMMARY:Advanced Training for Experienced LST Workers
DESCRIPTION:LST is pleased to provide specialized training for experienced Workers!  These sessions are for Workers who have been through Basic Training (or equivalent)\, have experience working with LST Readers\, and feel comfortable utilizing the LST approach.  For registered LST Connect and FriendSpeak Workers these advanced training sessions are offered for no additional fee. Click here for additional details and to register.
URL:https://lst.org/event/advanced-training-for-experienced-lst-workers-3/
LOCATION:Online
CATEGORIES:FriendSpeak,LST Connect,LST Mission Projects
ORGANIZER;CN="Let's Start Talking":MAILTO:LST@LST.org
END:VEVENT
BEGIN:VEVENT
DTSTART;TZID=America/Chicago:20250330T180000
DTEND;TZID=America/Chicago:20250330T200000
DTSTAMP:20260420T101444
CREATED:20241220T173711Z
LAST-MODIFIED:20241220T173711Z
UID:4894-1743357600-1743364800@lst.org
SUMMARY:Gateway Training (LST International Projects)
DESCRIPTION:This specialized online workshop is for LST International teams who have completed most of their online training and are within a month of departure.  LST staff lead this required event. Teams can register through their online training platform.
URL:https://lst.org/event/gateway-training-lst-international-projects-14/
LOCATION:Online
CATEGORIES:LST Mission Projects
ORGANIZER;CN="Let's Start Talking":MAILTO:LST@LST.org
END:VEVENT
BEGIN:VEVENT
DTSTART;TZID=America/Chicago:20250327T120000
DTEND;TZID=America/Chicago:20250327T130000
DTSTAMP:20260420T101444
CREATED:20241220T194438Z
LAST-MODIFIED:20241220T194438Z
UID:4919-1743076800-1743080400@lst.org
SUMMARY:EndMeeting (LST International Projects)
DESCRIPTION:This online workshop is for LST Teams who have recently returned from their international projects.  It is led by LST staff\, and teams can register through their online training platform.
URL:https://lst.org/event/endmeeting-lst-international-projects-3/
LOCATION:Online
CATEGORIES:LST Mission Projects
ORGANIZER;CN="Let's Start Talking":MAILTO:LST@LST.org
END:VEVENT
BEGIN:VEVENT
DTSTART;VALUE=DATE:20250327
DTEND;VALUE=DATE:20250413
DTSTAMP:20260420T101444
CREATED:20250210T170119Z
LAST-MODIFIED:20250210T170119Z
UID:5024-1743033600-1744502399@lst.org
SUMMARY:LST Project (Buenos Aires\, Argentina)
DESCRIPTION:
URL:https://lst.org/event/lst-project-buenos-aires-argentina-16/
LOCATION:Buenos Aires\, Argentina\, Buenos Aires\, Argentina
ORGANIZER;CN="Let's Start Talking":MAILTO:LST@LST.org
END:VEVENT
BEGIN:VEVENT
DTSTART;TZID=America/Chicago:20250323T190000
DTEND;TZID=America/Chicago:20250323T213000
DTSTAMP:20260420T101444
CREATED:20241214T001632Z
LAST-MODIFIED:20241214T001632Z
UID:4798-1742756400-1742765400@lst.org
SUMMARY:Basic Training
DESCRIPTION:In this foundational workshop you’ll receive the basic training needed to utilize the LST approach in sharing your faith and your life with an international participant.  The focus of our time will be on the core components of the LST philosophy and methodology. Whether you’re using this training for your local FriendSpeak work\, to connect online with a Reader through LST Connect\, or preparing for an international mission project\, you are a welcome friend! Click here to register – 2025 Basic Training Registration
URL:https://lst.org/event/basic-training-106/
LOCATION:Online
CATEGORIES:FriendSpeak,LST Connect,LST Mission Projects
ORGANIZER;CN="Let's Start Talking":MAILTO:LST@LST.org
END:VEVENT
BEGIN:VEVENT
DTSTART;VALUE=DATE:20250321
DTEND;VALUE=DATE:20250413
DTSTAMP:20260420T101444
CREATED:20241204T215428Z
LAST-MODIFIED:20241204T215557Z
UID:4745-1742515200-1744502399@lst.org
SUMMARY:LST Project (Hannover\, Germany)
DESCRIPTION:
URL:https://lst.org/event/lst-project-hannover-germany-7/
LOCATION:Hannover\, Germany\, Hannover\, Germany
CATEGORIES:LST Mission Projects
ORGANIZER;CN="Let's Start Talking":MAILTO:LST@LST.org
END:VEVENT
END:VCALENDAR