BEGIN:VCALENDAR
VERSION:2.0
PRODID:-//Let&#039;s Start Talking - ECPv6.15.20//NONSGML v1.0//EN
CALSCALE:GREGORIAN
METHOD:PUBLISH
X-WR-CALNAME:Let&#039;s Start Talking
X-ORIGINAL-URL:https://lst.org
X-WR-CALDESC:Events for Let&#039;s Start Talking
REFRESH-INTERVAL;VALUE=DURATION:PT1H
X-Robots-Tag:noindex
X-PUBLISHED-TTL:PT1H
BEGIN:VTIMEZONE
TZID:America/Chicago
BEGIN:DAYLIGHT
TZOFFSETFROM:-0600
TZOFFSETTO:-0500
TZNAME:CDT
DTSTART:20230312T080000
END:DAYLIGHT
BEGIN:STANDARD
TZOFFSETFROM:-0500
TZOFFSETTO:-0600
TZNAME:CST
DTSTART:20231105T070000
END:STANDARD
BEGIN:DAYLIGHT
TZOFFSETFROM:-0600
TZOFFSETTO:-0500
TZNAME:CDT
DTSTART:20240310T080000
END:DAYLIGHT
BEGIN:STANDARD
TZOFFSETFROM:-0500
TZOFFSETTO:-0600
TZNAME:CST
DTSTART:20241103T070000
END:STANDARD
BEGIN:DAYLIGHT
TZOFFSETFROM:-0600
TZOFFSETTO:-0500
TZNAME:CDT
DTSTART:20250309T080000
END:DAYLIGHT
BEGIN:STANDARD
TZOFFSETFROM:-0500
TZOFFSETTO:-0600
TZNAME:CST
DTSTART:20251102T070000
END:STANDARD
END:VTIMEZONE
BEGIN:VEVENT
DTSTART;TZID=America/Chicago:20241110T180000
DTEND;TZID=America/Chicago:20241110T200000
DTSTAMP:20260421T145223
CREATED:20231212T212930Z
LAST-MODIFIED:20231212T212930Z
UID:4141-1731261600-1731268800@lst.org
SUMMARY:Gateway Training (LST International Projects)
DESCRIPTION:This specialized online workshop is for LST International teams who have completed most of their online training and are within a month of departure.  LST staff lead this required event. Teams can register through their online training platform.
URL:https://lst.org/event/gateway-training-lst-international-projects-10/
LOCATION:Online
CATEGORIES:LST Mission Projects
ORGANIZER;CN="Let's Start Talking":MAILTO:LST@LST.org
END:VEVENT
BEGIN:VEVENT
DTSTART;TZID=America/Chicago:20241103T190000
DTEND;TZID=America/Chicago:20241103T213000
DTSTAMP:20260421T145223
CREATED:20231212T163433Z
LAST-MODIFIED:20231212T163518Z
UID:4113-1730660400-1730669400@lst.org
SUMMARY:Basic Training
DESCRIPTION:In this foundational workshop you’ll receive the basic training needed to utilize the LST approach in sharing your faith and your life with an international friend.  The focus of our time will be on the core components of the LST philosophy and methodology. Whether you’re using this training for your local FriendSpeak work\, to connect online with a Reader through LST Connect\, or preparing for an international mission project\, you are a welcome friend! Click here to register – 2024 Basic Training Registration
URL:https://lst.org/event/basic-training-97/
LOCATION:Online
CATEGORIES:FriendSpeak,LST Connect,LST Mission Projects
ORGANIZER;CN="Let's Start Talking":MAILTO:LST@LST.org
END:VEVENT
BEGIN:VEVENT
DTSTART;TZID=America/Chicago:20241030T120000
DTEND;TZID=America/Chicago:20241030T130000
DTSTAMP:20260421T145223
CREATED:20231220T164901Z
LAST-MODIFIED:20231220T164901Z
UID:4204-1730289600-1730293200@lst.org
SUMMARY:Advanced Training
DESCRIPTION:LST is pleased to provide specialized training for experienced Workers!  These sessions are for Workers who have been through Basic Training (or equivalent)\, have experience working with LST Readers\, and feel comfortable utilizing the LST approach.  For registered LST Connect and FriendSpeak Workers these advanced training sessions are offered for no additional fee. Click here for additional details and to register.
URL:https://lst.org/event/advanced-training-10/
LOCATION:Online
CATEGORIES:FriendSpeak,LST Connect,LST Mission Projects
ORGANIZER;CN="Let's Start Talking":MAILTO:LST@LST.org
END:VEVENT
BEGIN:VEVENT
DTSTART;TZID=America/Chicago:20241027T180000
DTEND;TZID=America/Chicago:20241027T200000
DTSTAMP:20260421T145223
CREATED:20231212T212833Z
LAST-MODIFIED:20231212T212833Z
UID:4139-1730052000-1730059200@lst.org
SUMMARY:Gateway Training (LST International Projects)
DESCRIPTION:This specialized online workshop is for LST International teams who have completed most of their online training and are within a month of departure.  LST staff lead this required event. Teams can register through their online training platform.
URL:https://lst.org/event/gateway-training-lst-international-projects-9/
LOCATION:Online
CATEGORIES:LST Mission Projects
ORGANIZER;CN="Let's Start Talking":MAILTO:LST@LST.org
END:VEVENT
BEGIN:VEVENT
DTSTART;VALUE=DATE:20241026
DTEND;VALUE=DATE:20241027
DTSTAMP:20260421T145223
CREATED:20240927T211752Z
LAST-MODIFIED:20240927T211832Z
UID:4611-1729900800-1729987199@lst.org
SUMMARY:FriendSpeak Training (Indianapolis\, IN)
DESCRIPTION:
URL:https://lst.org/event/friendspeak-training-indianapolis-in-2/
LOCATION:Indianapolis\, IN\, Indianapolis\, IN\, United States
CATEGORIES:FriendSpeak
END:VEVENT
BEGIN:VEVENT
DTSTART;TZID=America/Chicago:20241024T120000
DTEND;TZID=America/Chicago:20241024T143000
DTSTAMP:20260421T145223
CREATED:20231212T163244Z
LAST-MODIFIED:20231212T163244Z
UID:4111-1729771200-1729780200@lst.org
SUMMARY:Basic Training
DESCRIPTION:In this foundational workshop you’ll receive the basic training needed to utilize the LST approach in sharing your faith and your life with an international friend.  The focus of our time will be on the core components of the LST philosophy and methodology. Whether you’re using this training for your local FriendSpeak work\, to connect online with a Reader through LST Connect\, or preparing for an international mission project\, you are a welcome friend! Click here to register – 2024 Basic Training Registration
URL:https://lst.org/event/basic-training-96/
LOCATION:Online
CATEGORIES:FriendSpeak,LST Connect,LST Mission Projects
ORGANIZER;CN="Let's Start Talking":MAILTO:LST@LST.org
END:VEVENT
BEGIN:VEVENT
DTSTART;TZID=America/Chicago:20241023T190000
DTEND;TZID=America/Chicago:20241024T190000
DTSTAMP:20260421T145223
CREATED:20240610T191000Z
LAST-MODIFIED:20240610T191000Z
UID:4450-1729710000-1729796400@lst.org
SUMMARY:24 Hours of Prayer on Behalf of LST and the LST Family
DESCRIPTION:
URL:https://lst.org/event/24-hours-of-prayer-on-behalf-of-lst-and-the-lst-family/
LOCATION:Online
ORGANIZER;CN="Let's Start Talking":MAILTO:LST@LST.org
END:VEVENT
BEGIN:VEVENT
DTSTART;VALUE=DATE:20241023
DTEND;VALUE=DATE:20241025
DTSTAMP:20260421T145223
CREATED:20241007T191140Z
LAST-MODIFIED:20241007T191140Z
UID:4637-1729641600-1729814399@lst.org
SUMMARY:A Call to Prayer: 24 hours of prayer on behalf of LST and the LST Family
DESCRIPTION:A Call to Prayer: 24 hours of prayer on behalf of LST and the LST Family
URL:https://lst.org/event/a-call-to-prayer-24-hours-of-prayer-on-behalf-of-lst-and-the-lst-family/
LOCATION:Online
ORGANIZER;CN="Let's Start Talking":MAILTO:LST@LST.org
END:VEVENT
BEGIN:VEVENT
DTSTART;VALUE=DATE:20241018
DTEND;VALUE=DATE:20241105
DTSTAMP:20260421T145223
CREATED:20240601T175259Z
LAST-MODIFIED:20240601T175259Z
UID:4433-1729209600-1730764799@lst.org
SUMMARY:LST Project (Buenos Aires\, Argentina)
DESCRIPTION:
URL:https://lst.org/event/lst-project-buenos-aires-argentina-14/
LOCATION:Buenos Aires\, Argentina\, Buenos Aires\, Argentina
CATEGORIES:LST Mission Projects
ORGANIZER;CN="Let's Start Talking":MAILTO:LST@LST.org
END:VEVENT
BEGIN:VEVENT
DTSTART;TZID=America/Chicago:20241017T190000
DTEND;TZID=America/Chicago:20241017T200000
DTSTAMP:20260421T145223
CREATED:20231212T223144Z
LAST-MODIFIED:20231212T223144Z
UID:4176-1729191600-1729195200@lst.org
SUMMARY:EndMeeting
DESCRIPTION:This online workshop is for LST Teams who have recently returned from their international projects.  It is led by LST staff\, and teams can register through their online training platform.
URL:https://lst.org/event/endmeeting-32/
LOCATION:Online
CATEGORIES:LST Mission Projects
ORGANIZER;CN="Let's Start Talking":MAILTO:LST@LST.org
END:VEVENT
BEGIN:VEVENT
DTSTART;TZID=America/Chicago:20241017T120000
DTEND;TZID=America/Chicago:20241017T130000
DTSTAMP:20260421T145223
CREATED:20231212T223103Z
LAST-MODIFIED:20231212T223103Z
UID:4174-1729166400-1729170000@lst.org
SUMMARY:EndMeeting
DESCRIPTION:This online workshop is for LST Teams who have recently returned from their international projects.  It is led by LST staff\, and teams can register through their online training platform.
URL:https://lst.org/event/endmeeting-31/
LOCATION:Online
CATEGORIES:LST Mission Projects
ORGANIZER;CN="Let's Start Talking":MAILTO:LST@LST.org
END:VEVENT
BEGIN:VEVENT
DTSTART;TZID=America/Chicago:20241013T190000
DTEND;TZID=America/Chicago:20241013T213000
DTSTAMP:20260421T145223
CREATED:20231212T163029Z
LAST-MODIFIED:20231212T163029Z
UID:4109-1728846000-1728855000@lst.org
SUMMARY:Basic Training
DESCRIPTION:In this foundational workshop you’ll receive the basic training needed to utilize the LST approach in sharing your faith and your life with an international friend.  The focus of our time will be on the core components of the LST philosophy and methodology. Whether you’re using this training for your local FriendSpeak work\, to connect online with a Reader through LST Connect\, or preparing for an international mission project\, you are a welcome friend! Click here to register – 2024 Basic Training Registration
URL:https://lst.org/event/basic-training-95/
LOCATION:Online
CATEGORIES:FriendSpeak,LST Connect,LST Mission Projects
ORGANIZER;CN="Let's Start Talking":MAILTO:LST@LST.org
END:VEVENT
BEGIN:VEVENT
DTSTART;VALUE=DATE:20241012
DTEND;VALUE=DATE:20241029
DTSTAMP:20260421T145223
CREATED:20240531T201308Z
LAST-MODIFIED:20240531T201308Z
UID:4427-1728691200-1730159999@lst.org
SUMMARY:LST Project (West Springfield\, MA)
DESCRIPTION:
URL:https://lst.org/event/lst-project-west-springfield-ma-9/
LOCATION:West Springfield\, MA\, West Springfield\, MA\, United States
CATEGORIES:LST Mission Projects
ORGANIZER;CN="Let's Start Talking":MAILTO:LST@LST.org
END:VEVENT
BEGIN:VEVENT
DTSTART;VALUE=DATE:20241009
DTEND;VALUE=DATE:20241010
DTSTAMP:20260421T145223
CREATED:20241003T190309Z
LAST-MODIFIED:20241003T190507Z
UID:4629-1728432000-1728518399@lst.org
SUMMARY:FriendSpeak Training (Austin\, TX)
DESCRIPTION:
URL:https://lst.org/event/friendspeak-training-austin-tx/
LOCATION:Austin\, TX\, Austin\, TX\, United States
CATEGORIES:FriendSpeak
END:VEVENT
BEGIN:VEVENT
DTSTART;VALUE=DATE:20241005
DTEND;VALUE=DATE:20241102
DTSTAMP:20260421T145223
CREATED:20240901T020615Z
LAST-MODIFIED:20240901T020615Z
UID:4566-1728086400-1730505599@lst.org
SUMMARY:LST Project (Hannover\, Germany)
DESCRIPTION:
URL:https://lst.org/event/lst-project-hannover-germany-6/
LOCATION:Hannover\, Germany\, Hannover\, Germany
CATEGORIES:LST Mission Projects
ORGANIZER;CN="Let's Start Talking":MAILTO:LST@LST.org
END:VEVENT
BEGIN:VEVENT
DTSTART;VALUE=DATE:20241004
DTEND;VALUE=DATE:20241104
DTSTAMP:20260421T145223
CREATED:20240601T191022Z
LAST-MODIFIED:20240601T191022Z
UID:4440-1728000000-1730678399@lst.org
SUMMARY:LST International Project (Krakow\, Poland)
DESCRIPTION:
URL:https://lst.org/event/lst-international-project-krakow-poland-2/
LOCATION:Krakow\, Poland\, Krakow\, Poland
CATEGORIES:LST Mission Projects
ORGANIZER;CN="Let's Start Talking":MAILTO:LST@LST.org
END:VEVENT
BEGIN:VEVENT
DTSTART;VALUE=DATE:20241004
DTEND;VALUE=DATE:20241007
DTSTAMP:20260421T145223
CREATED:20231212T152653Z
LAST-MODIFIED:20231212T152653Z
UID:4069-1728000000-1728259199@lst.org
SUMMARY:Barnabas Council Weekend 2024
DESCRIPTION:
URL:https://lst.org/event/barnabas-council-weekend-2024/
CATEGORIES:FriendSpeak,Fundraising,LST Connect,LST Mission Projects
ORGANIZER;CN="Let's Start Talking":MAILTO:LST@LST.org
END:VEVENT
BEGIN:VEVENT
DTSTART;VALUE=DATE:20241003
DTEND;VALUE=DATE:20241004
DTSTAMP:20260421T145223
CREATED:20241003T190446Z
LAST-MODIFIED:20241003T190446Z
UID:4631-1727913600-1727999999@lst.org
SUMMARY:FriendSpeak Training (Southlake\, TX)
DESCRIPTION:
URL:https://lst.org/event/friendspeak-training-southlake-tx/
LOCATION:Southlake\, TX\, Southlake\, TX\, United States
CATEGORIES:FriendSpeak
END:VEVENT
BEGIN:VEVENT
DTSTART;VALUE=DATE:20240930
DTEND;VALUE=DATE:20241013
DTSTAMP:20260421T145223
CREATED:20240719T154223Z
LAST-MODIFIED:20240719T154223Z
UID:4475-1727654400-1728777599@lst.org
SUMMARY:LST Project (Mbale\, Uganda)
DESCRIPTION:
URL:https://lst.org/event/lst-project-mbale-uganda/
LOCATION:Mbale\, Uganda (LIU)\, Mbale\, Uganda
ORGANIZER;CN="Let's Start Talking":MAILTO:LST@LST.org
END:VEVENT
BEGIN:VEVENT
DTSTART;TZID=America/Chicago:20240929T180000
DTEND;TZID=America/Chicago:20240929T200000
DTSTAMP:20260421T145223
CREATED:20231212T212738Z
LAST-MODIFIED:20231212T212738Z
UID:4137-1727632800-1727640000@lst.org
SUMMARY:Gateway Training (LST International Projects)
DESCRIPTION:This specialized online workshop is for LST International teams who have completed most of their online training and are within a month of departure.  LST staff lead this required event. Teams can register through their online training platform.
URL:https://lst.org/event/gateway-training-lst-international-projects-8/
LOCATION:Online
CATEGORIES:LST Mission Projects
ORGANIZER;CN="Let's Start Talking":MAILTO:LST@LST.org
END:VEVENT
BEGIN:VEVENT
DTSTART;VALUE=DATE:20240927
DTEND;VALUE=DATE:20241013
DTSTAMP:20260421T145223
CREATED:20240625T015734Z
LAST-MODIFIED:20240625T015734Z
UID:4453-1727395200-1728777599@lst.org
SUMMARY:LST Project (Seoul\, South Korea)
DESCRIPTION:
URL:https://lst.org/event/lst-project-seoul-south-korea-7/
LOCATION:Seoul\, South Korea\, Seoul\, Korea\, Democratic People's Republic of
CATEGORIES:LST Mission Projects
ORGANIZER;CN="Let's Start Talking":MAILTO:LST@LST.org
END:VEVENT
BEGIN:VEVENT
DTSTART;VALUE=DATE:20240927
DTEND;VALUE=DATE:20241013
DTSTAMP:20260421T145223
CREATED:20240314T195054Z
LAST-MODIFIED:20240314T195054Z
UID:4359-1727395200-1728777599@lst.org
SUMMARY:LST Project (Lecce\, Italy)
DESCRIPTION:
URL:https://lst.org/event/lst-project-lecce-italy-10/
LOCATION:Lecce\, Italy\, Lecce\, Italy
CATEGORIES:LST Mission Projects
ORGANIZER;CN="Let's Start Talking":MAILTO:LST@LST.org
END:VEVENT
BEGIN:VEVENT
DTSTART;TZID=America/Chicago:20240926T190000
DTEND;TZID=America/Chicago:20240926T213000
DTSTAMP:20260421T145223
CREATED:20231212T162804Z
LAST-MODIFIED:20231212T162804Z
UID:4107-1727377200-1727386200@lst.org
SUMMARY:Basic Training
DESCRIPTION:In this foundational workshop you’ll receive the basic training needed to utilize the LST approach in sharing your faith and your life with an international friend.  The focus of our time will be on the core components of the LST philosophy and methodology. Whether you’re using this training for your local FriendSpeak work\, to connect online with a Reader through LST Connect\, or preparing for an international mission project\, you are a welcome friend! Click here to register – 2024 Basic Training Registration
URL:https://lst.org/event/basic-training-94/
LOCATION:Online
CATEGORIES:FriendSpeak,LST Connect,LST Mission Projects
ORGANIZER;CN="Let's Start Talking":MAILTO:LST@LST.org
END:VEVENT
BEGIN:VEVENT
DTSTART;VALUE=DATE:20240926
DTEND;VALUE=DATE:20240927
DTSTAMP:20260421T145223
CREATED:20240102T202010Z
LAST-MODIFIED:20240903T202705Z
UID:4235-1727308800-1727395199@lst.org
SUMMARY:LST MeetUp (7:00 am or 12:00 pm)
DESCRIPTION:LST Meetups are for everyone participating in LST!  This one-hour online gathering is a time to connect with other participants\, have fun\, and continue practicing English.  If you have friends interested in LST\, invite them to this online “party!” Please register here.
URL:https://lst.org/event/lst-meetup-1200-pm-or-700-pm-5/
LOCATION:Online
CATEGORIES:FriendSpeak,LST Connect
ORGANIZER;CN="Let's Start Talking":MAILTO:LST@LST.org
END:VEVENT
BEGIN:VEVENT
DTSTART;TZID=America/Chicago:20240922T200000
DTEND;TZID=America/Chicago:20240922T210000
DTSTAMP:20260421T145223
CREATED:20231220T164818Z
LAST-MODIFIED:20231220T164818Z
UID:4202-1727035200-1727038800@lst.org
SUMMARY:Advanced Training
DESCRIPTION:LST is pleased to provide specialized training for experienced Workers!  These sessions are for Workers who have been through Basic Training (or equivalent)\, have experience working with LST Readers\, and feel comfortable utilizing the LST approach.  For registered LST Connect and FriendSpeak Workers these advanced training sessions are offered for no additional fee. Click here for additional details and to register.
URL:https://lst.org/event/advanced-training-9/
LOCATION:Online
CATEGORIES:FriendSpeak,LST Connect,LST Mission Projects
ORGANIZER;CN="Let's Start Talking":MAILTO:LST@LST.org
END:VEVENT
BEGIN:VEVENT
DTSTART;VALUE=DATE:20240919
DTEND;VALUE=DATE:20240920
DTSTAMP:20260421T145223
CREATED:20231212T152401Z
LAST-MODIFIED:20231212T152401Z
UID:4065-1726704000-1726790399@lst.org
SUMMARY:Giving Day - North Texas Giving Day 2024
DESCRIPTION:
URL:https://lst.org/event/giving-day-north-texas-giving-day-2024/
CATEGORIES:FriendSpeak,Fundraising,LST Connect,LST Mission Projects
END:VEVENT
BEGIN:VEVENT
DTSTART;VALUE=DATE:20240914
DTEND;VALUE=DATE:20240915
DTSTAMP:20260421T145223
CREATED:20240529T151951Z
LAST-MODIFIED:20240529T153826Z
UID:4415-1726272000-1726358399@lst.org
SUMMARY:FriendSpeak Training (Houston\, TX)
DESCRIPTION:
URL:https://lst.org/event/friendspeak-training-houston-tx/
LOCATION:Houston\, TX\, Houston\, TX\, United States
CATEGORIES:FriendSpeak
END:VEVENT
BEGIN:VEVENT
DTSTART;VALUE=DATE:20240913
DTEND;VALUE=DATE:20240929
DTSTAMP:20260421T145223
CREATED:20240313T195503Z
LAST-MODIFIED:20240313T195503Z
UID:4352-1726185600-1727567999@lst.org
SUMMARY:LST Project (Seoul\, South Korea)
DESCRIPTION:
URL:https://lst.org/event/lst-project-seoul-south-korea-6/
LOCATION:Seoul\, South Korea\, Seoul\, Korea\, Democratic People's Republic of
CATEGORIES:LST Mission Projects
ORGANIZER;CN="Let's Start Talking":MAILTO:LST@LST.org
END:VEVENT
BEGIN:VEVENT
DTSTART;TZID=America/Chicago:20240912T190000
DTEND;TZID=America/Chicago:20240912T200000
DTSTAMP:20260421T145223
CREATED:20231212T223021Z
LAST-MODIFIED:20231212T223021Z
UID:4172-1726167600-1726171200@lst.org
SUMMARY:EndMeeting
DESCRIPTION:This online workshop is for LST Teams who have recently returned from their international projects.  It is led by LST staff\, and teams can register through their online training platform.
URL:https://lst.org/event/endmeeting-30/
LOCATION:Online
CATEGORIES:LST Mission Projects
ORGANIZER;CN="Let's Start Talking":MAILTO:LST@LST.org
END:VEVENT
BEGIN:VEVENT
DTSTART;TZID=America/Chicago:20240912T120000
DTEND;TZID=America/Chicago:20240912T130000
DTSTAMP:20260421T145223
CREATED:20231212T222936Z
LAST-MODIFIED:20231212T222936Z
UID:4170-1726142400-1726146000@lst.org
SUMMARY:EndMeeting
DESCRIPTION:This online workshop is for LST Teams who have recently returned from their international projects.  It is led by LST staff\, and teams can register through their online training platform.
URL:https://lst.org/event/endmeeting-29/
LOCATION:Online
CATEGORIES:LST Mission Projects
ORGANIZER;CN="Let's Start Talking":MAILTO:LST@LST.org
END:VEVENT
END:VCALENDAR