BEGIN:VCALENDAR
VERSION:2.0
PRODID:-//Let&#039;s Start Talking - ECPv6.15.20//NONSGML v1.0//EN
CALSCALE:GREGORIAN
METHOD:PUBLISH
X-WR-CALNAME:Let&#039;s Start Talking
X-ORIGINAL-URL:https://lst.org
X-WR-CALDESC:Events for Let&#039;s Start Talking
REFRESH-INTERVAL;VALUE=DURATION:PT1H
X-Robots-Tag:noindex
X-PUBLISHED-TTL:PT1H
BEGIN:VTIMEZONE
TZID:UTC
BEGIN:STANDARD
TZOFFSETFROM:+0000
TZOFFSETTO:+0000
TZNAME:UTC
DTSTART:20200101T000000
END:STANDARD
END:VTIMEZONE
BEGIN:VTIMEZONE
TZID:America/Chicago
BEGIN:DAYLIGHT
TZOFFSETFROM:-0600
TZOFFSETTO:-0500
TZNAME:CDT
DTSTART:20200308T080000
END:DAYLIGHT
BEGIN:STANDARD
TZOFFSETFROM:-0500
TZOFFSETTO:-0600
TZNAME:CST
DTSTART:20201101T070000
END:STANDARD
BEGIN:DAYLIGHT
TZOFFSETFROM:-0600
TZOFFSETTO:-0500
TZNAME:CDT
DTSTART:20210314T080000
END:DAYLIGHT
BEGIN:STANDARD
TZOFFSETFROM:-0500
TZOFFSETTO:-0600
TZNAME:CST
DTSTART:20211107T070000
END:STANDARD
BEGIN:DAYLIGHT
TZOFFSETFROM:-0600
TZOFFSETTO:-0500
TZNAME:CDT
DTSTART:20220313T080000
END:DAYLIGHT
BEGIN:STANDARD
TZOFFSETFROM:-0500
TZOFFSETTO:-0600
TZNAME:CST
DTSTART:20221106T070000
END:STANDARD
END:VTIMEZONE
BEGIN:VEVENT
DTSTART;VALUE=DATE:20210612
DTEND;VALUE=DATE:20210613
DTSTAMP:20260422T192112
CREATED:20210604T204338Z
LAST-MODIFIED:20210604T204338Z
UID:2172-1623456000-1623542399@lst.org
SUMMARY:FriendSpeak Training (Canyon\, TX)
DESCRIPTION:
URL:https://lst.org/event/friendspeak-training-canyon-tx/
LOCATION:Canyon\, TX\, Canyon\, TX\, United States
CATEGORIES:FriendSpeak
END:VEVENT
BEGIN:VEVENT
DTSTART;VALUE=DATE:20210607
DTEND;VALUE=DATE:20210619
DTSTAMP:20260422T192112
CREATED:20210525T064730Z
LAST-MODIFIED:20210525T064730Z
UID:2164-1623024000-1624060799@lst.org
SUMMARY:LST Project ((Virtual) Ghent\, Belgium)
DESCRIPTION:
URL:https://lst.org/event/lst-project-virtual-ghent-belgium/
LOCATION:Ghent\, Belgium\, Ghent\, Belgium
CATEGORIES:LST Mission Projects
END:VEVENT
BEGIN:VEVENT
DTSTART;VALUE=DATE:20210607
DTEND;VALUE=DATE:20210619
DTSTAMP:20260422T192112
CREATED:20210525T063828Z
LAST-MODIFIED:20210525T063828Z
UID:2161-1623024000-1624060799@lst.org
SUMMARY:LST Project ((Virtual) Krakow\, Poland)
DESCRIPTION:
URL:https://lst.org/event/lst-project-virtual-krakow-poland/
LOCATION:Krakow\, Poland\, Krakow\, Poland
CATEGORIES:LST Mission Projects
END:VEVENT
BEGIN:VEVENT
DTSTART;TZID=America/Chicago:20210603T190000
DTEND;TZID=America/Chicago:20210603T220000
DTSTAMP:20260422T192112
CREATED:20210325T202551Z
LAST-MODIFIED:20210325T202551Z
UID:2070-1622746800-1622757600@lst.org
SUMMARY:Basic Training
DESCRIPTION:In this three-hour workshop receive the basic training you’ll need to utilize the LST approach in sharing your faith and your life with an international friend.  If you’re utilizing this training for FriendSpeak or for an LST Project\, this training also links you to LST Connect where you can serve a Reader online!  This seminar will cover the basic LST philosophy and methodology.
URL:https://lst.org/event/basic-training-11/
LOCATION:Online
END:VEVENT
BEGIN:VEVENT
DTSTART;TZID=America/Chicago:20210527T120000
DTEND;TZID=America/Chicago:20210527T130000
DTSTAMP:20260422T192112
CREATED:20210325T204131Z
LAST-MODIFIED:20210421T020215Z
UID:2076-1622116800-1622120400@lst.org
SUMMARY:Advanced Training - Beyond the Basics
DESCRIPTION:LST is pleased to provide specialized training for experienced Workers!  These sessions are for Workers who have been through Basic Training (or equivalent)\, have experience working with LST Readers\, and feel comfortable utilizing the LST approach.  For those who have registered to be part of LST Connect\, these advanced training sessions are offered for no additional fee.
URL:https://lst.org/event/basic-training-topic-tba/
LOCATION:Online
END:VEVENT
BEGIN:VEVENT
DTSTART;VALUE=DATE:20210525
DTEND;VALUE=DATE:20210801
DTSTAMP:20260422T192112
CREATED:20210525T065908Z
LAST-MODIFIED:20210525T065941Z
UID:2167-1621900800-1627775999@lst.org
SUMMARY:LST Project (West Springfield\, MA)
DESCRIPTION:
URL:https://lst.org/event/lst-project-springfield-ma/
LOCATION:West Springfield\, MA\, West Springfield\, MA\, United States
CATEGORIES:LST Mission Projects
END:VEVENT
BEGIN:VEVENT
DTSTART;TZID=America/Chicago:20210520T190000
DTEND;TZID=America/Chicago:20210520T200000
DTSTAMP:20260422T192112
CREATED:20210325T205344Z
LAST-MODIFIED:20210325T205344Z
UID:2083-1621537200-1621540800@lst.org
SUMMARY:LST MeetUp (Party!)
DESCRIPTION:LST Meetups are for LST Readers and Workers participating in the LST Connect program!  This one-hour online gathering is a time to connect with other participants\, have fun\, and continue practicing English.  If you have friends interested in LST Connect\, invite them to this online “party!”
URL:https://lst.org/event/lst-meetup-party-6/
LOCATION:Online
END:VEVENT
BEGIN:VEVENT
DTSTART;TZID=America/Chicago:20210518T120000
DTEND;TZID=America/Chicago:20210518T130000
DTSTAMP:20260422T192112
CREATED:20210325T205231Z
LAST-MODIFIED:20210325T205231Z
UID:2081-1621339200-1621342800@lst.org
SUMMARY:LST MeetUp (Party!)
DESCRIPTION:LST Meetups are for LST Readers and Workers participating in the LST Connect program!  This one-hour online gathering is a time to connect with other participants\, have fun\, and continue practicing English.  If you have friends interested in LST Connect\, invite them to this online “party!”
URL:https://lst.org/event/lst-meetup-party-5/
LOCATION:Online
END:VEVENT
BEGIN:VEVENT
DTSTART;TZID=America/Chicago:20210516T190000
DTEND;TZID=America/Chicago:20210516T220000
DTSTAMP:20260422T192112
CREATED:20210325T202446Z
LAST-MODIFIED:20210325T202446Z
UID:2068-1621191600-1621202400@lst.org
SUMMARY:Basic Training
DESCRIPTION:In this three-hour workshop receive the basic training you’ll need to utilize the LST approach in sharing your faith and your life with an international friend.  If you’re utilizing this training for FriendSpeak or for an LST Project\, this training also links you to LST Connect where you can serve a Reader online!  This seminar will cover the basic LST philosophy and methodology.
URL:https://lst.org/event/basic-training-10/
LOCATION:Online
END:VEVENT
BEGIN:VEVENT
DTSTART;TZID=America/Chicago:20210506T190000
DTEND;TZID=America/Chicago:20210506T220000
DTSTAMP:20260422T192112
CREATED:20210325T202344Z
LAST-MODIFIED:20210325T202344Z
UID:2066-1620327600-1620338400@lst.org
SUMMARY:Basic Training
DESCRIPTION:In this three-hour workshop receive the basic training you’ll need to utilize the LST approach in sharing your faith and your life with an international friend.  If you’re utilizing this training for FriendSpeak or for an LST Project\, this training also links you to LST Connect where you can serve a Reader online!  This seminar will cover the basic LST philosophy and methodology.
URL:https://lst.org/event/basic-training-9/
LOCATION:Online
END:VEVENT
BEGIN:VEVENT
DTSTART;VALUE=DATE:20210506
DTEND;VALUE=DATE:20210507
DTSTAMP:20260422T192112
CREATED:20201217T033234Z
LAST-MODIFIED:20201217T033234Z
UID:1780-1620259200-1620345599@lst.org
SUMMARY:FriendSpeak Giving Day
DESCRIPTION:Details TBA.
URL:https://lst.org/event/friendspeak-giving-day/
LOCATION:Online
CATEGORIES:FriendSpeak,Fundraising
END:VEVENT
BEGIN:VEVENT
DTSTART;VALUE=DATE:20210501
DTEND;VALUE=DATE:20210502
DTSTAMP:20260422T192112
CREATED:20210224T212536Z
LAST-MODIFIED:20210504T202109Z
UID:1894-1619827200-1619913599@lst.org
SUMMARY:FriendSpeak Training (Leaders and Workers)\, Canadian\, TX
DESCRIPTION:
URL:https://lst.org/event/friendspeak-training-leaders-and-workers-canadian-tx/
CATEGORIES:FriendSpeak
END:VEVENT
BEGIN:VEVENT
DTSTART;TZID=America/Chicago:20210425T200000
DTEND;TZID=America/Chicago:20210425T210000
DTSTAMP:20260422T192112
CREATED:20210325T204023Z
LAST-MODIFIED:20210421T020147Z
UID:2074-1619380800-1619384400@lst.org
SUMMARY:Advanced Training - Common Scenarios
DESCRIPTION:LST is pleased to provide specialized training for experienced Workers!  These sessions are for Workers who have been through Basic Training (or equivalent)\, have experience working with LST Readers\, and feel comfortable utilizing the LST approach.  For those who have registered to be part of LST Connect\, these advanced training sessions are offered for no additional fee.
URL:https://lst.org/event/advanced-training-topic-tba-4/
LOCATION:Online
END:VEVENT
BEGIN:VEVENT
DTSTART;TZID=America/Chicago:20210418T190000
DTEND;TZID=America/Chicago:20210418T220000
DTSTAMP:20260422T192112
CREATED:20210325T202249Z
LAST-MODIFIED:20210325T202249Z
UID:2064-1618772400-1618783200@lst.org
SUMMARY:Basic Training
DESCRIPTION:In this three-hour workshop receive the basic training you’ll need to utilize the LST approach in sharing your faith and your life with an international friend.  If you’re utilizing this training for FriendSpeak or for an LST Project\, this training also links you to LST Connect where you can serve a Reader online!  This seminar will cover the basic LST philosophy and methodology.
URL:https://lst.org/event/basic-training-8/
LOCATION:Online
END:VEVENT
BEGIN:VEVENT
DTSTART;TZID=America/Chicago:20210416T120000
DTEND;TZID=America/Chicago:20210416T130000
DTSTAMP:20260422T192112
CREATED:20210325T201949Z
LAST-MODIFIED:20210408T035327Z
UID:2060-1618574400-1618578000@lst.org
SUMMARY:Basic Training Overview (for Workers OUTSIDE North America)
DESCRIPTION:Especially for Workers living outside the US who want to utilize the LST approach. In this one hour overview learn how we train our Workers in the core LST philosophy and methodology.  Rather than going through our full training\, this gives you greater insight into the heart of LST and what principles we emphasize in our training.
URL:https://lst.org/event/basic-training-for-workers-outside-north-america/
LOCATION:Online
END:VEVENT
BEGIN:VEVENT
DTSTART;TZID=America/Chicago:20210416T060000
DTEND;TZID=America/Chicago:20210416T070000
DTSTAMP:20260422T192112
CREATED:20210325T202137Z
LAST-MODIFIED:20210408T035125Z
UID:2062-1618552800-1618556400@lst.org
SUMMARY:Basic Training Overview (for Workers OUTSIDE North America)
DESCRIPTION:Especially for Workers living outside the US who want to utilize the LST approach. In this one hour overview learn how we train our Workers in the core LST philosophy and methodology.  Rather than going through our full training\, this gives you greater insight into the heart of LST and what principles we emphasize in our training.
URL:https://lst.org/event/basic-training-for-workers-outside-north-america-2/
LOCATION:Online
END:VEVENT
BEGIN:VEVENT
DTSTART;VALUE=DATE:20210411
DTEND;VALUE=DATE:20210412
DTSTAMP:20260422T192112
CREATED:20210108T002707Z
LAST-MODIFIED:20210108T002841Z
UID:1837-1618099200-1618185599@lst.org
SUMMARY:FriendSpeak Training Seminar
DESCRIPTION:
URL:https://lst.org/event/friendspeak-training-seminar-first-baptist-church-hurst-tx/
CATEGORIES:FriendSpeak
END:VEVENT
BEGIN:VEVENT
DTSTART;TZID=America/Chicago:20210408T190000
DTEND;TZID=America/Chicago:20210408T220000
DTSTAMP:20260422T192112
CREATED:20210325T201714Z
LAST-MODIFIED:20210325T201714Z
UID:2058-1617908400-1617919200@lst.org
SUMMARY:Basic Training
DESCRIPTION:In this three-hour workshop receive the basic training you’ll need to utilize the LST approach in sharing your faith and your life with an international friend.  If you’re utilizing this training for FriendSpeak or for an LST Project\, this training also links you to LST Connect where you can serve a Reader online!  This seminar will cover the basic LST philosophy and methodology.
URL:https://lst.org/event/basic-training-7/
LOCATION:Online
END:VEVENT
BEGIN:VEVENT
DTSTART;VALUE=DATE:20210405
DTEND;VALUE=DATE:20210410
DTSTAMP:20260422T192112
CREATED:20210405T043142Z
LAST-MODIFIED:20210405T043142Z
UID:2133-1617580800-1618012799@lst.org
SUMMARY:LST YoungFriends project in Ghent\, Belgium (virtual)
DESCRIPTION:
URL:https://lst.org/event/lst-youngfriends-project-in-ghent-belgium-virtual/
LOCATION:Online
CATEGORIES:LST Mission Projects
END:VEVENT
BEGIN:VEVENT
DTSTART;TZID=America/Chicago:20210330T190000
DTEND;TZID=America/Chicago:20210330T200000
DTSTAMP:20260422T192112
CREATED:20201217T225618Z
LAST-MODIFIED:20210104T215002Z
UID:1791-1617130800-1617134400@lst.org
SUMMARY:LST Connect - Live Orientation
DESCRIPTION:While we want every newly-registered LST Worker to watch a brief video orientation as they start Connect (link sent upon registration for Connect)\, we also invite all Workers to an optional once-a-month live Orientation.  In this one-hour event we’ll clarify the basics of LST Connect\, build relationships with other Connect Workers\, and work through any front-end questions about Connect.
URL:https://lst.org/event/lst-connect-live-orientation-3/
LOCATION:Online
CATEGORIES:LST Connect
END:VEVENT
BEGIN:VEVENT
DTSTART;TZID=America/Chicago:20210328T200000
DTEND;TZID=America/Chicago:20210328T210000
DTSTAMP:20260422T192112
CREATED:20201217T030113Z
LAST-MODIFIED:20210111T025853Z
UID:1766-1616961600-1616965200@lst.org
SUMMARY:Advanced Training - Building Bridges
DESCRIPTION:LST is pleased to provide specialized training for experienced Workers!  These sessions are for Workers who have been through Basic Training (or equivalent)\, have experience working with LST Readers\, and feel comfortable utilizing the LST approach.  For those who have registered to be part of LST Connect\, these advanced training sessions are offered for no additional fee.
URL:https://lst.org/event/advanced-training-topic-tba-2/
LOCATION:Online
CATEGORIES:LST Connect
END:VEVENT
BEGIN:VEVENT
DTSTART;TZID=America/Chicago:20210325T190000
DTEND;TZID=America/Chicago:20210325T200000
DTSTAMP:20260422T192112
CREATED:20201217T030841Z
LAST-MODIFIED:20210111T004755Z
UID:1776-1616698800-1616702400@lst.org
SUMMARY:LST MeetUp (Party!)
DESCRIPTION:LST Meetups are for LST Readers and Workers participating in the LST Connect program!  This one-hour online gathering is a time to connect with other participants\, have fun\, and continue practicing English.  If you have friends interested in LST Connect\, invite them to this online “party!”
URL:https://lst.org/event/lst-meetup-party-4/
LOCATION:Online
CATEGORIES:LST Connect
END:VEVENT
BEGIN:VEVENT
DTSTART;TZID=America/Chicago:20210323T120000
DTEND;TZID=America/Chicago:20210323T130000
DTSTAMP:20260422T192112
CREATED:20201217T030731Z
LAST-MODIFIED:20210111T004720Z
UID:1774-1616500800-1616504400@lst.org
SUMMARY:LST MeetUp (Party!)
DESCRIPTION:LST Meetups are for LST Readers and Workers participating in the LST Connect program!  This one-hour online gathering is a time to connect with other participants\, have fun\, and continue practicing English.  If you have friends interested in LST Connect\, invite them to this online “party!”
URL:https://lst.org/event/lst-meetup-party-3/
LOCATION:Online
CATEGORIES:LST Connect
END:VEVENT
BEGIN:VEVENT
DTSTART;TZID=America/Chicago:20210321T190000
DTEND;TZID=America/Chicago:20210321T220000
DTSTAMP:20260422T192112
CREATED:20201217T025326Z
LAST-MODIFIED:20210104T214837Z
UID:1762-1616353200-1616364000@lst.org
SUMMARY:Basic Training
DESCRIPTION:In this three-hour workshop receive the basic training you’ll need to utilize the LST approach in sharing your faith and your life with an international friend.  If you’re utilizing this training for FriendSpeak or for an LST Project\, this training also links you to LST Connect where you can serve a Reader online!  This seminar will cover the basic LST philosophy and methodology.
URL:https://lst.org/event/basic-training-6/
LOCATION:Online
CATEGORIES:LST Connect
END:VEVENT
BEGIN:VEVENT
DTSTART;TZID=America/Chicago:20210311T190000
DTEND;TZID=America/Chicago:20210311T220000
DTSTAMP:20260422T192112
CREATED:20201217T025232Z
LAST-MODIFIED:20210104T214814Z
UID:1760-1615489200-1615500000@lst.org
SUMMARY:Basic Training
DESCRIPTION:In this three-hour workshop receive the basic training you’ll need to utilize the LST approach in sharing your faith and your life with an international friend.  If you’re utilizing this training for FriendSpeak or for an LST Project\, this training also links you to LST Connect where you can serve a Reader online!  This seminar will cover the basic LST philosophy and methodology.
URL:https://lst.org/event/basic-training-5/
LOCATION:Online
CATEGORIES:LST Connect
END:VEVENT
BEGIN:VEVENT
DTSTART;VALUE=DATE:20210304
DTEND;VALUE=DATE:20210305
DTSTAMP:20260422T192112
CREATED:20201217T033109Z
LAST-MODIFIED:20201217T033520Z
UID:1778-1614816000-1614902399@lst.org
SUMMARY:LST Connect Giving Day
DESCRIPTION:Details TBA.
URL:https://lst.org/event/lst-connect-giving-day/
LOCATION:Online
CATEGORIES:Fundraising,LST Connect
END:VEVENT
BEGIN:VEVENT
DTSTART;TZID=America/Chicago:20210225T200000
DTEND;TZID=America/Chicago:20210225T210000
DTSTAMP:20260422T192112
CREATED:20201217T030212Z
LAST-MODIFIED:20210111T025822Z
UID:1768-1614283200-1614286800@lst.org
SUMMARY:Advanced Training - Improving Your Conversation
DESCRIPTION:LST is pleased to provide specialized training for experienced Workers!  These sessions are for Workers who have been through Basic Training (or equivalent)\, have experience working with LST Readers\, and feel comfortable utilizing the LST approach.  For those who have registered to be part of LST Connect\, these advanced training sessions are offered for no additional fee.
URL:https://lst.org/event/advanced-training-topic-tba-3/
LOCATION:Online
CATEGORIES:LST Connect
END:VEVENT
BEGIN:VEVENT
DTSTART;TZID=UTC:20210225T190000
DTEND;TZID=UTC:20210225T213000
DTSTAMP:20260422T192112
CREATED:20210128T000445Z
LAST-MODIFIED:20210128T000445Z
UID:1859-1614279600-1614288600@lst.org
SUMMARY:FriendSpeak Training Seminar (Houston\, TX)
DESCRIPTION:
URL:https://lst.org/event/friendspeak-training-seminar-houston-tx-2/
LOCATION:Online
CATEGORIES:FriendSpeak
END:VEVENT
BEGIN:VEVENT
DTSTART;TZID=America/Chicago:20210223T190000
DTEND;TZID=America/Chicago:20210223T200000
DTSTAMP:20260422T192112
CREATED:20201217T225457Z
LAST-MODIFIED:20210104T214935Z
UID:1789-1614106800-1614110400@lst.org
SUMMARY:LST Connect - Live Orientation
DESCRIPTION:While we want every newly-registered LST Worker to watch a brief video orientation as they start Connect (link sent upon registration for Connect)\, we also invite all Workers to an optional once-a-month live Orientation.  In this one-hour event we’ll clarify the basics of LST Connect\, build relationships with other Connect Workers\, and work through any front-end questions about Connect.
URL:https://lst.org/event/lst-connect-live-orientation-2/
LOCATION:Online
CATEGORIES:LST Connect
END:VEVENT
BEGIN:VEVENT
DTSTART;TZID=America/Chicago:20210221T190000
DTEND;TZID=America/Chicago:20210221T220000
DTSTAMP:20260422T192112
CREATED:20201217T025147Z
LAST-MODIFIED:20210104T214734Z
UID:1758-1613934000-1613944800@lst.org
SUMMARY:Basic Training
DESCRIPTION:In this three-hour workshop receive the basic training you’ll need to utilize the LST approach in sharing your faith and your life with an international friend.  If you’re utilizing this training for FriendSpeak or for an LST Project\, this training also links you to LST Connect where you can serve a Reader online!  This seminar will cover the basic LST philosophy and methodology.
URL:https://lst.org/event/basic-training-4/
LOCATION:Online
CATEGORIES:LST Connect
END:VEVENT
END:VCALENDAR