BEGIN:VCALENDAR
VERSION:2.0
PRODID:-//Let&#039;s Start Talking - ECPv6.15.20//NONSGML v1.0//EN
CALSCALE:GREGORIAN
METHOD:PUBLISH
X-WR-CALNAME:Let&#039;s Start Talking
X-ORIGINAL-URL:https://lst.org
X-WR-CALDESC:Events for Let&#039;s Start Talking
REFRESH-INTERVAL;VALUE=DURATION:PT1H
X-Robots-Tag:noindex
X-PUBLISHED-TTL:PT1H
BEGIN:VTIMEZONE
TZID:America/Chicago
BEGIN:DAYLIGHT
TZOFFSETFROM:-0600
TZOFFSETTO:-0500
TZNAME:CDT
DTSTART:20200308T080000
END:DAYLIGHT
BEGIN:STANDARD
TZOFFSETFROM:-0500
TZOFFSETTO:-0600
TZNAME:CST
DTSTART:20201101T070000
END:STANDARD
BEGIN:DAYLIGHT
TZOFFSETFROM:-0600
TZOFFSETTO:-0500
TZNAME:CDT
DTSTART:20210314T080000
END:DAYLIGHT
BEGIN:STANDARD
TZOFFSETFROM:-0500
TZOFFSETTO:-0600
TZNAME:CST
DTSTART:20211107T070000
END:STANDARD
BEGIN:DAYLIGHT
TZOFFSETFROM:-0600
TZOFFSETTO:-0500
TZNAME:CDT
DTSTART:20220313T080000
END:DAYLIGHT
BEGIN:STANDARD
TZOFFSETFROM:-0500
TZOFFSETTO:-0600
TZNAME:CST
DTSTART:20221106T070000
END:STANDARD
END:VTIMEZONE
BEGIN:VTIMEZONE
TZID:UTC
BEGIN:STANDARD
TZOFFSETFROM:+0000
TZOFFSETTO:+0000
TZNAME:UTC
DTSTART:20200101T000000
END:STANDARD
END:VTIMEZONE
BEGIN:VTIMEZONE
TZID:America/Denver
BEGIN:DAYLIGHT
TZOFFSETFROM:-0700
TZOFFSETTO:-0600
TZNAME:MDT
DTSTART:20200308T090000
END:DAYLIGHT
BEGIN:STANDARD
TZOFFSETFROM:-0600
TZOFFSETTO:-0700
TZNAME:MST
DTSTART:20201101T080000
END:STANDARD
BEGIN:DAYLIGHT
TZOFFSETFROM:-0700
TZOFFSETTO:-0600
TZNAME:MDT
DTSTART:20210314T090000
END:DAYLIGHT
BEGIN:STANDARD
TZOFFSETFROM:-0600
TZOFFSETTO:-0700
TZNAME:MST
DTSTART:20211107T080000
END:STANDARD
BEGIN:DAYLIGHT
TZOFFSETFROM:-0700
TZOFFSETTO:-0600
TZNAME:MDT
DTSTART:20220313T090000
END:DAYLIGHT
BEGIN:STANDARD
TZOFFSETFROM:-0600
TZOFFSETTO:-0700
TZNAME:MST
DTSTART:20221106T080000
END:STANDARD
END:VTIMEZONE
BEGIN:VEVENT
DTSTART;TZID=America/Chicago:20210926T200000
DTEND;TZID=America/Chicago:20210926T210000
DTSTAMP:20260422T170145
CREATED:20210617T022232Z
LAST-MODIFIED:20210617T022232Z
UID:2241-1632686400-1632690000@lst.org
SUMMARY:Advanced Training - Common Scenarios
DESCRIPTION:LST is pleased to provide specialized training for experienced Workers!  These sessions are for Workers who have been through Basic Training (or equivalent)\, have experience working with LST Readers\, and feel comfortable utilizing the LST approach.  For registered LST Connect and FriendSpeak Workers these advanced training sessions are offered for no additional fee.
URL:https://lst.org/event/advanced-training-common-scenarios/
LOCATION:Online
CATEGORIES:FriendSpeak,LST Connect
ORGANIZER;CN="Let's Start Talking":MAILTO:LST@LST.org
END:VEVENT
BEGIN:VEVENT
DTSTART;VALUE=DATE:20210926
DTEND;VALUE=DATE:20210927
DTSTAMP:20260422T170145
CREATED:20210629T060905Z
LAST-MODIFIED:20210629T060905Z
UID:2253-1632614400-1632700799@lst.org
SUMMARY:FriendSpeak Training Seminar (Glenwood Springs\, CO)
DESCRIPTION:
URL:https://lst.org/event/friendspeak-training-seminar-glenwood-springs-co/
LOCATION:Glenwood Springs\, CO\, Glenwood Springs\, Colorado
CATEGORIES:FriendSpeak
END:VEVENT
BEGIN:VEVENT
DTSTART;VALUE=DATE:20210923
DTEND;VALUE=DATE:20210924
DTSTAMP:20260422T170145
CREATED:20201217T033340Z
LAST-MODIFIED:20210920T201625Z
UID:1782-1632355200-1632441599@lst.org
SUMMARY:North Texas Giving Day
DESCRIPTION:Join friends of LST for a celebration of giving!  Gifts of up to $20\,000 will be matched by the LST Board and other generous friends of LST.  This is a special (and important!) part of how LST is funded for the entire year.
URL:https://lst.org/event/north-texas-giving-day/
LOCATION:Online
CATEGORIES:Fundraising
ORGANIZER;CN="Let's Start Talking":MAILTO:LST@LST.org
END:VEVENT
BEGIN:VEVENT
DTSTART;TZID=America/Chicago:20210919T190000
DTEND;TZID=America/Chicago:20210919T220000
DTSTAMP:20260422T170145
CREATED:20210617T015111Z
LAST-MODIFIED:20210617T015858Z
UID:2224-1632078000-1632088800@lst.org
SUMMARY:Basic Training
DESCRIPTION:In this three-hour workshop receive the basic training you’ll need to utilize the LST approach in sharing your faith and your life with an international friend.  If you’re utilizing this training for FriendSpeak or for an LST Project\, this training also links you to LST Connect where you can serve a Reader online!  This seminar will cover the basic LST philosophy and methodology.
URL:https://lst.org/event/basic-training-18/
LOCATION:Online
CATEGORIES:FriendSpeak,LST Connect,LST Mission Projects
ORGANIZER;CN="Let's Start Talking":MAILTO:LST@LST.org
END:VEVENT
BEGIN:VEVENT
DTSTART;VALUE=DATE:20210911
DTEND;VALUE=DATE:20210912
DTSTAMP:20260422T170145
CREATED:20210604T204720Z
LAST-MODIFIED:20210604T204720Z
UID:2176-1631318400-1631404799@lst.org
SUMMARY:FriendSpeak Training Seminar (Houston\, TX)
DESCRIPTION:
URL:https://lst.org/event/friendspeak-training-seminar-houston-tx-4/
LOCATION:Houston\, TX\, Houston\, TX\, United States
CATEGORIES:FriendSpeak
END:VEVENT
BEGIN:VEVENT
DTSTART;VALUE=DATE:20210910
DTEND;VALUE=DATE:20211024
DTSTAMP:20260422T170145
CREATED:20210729T013148Z
LAST-MODIFIED:20210729T013859Z
UID:2355-1631232000-1635033599@lst.org
SUMMARY:LST Project (Bila Tserkva\, Ukraine)
DESCRIPTION:
URL:https://lst.org/event/lst-project-bila-tserkva-ukraine/
LOCATION:Bila Tserkva\, Ukraine\, Bila Tserkva\, Ukraine
CATEGORIES:LST Mission Projects
ORGANIZER;CN="Let's Start Talking":MAILTO:LST@LST.org
END:VEVENT
BEGIN:VEVENT
DTSTART;TZID=America/Chicago:20210902T190000
DTEND;TZID=America/Chicago:20210902T220000
DTSTAMP:20260422T170145
CREATED:20210617T014907Z
LAST-MODIFIED:20210617T014907Z
UID:2222-1630609200-1630620000@lst.org
SUMMARY:Basic Training
DESCRIPTION:In this three-hour workshop receive the basic training you’ll need to utilize the LST approach in sharing your faith and your life with an international friend.  If you’re utilizing this training for FriendSpeak or for an LST Project\, this training also links you to LST Connect where you can serve a Reader online!  This seminar will cover the basic LST philosophy and methodology.
URL:https://lst.org/event/basic-training-17/
LOCATION:Online
CATEGORIES:FriendSpeak,LST Connect,LST Mission Projects
ORGANIZER;CN="Let's Start Talking":MAILTO:LST@LST.org
END:VEVENT
BEGIN:VEVENT
DTSTART;TZID=America/Chicago:20210902T190000
DTEND;TZID=America/Chicago:20210902T213000
DTSTAMP:20260422T170145
CREATED:20210511T204209Z
LAST-MODIFIED:20210809T223527Z
UID:2148-1630609200-1630618200@lst.org
SUMMARY:FriendSpeak Training Seminar (Houston\, TX)
DESCRIPTION:
URL:https://lst.org/event/friendspeak-training-seminar-houston-tx-3/
LOCATION:Online
CATEGORIES:FriendSpeak
END:VEVENT
BEGIN:VEVENT
DTSTART;TZID=America/Chicago:20210826T120000
DTEND;TZID=America/Chicago:20210826T130000
DTSTAMP:20260422T170145
CREATED:20210617T022107Z
LAST-MODIFIED:20210617T022107Z
UID:2239-1629979200-1629982800@lst.org
SUMMARY:Advanced Training - Beyond the Basics
DESCRIPTION:LST is pleased to provide specialized training for experienced Workers!  These sessions are for Workers who have been through Basic Training (or equivalent)\, have experience working with LST Readers\, and feel comfortable utilizing the LST approach.  For registered LST Connect and FriendSpeak Workers these advanced training sessions are offered for no additional fee.
URL:https://lst.org/event/advanced-training-beyond-the-basics/
LOCATION:Online
CATEGORIES:FriendSpeak,LST Connect
ORGANIZER;CN="Let's Start Talking":MAILTO:LST@LST.org
END:VEVENT
BEGIN:VEVENT
DTSTART;TZID=UTC:20210822T093000
DTEND;TZID=UTC:20210822T120000
DTSTAMP:20260422T170145
CREATED:20210407T034551Z
LAST-MODIFIED:20210407T034813Z
UID:2141-1629624600-1629633600@lst.org
SUMMARY:FriendSpeak Training Seminar (Houston\, TX)
DESCRIPTION:
URL:https://lst.org/event/friendspeak-training-seminar-houston-tx/
CATEGORIES:FriendSpeak
END:VEVENT
BEGIN:VEVENT
DTSTART;VALUE=DATE:20210818
DTEND;VALUE=DATE:20210819
DTSTAMP:20260422T170145
CREATED:20210816T215049Z
LAST-MODIFIED:20210816T233843Z
UID:2391-1629244800-1629331199@lst.org
SUMMARY:FriendSpeak Leadership Training
DESCRIPTION:
URL:https://lst.org/event/friendspeak-leadership-training/
LOCATION:Waxahachie\, TX\, Waxahachie\, Texas
CATEGORIES:FriendSpeak
END:VEVENT
BEGIN:VEVENT
DTSTART;TZID=America/Chicago:20210815T190000
DTEND;TZID=America/Chicago:20210815T220000
DTSTAMP:20260422T170145
CREATED:20210617T013931Z
LAST-MODIFIED:20210617T014049Z
UID:2216-1629054000-1629064800@lst.org
SUMMARY:Basic Training
DESCRIPTION:In this three-hour workshop receive the basic training you’ll need to utilize the LST approach in sharing your faith and your life with an international friend.  If you’re utilizing this training for FriendSpeak or for an LST Project\, this training also links you to LST Connect where you can serve a Reader online!  This seminar will cover the basic LST philosophy and methodology.
URL:https://lst.org/event/basic-training-16/
LOCATION:Online
CATEGORIES:FriendSpeak,LST Connect,LST Mission Projects
ORGANIZER;CN="Let's Start Talking":MAILTO:LST@LST.org
END:VEVENT
BEGIN:VEVENT
DTSTART;TZID=UTC:20210814T090000
DTEND;TZID=UTC:20210814T120000
DTSTAMP:20260422T170145
CREATED:20210628T195129Z
LAST-MODIFIED:20210628T195129Z
UID:2248-1628931600-1628942400@lst.org
SUMMARY:FriendSpeak Training Seminar (Arlington\, TX)
DESCRIPTION:
URL:https://lst.org/event/friendspeak-training-seminar-arlington-tx/
LOCATION:Tri-C\, Arlington\, Texas
CATEGORIES:FriendSpeak
END:VEVENT
BEGIN:VEVENT
DTSTART;TZID=America/Chicago:20210814T090000
DTEND;TZID=America/Chicago:20210814T120000
DTSTAMP:20260422T170145
CREATED:20210521T191503Z
LAST-MODIFIED:20210617T014651Z
UID:2154-1628931600-1628942400@lst.org
SUMMARY:FriendSpeak Training Seminar (OKC\, OK)
DESCRIPTION:
URL:https://lst.org/event/friendspeak-training-seminar-okc-ok/
CATEGORIES:FriendSpeak
END:VEVENT
BEGIN:VEVENT
DTSTART;VALUE=DATE:20210812
DTEND;VALUE=DATE:20210813
DTSTAMP:20260422T170145
CREATED:20210809T221919Z
LAST-MODIFIED:20210809T221919Z
UID:2382-1628726400-1628812799@lst.org
SUMMARY:FriendSpeak Leader's Training
DESCRIPTION:
URL:https://lst.org/event/friendspeak-leaders-training/
LOCATION:Glen Rose\, TX\, Glen Rose\, TX\, United States
CATEGORIES:FriendSpeak
END:VEVENT
BEGIN:VEVENT
DTSTART;TZID=America/Chicago:20210805T190000
DTEND;TZID=America/Chicago:20210805T220000
DTSTAMP:20260422T170145
CREATED:20210617T013541Z
LAST-MODIFIED:20210617T013621Z
UID:2214-1628190000-1628200800@lst.org
SUMMARY:Basic Training
DESCRIPTION:In this three-hour workshop receive the basic training you’ll need to utilize the LST approach in sharing your faith and your life with an international friend.  If you’re utilizing this training for FriendSpeak or for an LST Project\, this training also links you to LST Connect where you can serve a Reader online!  This seminar will cover the basic LST philosophy and methodology.
URL:https://lst.org/event/basic-training-15/
LOCATION:Online
CATEGORIES:FriendSpeak,LST Connect,LST Mission Projects
ORGANIZER;CN="Let's Start Talking":MAILTO:LST@LST.org
END:VEVENT
BEGIN:VEVENT
DTSTART;VALUE=DATE:20210730
DTEND;VALUE=DATE:20210901
DTSTAMP:20260422T170145
CREATED:20210729T015138Z
LAST-MODIFIED:20210729T015138Z
UID:2359-1627603200-1630454399@lst.org
SUMMARY:LST Project (Bila Tserkva\, Ukraine)
DESCRIPTION:
URL:https://lst.org/event/lst-project-bila-tserkva-ukraine-2/
LOCATION:Bila Tserkva\, Ukraine\, Bila Tserkva\, Ukraine
CATEGORIES:LST Mission Projects
ORGANIZER;CN="Let's Start Talking":MAILTO:LST@LST.org
END:VEVENT
BEGIN:VEVENT
DTSTART;TZID=America/Chicago:20210725T200000
DTEND;TZID=America/Chicago:20210725T210000
DTSTAMP:20260422T170145
CREATED:20210617T021850Z
LAST-MODIFIED:20210617T022641Z
UID:2237-1627243200-1627246800@lst.org
SUMMARY:Advanced Training - Building Bridges
DESCRIPTION:LST is pleased to provide specialized training for experienced Workers!  These sessions are for Workers who have been through Basic Training (or equivalent)\, have experience working with LST Readers\, and feel comfortable utilizing the LST approach.  For registered LST Connect and FriendSpeak Workers these advanced training sessions are offered for no additional fee.
URL:https://lst.org/event/basic-training-building-bridges/
LOCATION:Online
CATEGORIES:FriendSpeak,LST Connect
ORGANIZER;CN="Let's Start Talking":MAILTO:LST@LST.org
END:VEVENT
BEGIN:VEVENT
DTSTART;TZID=America/Chicago:20210722T190000
DTEND;TZID=America/Chicago:20210722T200000
DTSTAMP:20260422T170145
CREATED:20210617T020400Z
LAST-MODIFIED:20210617T020443Z
UID:2228-1626980400-1626984000@lst.org
SUMMARY:LST MeetUp (Party!)
DESCRIPTION:LST Meetups are for LST Readers and Workers participating in the LST Connect program!  This one-hour online gathering is a time to connect with other participants\, have fun\, and continue practicing English.  If you have friends interested in LST Connect\, invite them to this online “party!”
URL:https://lst.org/event/lst-meetup-party-8/
LOCATION:Online
CATEGORIES:LST Connect
END:VEVENT
BEGIN:VEVENT
DTSTART;TZID=America/Chicago:20210720T120000
DTEND;TZID=America/Chicago:20210720T130000
DTSTAMP:20260422T170145
CREATED:20210617T020217Z
LAST-MODIFIED:20210617T020217Z
UID:2226-1626782400-1626786000@lst.org
SUMMARY:LST MeetUp (Party!)
DESCRIPTION:LST Meetups are for LST Readers and Workers participating in the LST Connect program!  This one-hour online gathering is a time to connect with other participants\, have fun\, and continue practicing English.  If you have friends interested in LST Connect\, invite them to this online “party!”
URL:https://lst.org/event/lst-meetup-party-7/
LOCATION:Online
CATEGORIES:LST Connect
ORGANIZER;CN="Let's Start Talking":MAILTO:LST@LST.org
END:VEVENT
BEGIN:VEVENT
DTSTART;TZID=UTC:20210718T190000
DTEND;TZID=UTC:20210718T220000
DTSTAMP:20260422T170145
CREATED:20210617T013231Z
LAST-MODIFIED:20210617T013318Z
UID:2212-1626634800-1626645600@lst.org
SUMMARY:Basic Training
DESCRIPTION:In this three-hour workshop receive the basic training you’ll need to utilize the LST approach in sharing your faith and your life with an international friend.  If you’re utilizing this training for FriendSpeak or for an LST Project\, this training also links you to LST Connect where you can serve a Reader online!  This seminar will cover the basic LST philosophy and methodology.
URL:https://lst.org/event/basic-training-14/
LOCATION:Online
CATEGORIES:FriendSpeak,LST Connect,LST Mission Projects
ORGANIZER;CN="Let's Start Talking":MAILTO:LST@LST.org
END:VEVENT
BEGIN:VEVENT
DTSTART;VALUE=DATE:20210712
DTEND;VALUE=DATE:20210717
DTSTAMP:20260422T170145
CREATED:20210707T015358Z
LAST-MODIFIED:20210707T020933Z
UID:2263-1626048000-1626479999@lst.org
SUMMARY:LST Project (Virtual; Tabacundo\, Ecuador)
DESCRIPTION:
URL:https://lst.org/event/lst-project-virtual-tabacundo-ecuador/
LOCATION:Online
CATEGORIES:LST Mission Projects
ORGANIZER;CN="Let's Start Talking":MAILTO:LST@LST.org
END:VEVENT
BEGIN:VEVENT
DTSTART;TZID=America/Chicago:20210708T190000
DTEND;TZID=America/Chicago:20210708T220000
DTSTAMP:20260422T170145
CREATED:20210617T012904Z
LAST-MODIFIED:20210617T013300Z
UID:2207-1625770800-1625781600@lst.org
SUMMARY:Basic Training
DESCRIPTION:In this three-hour workshop receive the basic training you’ll need to utilize the LST approach in sharing your faith and your life with an international friend.  If you’re utilizing this training for FriendSpeak or for an LST Project\, this training also links you to LST Connect where you can serve a Reader online!  This seminar will cover the basic LST philosophy and methodology.
URL:https://lst.org/event/basic-training-13/
LOCATION:Online
CATEGORIES:FriendSpeak,LST Connect,LST Mission Projects
END:VEVENT
BEGIN:VEVENT
DTSTART;TZID=America/Chicago:20210627T200000
DTEND;TZID=America/Chicago:20210627T210000
DTSTAMP:20260422T170145
CREATED:20210325T204233Z
LAST-MODIFIED:20210617T021622Z
UID:2078-1624824000-1624827600@lst.org
SUMMARY:Advanced Training - Engaging Readers Online
DESCRIPTION:LST is pleased to provide specialized training for experienced Workers!  These sessions are for Workers who have been through Basic Training (or equivalent)\, have experience working with LST Readers\, and feel comfortable utilizing the LST approach.  For registered LST Connect and FriendSpeak Workers these advanced training sessions are offered for no additional fee.
URL:https://lst.org/event/advanced-training-topic-tba-5/
LOCATION:Online
CATEGORIES:LST Connect
ORGANIZER;CN="Let's Start Talking":MAILTO:LST@LST.org
END:VEVENT
BEGIN:VEVENT
DTSTART;VALUE=DATE:20210625
DTEND;VALUE=DATE:20210713
DTSTAMP:20260422T170145
CREATED:20210525T063352Z
LAST-MODIFIED:20210525T063450Z
UID:2157-1624579200-1626134399@lst.org
SUMMARY:LST Project (Varazdin\, Croatia)
DESCRIPTION:
URL:https://lst.org/event/lst-mission-project-varazdin-croatia/
LOCATION:Varazdin\, Croatia\, Varazdin\, Croatia (Local Name: Hrvatska)
CATEGORIES:LST Mission Projects
END:VEVENT
BEGIN:VEVENT
DTSTART;TZID=America/Denver:20210624T190000
DTEND;TZID=America/Denver:20210624T210000
DTSTAMP:20260422T170145
CREATED:20210521T190950Z
LAST-MODIFIED:20210617T014435Z
UID:2151-1624561200-1624568400@lst.org
SUMMARY:FriendSpeak Leadership Training (Glenwood Spring\, CO)
DESCRIPTION:
URL:https://lst.org/event/friendspeak-leadership-training-glenwood-spring-co/
LOCATION:Online
CATEGORIES:FriendSpeak
END:VEVENT
BEGIN:VEVENT
DTSTART;TZID=America/Chicago:20210613T190000
DTEND;TZID=America/Chicago:20210613T220000
DTSTAMP:20260422T170145
CREATED:20210325T202655Z
LAST-MODIFIED:20210325T202655Z
UID:2072-1623610800-1623621600@lst.org
SUMMARY:Basic Training
DESCRIPTION:In this three-hour workshop receive the basic training you’ll need to utilize the LST approach in sharing your faith and your life with an international friend.  If you’re utilizing this training for FriendSpeak or for an LST Project\, this training also links you to LST Connect where you can serve a Reader online!  This seminar will cover the basic LST philosophy and methodology.
URL:https://lst.org/event/basic-training-12/
LOCATION:Online
END:VEVENT
BEGIN:VEVENT
DTSTART;VALUE=DATE:20210612
DTEND;VALUE=DATE:20210613
DTSTAMP:20260422T170145
CREATED:20210604T204338Z
LAST-MODIFIED:20210604T204338Z
UID:2172-1623456000-1623542399@lst.org
SUMMARY:FriendSpeak Training (Canyon\, TX)
DESCRIPTION:
URL:https://lst.org/event/friendspeak-training-canyon-tx/
LOCATION:Canyon\, TX\, Canyon\, TX\, United States
CATEGORIES:FriendSpeak
END:VEVENT
BEGIN:VEVENT
DTSTART;VALUE=DATE:20210607
DTEND;VALUE=DATE:20210619
DTSTAMP:20260422T170145
CREATED:20210525T064730Z
LAST-MODIFIED:20210525T064730Z
UID:2164-1623024000-1624060799@lst.org
SUMMARY:LST Project ((Virtual) Ghent\, Belgium)
DESCRIPTION:
URL:https://lst.org/event/lst-project-virtual-ghent-belgium/
LOCATION:Ghent\, Belgium\, Ghent\, Belgium
CATEGORIES:LST Mission Projects
END:VEVENT
BEGIN:VEVENT
DTSTART;VALUE=DATE:20210607
DTEND;VALUE=DATE:20210619
DTSTAMP:20260422T170145
CREATED:20210525T063828Z
LAST-MODIFIED:20210525T063828Z
UID:2161-1623024000-1624060799@lst.org
SUMMARY:LST Project ((Virtual) Krakow\, Poland)
DESCRIPTION:
URL:https://lst.org/event/lst-project-virtual-krakow-poland/
LOCATION:Krakow\, Poland\, Krakow\, Poland
CATEGORIES:LST Mission Projects
END:VEVENT
END:VCALENDAR