BEGIN:VCALENDAR
VERSION:2.0
PRODID:-//Let&#039;s Start Talking - ECPv6.15.20//NONSGML v1.0//EN
CALSCALE:GREGORIAN
METHOD:PUBLISH
X-WR-CALNAME:Let&#039;s Start Talking
X-ORIGINAL-URL:https://lst.org
X-WR-CALDESC:Events for Let&#039;s Start Talking
REFRESH-INTERVAL;VALUE=DURATION:PT1H
X-Robots-Tag:noindex
X-PUBLISHED-TTL:PT1H
BEGIN:VTIMEZONE
TZID:UTC
BEGIN:STANDARD
TZOFFSETFROM:+0000
TZOFFSETTO:+0000
TZNAME:UTC
DTSTART:20200101T000000
END:STANDARD
END:VTIMEZONE
BEGIN:VTIMEZONE
TZID:America/Chicago
BEGIN:DAYLIGHT
TZOFFSETFROM:-0600
TZOFFSETTO:-0500
TZNAME:CDT
DTSTART:20200308T080000
END:DAYLIGHT
BEGIN:STANDARD
TZOFFSETFROM:-0500
TZOFFSETTO:-0600
TZNAME:CST
DTSTART:20201101T070000
END:STANDARD
BEGIN:DAYLIGHT
TZOFFSETFROM:-0600
TZOFFSETTO:-0500
TZNAME:CDT
DTSTART:20210314T080000
END:DAYLIGHT
BEGIN:STANDARD
TZOFFSETFROM:-0500
TZOFFSETTO:-0600
TZNAME:CST
DTSTART:20211107T070000
END:STANDARD
BEGIN:DAYLIGHT
TZOFFSETFROM:-0600
TZOFFSETTO:-0500
TZNAME:CDT
DTSTART:20220313T080000
END:DAYLIGHT
BEGIN:STANDARD
TZOFFSETFROM:-0500
TZOFFSETTO:-0600
TZNAME:CST
DTSTART:20221106T070000
END:STANDARD
BEGIN:DAYLIGHT
TZOFFSETFROM:-0600
TZOFFSETTO:-0500
TZNAME:CDT
DTSTART:20230312T080000
END:DAYLIGHT
BEGIN:STANDARD
TZOFFSETFROM:-0500
TZOFFSETTO:-0600
TZNAME:CST
DTSTART:20231105T070000
END:STANDARD
END:VTIMEZONE
BEGIN:VEVENT
DTSTART;TZID=UTC:20220224T080000
DTEND;TZID=UTC:20220224T170000
DTSTAMP:20260422T031924
CREATED:20220220T004000Z
LAST-MODIFIED:20220220T004000Z
UID:2727-1645689600-1645722000@lst.org
SUMMARY:FriendSpeak Leadership Training (Richardson\, TX)
DESCRIPTION:
URL:https://lst.org/event/friendspeak-leadership-training-richardson-tx/
LOCATION:Care Church\, Richardson\, Texas
CATEGORIES:FriendSpeak
END:VEVENT
BEGIN:VEVENT
DTSTART;TZID=America/Chicago:20220223T120000
DTEND;TZID=America/Chicago:20220223T130000
DTSTAMP:20260422T031924
CREATED:20211218T020639Z
LAST-MODIFIED:20211218T020639Z
UID:2585-1645617600-1645621200@lst.org
SUMMARY:Advanced Training: Beyond the Basics
DESCRIPTION:LST is pleased to provide specialized training for experienced Workers!  These sessions are for Workers who have been through Basic Training (or equivalent)\, have experience working with LST Readers\, and feel comfortable utilizing the LST approach.  For registered LST Connect and FriendSpeak Workers these advanced training sessions are offered for no additional fee.
URL:https://lst.org/event/advanced-training-beyond-the-basics-3/
LOCATION:Online
CATEGORIES:FriendSpeak,LST Connect,LST Mission Projects
END:VEVENT
BEGIN:VEVENT
DTSTART;TZID=America/Chicago:20220220T190000
DTEND;TZID=America/Chicago:20220220T220000
DTSTAMP:20260422T031924
CREATED:20211218T015456Z
LAST-MODIFIED:20211218T015456Z
UID:2577-1645383600-1645394400@lst.org
SUMMARY:Basic Training
DESCRIPTION:In this three-hour workshop receive the basic training you’ll need to utilize the LST approach in sharing your faith and your life with an international friend.  Whether you’re using this training for your local FriendSpeak work\, to connect online with a Reader through LST Connect\, or preparing for an international mission project\, you’re welcome! This seminar will cover the basic LST philosophy and methodology.
URL:https://lst.org/event/basic-training-29/
LOCATION:Online
CATEGORIES:FriendSpeak,LST Connect,LST Mission Projects
END:VEVENT
BEGIN:VEVENT
DTSTART;TZID=America/Chicago:20220217T120000
DTEND;TZID=America/Chicago:20220217T130000
DTSTAMP:20260422T031924
CREATED:20211218T021506Z
LAST-MODIFIED:20211218T021506Z
UID:2591-1645099200-1645102800@lst.org
SUMMARY:LST MeetUp (Party!)
DESCRIPTION:LST Meetups are for LST Readers and Workers participating in the LST Connect program!  This one-hour online gathering is a time to connect with other participants\, have fun\, and continue practicing English.  If you have friends interested in LST Connect\, invite them to this online “party!”
URL:https://lst.org/event/lst-meetup-party-14/
LOCATION:Online
ORGANIZER;CN="Let's Start Talking":MAILTO:LST@LST.org
END:VEVENT
BEGIN:VEVENT
DTSTART;TZID=America/Chicago:20220215T190000
DTEND;TZID=America/Chicago:20220215T200000
DTSTAMP:20260422T031924
CREATED:20211218T021345Z
LAST-MODIFIED:20211218T021345Z
UID:2589-1644951600-1644955200@lst.org
SUMMARY:LST MeetUp (Party!)
DESCRIPTION:LST Meetups are for LST Readers and Workers participating in the LST Connect program!  This one-hour online gathering is a time to connect with other participants\, have fun\, and continue practicing English.  If you have friends interested in LST Connect\, invite them to this online “party!”
URL:https://lst.org/event/lst-meetup-party-13/
LOCATION:Online
CATEGORIES:LST Connect
END:VEVENT
BEGIN:VEVENT
DTSTART;TZID=America/Chicago:20220210T190000
DTEND;TZID=America/Chicago:20220210T220000
DTSTAMP:20260422T031924
CREATED:20211218T015340Z
LAST-MODIFIED:20211218T015340Z
UID:2575-1644519600-1644530400@lst.org
SUMMARY:Basic Training
DESCRIPTION:In this three-hour workshop receive the basic training you’ll need to utilize the LST approach in sharing your faith and your life with an international friend.  Whether you’re using this training for your local FriendSpeak work\, to connect online with a Reader through LST Connect\, or preparing for an international mission project\, you’re welcome! This seminar will cover the basic LST philosophy and methodology.
URL:https://lst.org/event/basic-training-28/
LOCATION:Online
CATEGORIES:FriendSpeak,LST Connect,LST Mission Projects
END:VEVENT
BEGIN:VEVENT
DTSTART;TZID=America/Chicago:20220206T130000
DTEND;TZID=America/Chicago:20220206T150000
DTSTAMP:20260422T031924
CREATED:20220113T034350Z
LAST-MODIFIED:20220113T034350Z
UID:2642-1644152400-1644159600@lst.org
SUMMARY:FriendSpeak Leadership Training (Stamford\, CT)
DESCRIPTION:
URL:https://lst.org/event/friendspeak-leadership-training-stamford-ct/
LOCATION:Online
CATEGORIES:FriendSpeak
END:VEVENT
BEGIN:VEVENT
DTSTART;TZID=America/Chicago:20220130T200000
DTEND;TZID=America/Chicago:20220130T210000
DTSTAMP:20260422T031924
CREATED:20211218T020449Z
LAST-MODIFIED:20211218T020449Z
UID:2583-1643572800-1643576400@lst.org
SUMMARY:Advanced Training: LST Workbooks Overview
DESCRIPTION:LST is pleased to provide specialized training for experienced Workers!  These sessions are for Workers who have been through Basic Training (or equivalent)\, have experience working with LST Readers\, and feel comfortable utilizing the LST approach.  For registered LST Connect and FriendSpeak Workers these advanced training sessions are offered for no additional fee.
URL:https://lst.org/event/advanced-training-lst-workbooks-overview/
LOCATION:Online
CATEGORIES:FriendSpeak,LST Connect,LST Mission Projects
ORGANIZER;CN="Let's Start Talking":MAILTO:LST@LST.org
END:VEVENT
BEGIN:VEVENT
DTSTART;TZID=America/Chicago:20220123T190000
DTEND;TZID=America/Chicago:20220123T220000
DTSTAMP:20260422T031924
CREATED:20211218T015231Z
LAST-MODIFIED:20211218T015231Z
UID:2573-1642964400-1642975200@lst.org
SUMMARY:Basic Training
DESCRIPTION:In this three-hour workshop receive the basic training you’ll need to utilize the LST approach in sharing your faith and your life with an international friend.  Whether you’re using this training for your local FriendSpeak work\, to connect online with a Reader through LST Connect\, or preparing for an international mission project\, you’re welcome! This seminar will cover the basic LST philosophy and methodology.
URL:https://lst.org/event/basic-training-27/
LOCATION:Online
CATEGORIES:FriendSpeak,LST Connect,LST Mission Projects
ORGANIZER;CN="Let's Start Talking":MAILTO:LST@LST.org
END:VEVENT
BEGIN:VEVENT
DTSTART;TZID=America/Chicago:20220113T190000
DTEND;TZID=America/Chicago:20220113T220000
DTSTAMP:20260422T031924
CREATED:20211218T015105Z
LAST-MODIFIED:20211218T015105Z
UID:2571-1642100400-1642111200@lst.org
SUMMARY:Basic Training
DESCRIPTION:In this three-hour workshop receive the basic training you’ll need to utilize the LST approach in sharing your faith and your life with an international friend.  Whether you’re using this training for your local FriendSpeak work\, to connect online with a Reader through LST Connect\, or preparing for an international mission project\, you’re welcome! This seminar will cover the basic LST philosophy and methodology.
URL:https://lst.org/event/basic-training-26/
LOCATION:Online
CATEGORIES:FriendSpeak,LST Connect,LST Mission Projects
ORGANIZER;CN="Let's Start Talking":MAILTO:LST@LST.org
END:VEVENT
BEGIN:VEVENT
DTSTART;VALUE=DATE:20220109
DTEND;VALUE=DATE:20220110
DTSTAMP:20260422T031924
CREATED:20211027T023330Z
LAST-MODIFIED:20211027T023459Z
UID:2536-1641686400-1641772799@lst.org
SUMMARY:FriendSpeak Training Seminar (Glen Rose\, TX)
DESCRIPTION:
URL:https://lst.org/event/friendspeak-training-seminar-glen-rose-tx/
LOCATION:Glen Rose\, TX\, Glen Rose\, TX\, United States
CATEGORIES:FriendSpeak
END:VEVENT
BEGIN:VEVENT
DTSTART;TZID=America/Chicago:20220104T190000
DTEND;TZID=America/Chicago:20220104T213000
DTSTAMP:20260422T031924
CREATED:20220105T033139Z
LAST-MODIFIED:20220105T035856Z
UID:2621-1641322800-1641331800@lst.org
SUMMARY:FriendSpeak Training Seminar (Katy\, TX - online)
DESCRIPTION:
URL:https://lst.org/event/friendspeak-training-seminar-katy-tx-online/
LOCATION:Online
CATEGORIES:FriendSpeak
END:VEVENT
BEGIN:VEVENT
DTSTART;TZID=America/Chicago:20211216T120000
DTEND;TZID=America/Chicago:20211216T130000
DTSTAMP:20260422T031924
CREATED:20210928T025555Z
LAST-MODIFIED:20210928T025718Z
UID:2509-1639656000-1639659600@lst.org
SUMMARY:Advanced Training - Engaging Readers Online
DESCRIPTION:LST is pleased to provide specialized training for experienced Workers!  These sessions are for Workers who have been through Basic Training (or equivalent)\, have experience working with LST Readers\, and feel comfortable utilizing the LST approach.  For registered LST Connect and FriendSpeak Workers these advanced training sessions are offered for no additional fee.
URL:https://lst.org/event/advanced-training-engaging-readers-online/
LOCATION:Online
CATEGORIES:FriendSpeak,LST Connect,LST Mission Projects
ORGANIZER;CN="Let's Start Talking":MAILTO:LST@LST.org
END:VEVENT
BEGIN:VEVENT
DTSTART;TZID=America/Chicago:20211212T190000
DTEND;TZID=America/Chicago:20211212T220000
DTSTAMP:20260422T031924
CREATED:20210928T024853Z
LAST-MODIFIED:20210928T024853Z
UID:2502-1639335600-1639346400@lst.org
SUMMARY:Basic Training
DESCRIPTION:In this three-hour workshop receive the basic training you’ll need to utilize the LST approach in sharing your faith and your life with an international friend.  Whether you’re using this training for your local FriendSpeak work\, to connect online with a Reader through LST Connect\, or preparing for an international mission project\, you’re welcome! This seminar will cover the basic LST philosophy and methodology.
URL:https://lst.org/event/basic-training-25/
LOCATION:Online
CATEGORIES:FriendSpeak,LST Connect,LST Mission Projects
ORGANIZER;CN="Let's Start Talking":MAILTO:LST@LST.org
END:VEVENT
BEGIN:VEVENT
DTSTART;TZID=America/Chicago:20211209T190000
DTEND;TZID=America/Chicago:20211209T220000
DTSTAMP:20260422T031924
CREATED:20210928T024738Z
LAST-MODIFIED:20210928T024738Z
UID:2500-1639076400-1639087200@lst.org
SUMMARY:Basic Training
DESCRIPTION:In this three-hour workshop receive the basic training you’ll need to utilize the LST approach in sharing your faith and your life with an international friend.  Whether you’re using this training for your local FriendSpeak work\, to connect online with a Reader through LST Connect\, or preparing for an international mission project\, you’re welcome! This seminar will cover the basic LST philosophy and methodology.
URL:https://lst.org/event/basic-training-24/
LOCATION:Online
CATEGORIES:FriendSpeak,LST Connect,LST Mission Projects
ORGANIZER;CN="Let's Start Talking":MAILTO:LST@LST.org
END:VEVENT
BEGIN:VEVENT
DTSTART;TZID=America/Chicago:20211202T190000
DTEND;TZID=America/Chicago:20211202T200000
DTSTAMP:20260422T031924
CREATED:20210928T030157Z
LAST-MODIFIED:20210928T030157Z
UID:2513-1638471600-1638475200@lst.org
SUMMARY:LST MeetUp (Party!)
DESCRIPTION:LST Meetups are for LST Readers and Workers participating in the LST Connect program!  This one-hour online gathering is a time to connect with other participants\, have fun\, and continue practicing English.  If you have friends interested in LST Connect\, invite them to this online “party!”
URL:https://lst.org/event/lst-meetup-party-12/
LOCATION:Online
ORGANIZER;CN="Let's Start Talking":MAILTO:LST@LST.org
END:VEVENT
BEGIN:VEVENT
DTSTART;TZID=America/Chicago:20211130T120000
DTEND;TZID=America/Chicago:20211130T130000
DTSTAMP:20260422T031924
CREATED:20210928T030014Z
LAST-MODIFIED:20210928T030014Z
UID:2511-1638273600-1638277200@lst.org
SUMMARY:LST MeetUp (Party!)
DESCRIPTION:LST Meetups are for LST Readers and Workers participating in the LST Connect program!  This one-hour online gathering is a time to connect with other participants\, have fun\, and continue practicing English.  If you have friends interested in LST Connect\, invite them to this online “party!”
URL:https://lst.org/event/lst-meetup-party-11/
LOCATION:Online
CATEGORIES:LST Connect
END:VEVENT
BEGIN:VEVENT
DTSTART;VALUE=DATE:20211130
DTEND;VALUE=DATE:20211201
DTSTAMP:20260422T031924
CREATED:20201217T033442Z
LAST-MODIFIED:20210928T030500Z
UID:1784-1638230400-1638316799@lst.org
SUMMARY:Giving Tuesday
DESCRIPTION:This national Day of Giving launches LST’s end-of-year fundraising push!  Watch for more details including goals and timeline.
URL:https://lst.org/event/giving-tuesday/
LOCATION:Online
CATEGORIES:Fundraising
ORGANIZER;CN="Let's Start Talking":MAILTO:LST@LST.org
END:VEVENT
BEGIN:VEVENT
DTSTART;TZID=America/Chicago:20211121T200000
DTEND;TZID=America/Chicago:20211121T210000
DTSTAMP:20260422T031924
CREATED:20210928T025409Z
LAST-MODIFIED:20210928T025409Z
UID:2507-1637524800-1637528400@lst.org
SUMMARY:Advanced Training - Beyond the Basics
DESCRIPTION:LST is pleased to provide specialized training for experienced Workers!  These sessions are for Workers who have been through Basic Training (or equivalent)\, have experience working with LST Readers\, and feel comfortable utilizing the LST approach.  For registered LST Connect and FriendSpeak Workers these advanced training sessions are offered for no additional fee.
URL:https://lst.org/event/advanced-training-beyond-the-basics-2/
LOCATION:Online
CATEGORIES:FriendSpeak,Fundraising,LST Mission Projects
END:VEVENT
BEGIN:VEVENT
DTSTART;TZID=America/Chicago:20211114T190000
DTEND;TZID=America/Chicago:20211114T220000
DTSTAMP:20260422T031924
CREATED:20210928T024604Z
LAST-MODIFIED:20210928T024604Z
UID:2498-1636916400-1636927200@lst.org
SUMMARY:Basic Training
DESCRIPTION:In this three-hour workshop receive the basic training you’ll need to utilize the LST approach in sharing your faith and your life with an international friend.  Whether you’re using this training for your local FriendSpeak work\, to connect online with a Reader through LST Connect\, or preparing for an international mission project\, you’re welcome! This seminar will cover the basic LST philosophy and methodology.
URL:https://lst.org/event/basic-training-23/
LOCATION:Online
CATEGORIES:FriendSpeak,LST Connect,LST Mission Projects
ORGANIZER;CN="Let's Start Talking":MAILTO:LST@LST.org
END:VEVENT
BEGIN:VEVENT
DTSTART;TZID=America/Chicago:20211111T190000
DTEND;TZID=America/Chicago:20211111T220000
DTSTAMP:20260422T031924
CREATED:20210928T024447Z
LAST-MODIFIED:20210928T024447Z
UID:2496-1636657200-1636668000@lst.org
SUMMARY:Basic Training
DESCRIPTION:In this three-hour workshop receive the basic training you’ll need to utilize the LST approach in sharing your faith and your life with an international friend.  Whether you’re using this training for your local FriendSpeak work\, to connect online with a Reader through LST Connect\, or preparing for an international mission project\, you’re welcome! This seminar will cover the basic LST philosophy and methodology.
URL:https://lst.org/event/basic-training-22/
LOCATION:Online
CATEGORIES:FriendSpeak,LST Connect,LST Mission Projects
END:VEVENT
BEGIN:VEVENT
DTSTART;TZID=America/Chicago:20211028T190000
DTEND;TZID=America/Chicago:20211028T220000
DTSTAMP:20260422T031924
CREATED:20210928T024233Z
LAST-MODIFIED:20210928T024233Z
UID:2492-1635447600-1635458400@lst.org
SUMMARY:Basic Training
DESCRIPTION:In this three-hour workshop receive the basic training you’ll need to utilize the LST approach in sharing your faith and your life with an international friend.  Whether you’re using this training for your local FriendSpeak work\, to connect online with a Reader through LST Connect\, or preparing for an international mission project\, you’re welcome! This seminar will cover the basic LST philosophy and methodology.
URL:https://lst.org/event/basic-training-21/
LOCATION:Online
CATEGORIES:FriendSpeak,LST Connect,LST Mission Projects
ORGANIZER;CN="Let's Start Talking":MAILTO:LST@LST.org
END:VEVENT
BEGIN:VEVENT
DTSTART;VALUE=DATE:20211025
DTEND;VALUE=DATE:20211121
DTSTAMP:20260422T031924
CREATED:20210721T195612Z
LAST-MODIFIED:20210721T223634Z
UID:2339-1635120000-1637452799@lst.org
SUMMARY:LST Project (Antwerp\, Belgium)
DESCRIPTION:
URL:https://lst.org/event/lst-project-antwerp-belgium/
LOCATION:Antwerp\, Belgium\, Antwerp\, Belgium
CATEGORIES:LST Mission Projects
ORGANIZER;CN="Let's Start Talking":MAILTO:LST@LST.org
END:VEVENT
BEGIN:VEVENT
DTSTART;TZID=America/Chicago:20211024T200000
DTEND;TZID=America/Chicago:20211024T210000
DTSTAMP:20260422T031924
CREATED:20210928T025222Z
LAST-MODIFIED:20210928T025222Z
UID:2505-1635105600-1635109200@lst.org
SUMMARY:Advanced Training - Improving Our Conversations
DESCRIPTION:LST is pleased to provide specialized training for experienced Workers!  These sessions are for Workers who have been through Basic Training (or equivalent)\, have experience working with LST Readers\, and feel comfortable utilizing the LST approach.  For registered LST Connect and FriendSpeak Workers these advanced training sessions are offered for no additional fee.
URL:https://lst.org/event/advanced-training-improving-our-conversations/
LOCATION:Online
CATEGORIES:FriendSpeak,LST Connect,LST Mission Projects
ORGANIZER;CN="Let's Start Talking":MAILTO:LST@LST.org
END:VEVENT
BEGIN:VEVENT
DTSTART;VALUE=DATE:20211024
DTEND;VALUE=DATE:20211119
DTSTAMP:20260422T031924
CREATED:20210729T021512Z
LAST-MODIFIED:20210729T021512Z
UID:2361-1635033600-1637279999@lst.org
SUMMARY:LST Project (Marseille\, France)
DESCRIPTION:
URL:https://lst.org/event/lst-project-marseille-france/
LOCATION:Marseille\, France\, Marseille\, France
CATEGORIES:LST Mission Projects
END:VEVENT
BEGIN:VEVENT
DTSTART;TZID=America/Chicago:20211017T190000
DTEND;TZID=America/Chicago:20211017T220000
DTSTAMP:20260422T031924
CREATED:20210928T024105Z
LAST-MODIFIED:20210928T024105Z
UID:2490-1634497200-1634508000@lst.org
SUMMARY:Basic Training
DESCRIPTION:In this three-hour workshop receive the basic training you’ll need to utilize the LST approach in sharing your faith and your life with an international friend.  Whether you’re using this training for your local FriendSpeak work\, to connect online with a Reader through LST Connect\, or preparing for an international mission project\, you’re welcome! This seminar will cover the basic LST philosophy and methodology.
URL:https://lst.org/event/basic-training-20/
LOCATION:Online
CATEGORIES:FriendSpeak,Fundraising
ORGANIZER;CN="Let's Start Talking":MAILTO:LST@LST.org
END:VEVENT
BEGIN:VEVENT
DTSTART;TZID=America/Chicago:20211007T190000
DTEND;TZID=America/Chicago:20211007T220000
DTSTAMP:20260422T031924
CREATED:20210928T023935Z
LAST-MODIFIED:20210928T023946Z
UID:2487-1633633200-1633644000@lst.org
SUMMARY:Basic Training
DESCRIPTION:In this three-hour workshop receive the basic training you’ll need to utilize the LST approach in sharing your faith and your life with an international friend.  Whether you’re using this training for your local FriendSpeak work\, to connect online with a Reader through LST Connect\, or preparing for an international mission project\, you’re welcome! This seminar will cover the basic LST philosophy and methodology.
URL:https://lst.org/event/basic-training-19/
LOCATION:Online
CATEGORIES:FriendSpeak,LST Connect
ORGANIZER;CN="Let's Start Talking":MAILTO:LST@LST.org
END:VEVENT
BEGIN:VEVENT
DTSTART;VALUE=DATE:20211001
DTEND;VALUE=DATE:20211018
DTSTAMP:20260422T031924
CREATED:20210827T212810Z
LAST-MODIFIED:20210916T010411Z
UID:2421-1633046400-1634515199@lst.org
SUMMARY:LST Project (Zagreb\, Croatia)
DESCRIPTION:
URL:https://lst.org/event/lst-project-zagreb-croatia/
LOCATION:Zagreb\, Croatia\, Zagreb\, Croatia (Local Name: Hrvatska)
CATEGORIES:LST Mission Projects
ORGANIZER;CN="Let's Start Talking":MAILTO:LST@LST.org
END:VEVENT
BEGIN:VEVENT
DTSTART;TZID=America/Chicago:20210930T190000
DTEND;TZID=America/Chicago:20210930T220000
DTSTAMP:20260422T031924
CREATED:20210914T004858Z
LAST-MODIFIED:20210914T004858Z
UID:2474-1633028400-1633039200@lst.org
SUMMARY:FriendSpeak Training Seminar (Houston\, TX)
DESCRIPTION:
URL:https://lst.org/event/friendspeak-training-seminar-houston-tx-5/
LOCATION:Online
CATEGORIES:FriendSpeak
END:VEVENT
BEGIN:VEVENT
DTSTART;TZID=America/Chicago:20210930T190000
DTEND;TZID=America/Chicago:20210930T200000
DTSTAMP:20260422T031924
CREATED:20210617T020750Z
LAST-MODIFIED:20210617T023331Z
UID:2232-1633028400-1633032000@lst.org
SUMMARY:LST MeetUp (Party!)
DESCRIPTION:LST Meetups are for LST Readers and Workers participating in the LST Connect program!  This one-hour online gathering is a time to connect with other participants\, have fun\, and continue practicing English.  If you have friends interested in LST Connect\, invite them to this online “party!”
URL:https://lst.org/event/lst-meetup-party-10/
LOCATION:Online
CATEGORIES:LST Connect
END:VEVENT
END:VCALENDAR