BEGIN:VCALENDAR
VERSION:2.0
PRODID:-//Let&#039;s Start Talking - ECPv6.15.20//NONSGML v1.0//EN
CALSCALE:GREGORIAN
METHOD:PUBLISH
X-WR-CALNAME:Let&#039;s Start Talking
X-ORIGINAL-URL:https://lst.org
X-WR-CALDESC:Events for Let&#039;s Start Talking
REFRESH-INTERVAL;VALUE=DURATION:PT1H
X-Robots-Tag:noindex
X-PUBLISHED-TTL:PT1H
BEGIN:VTIMEZONE
TZID:America/Chicago
BEGIN:DAYLIGHT
TZOFFSETFROM:-0600
TZOFFSETTO:-0500
TZNAME:CDT
DTSTART:20210314T080000
END:DAYLIGHT
BEGIN:STANDARD
TZOFFSETFROM:-0500
TZOFFSETTO:-0600
TZNAME:CST
DTSTART:20211107T070000
END:STANDARD
BEGIN:DAYLIGHT
TZOFFSETFROM:-0600
TZOFFSETTO:-0500
TZNAME:CDT
DTSTART:20220313T080000
END:DAYLIGHT
BEGIN:STANDARD
TZOFFSETFROM:-0500
TZOFFSETTO:-0600
TZNAME:CST
DTSTART:20221106T070000
END:STANDARD
BEGIN:DAYLIGHT
TZOFFSETFROM:-0600
TZOFFSETTO:-0500
TZNAME:CDT
DTSTART:20230312T080000
END:DAYLIGHT
BEGIN:STANDARD
TZOFFSETFROM:-0500
TZOFFSETTO:-0600
TZNAME:CST
DTSTART:20231105T070000
END:STANDARD
END:VTIMEZONE
BEGIN:VTIMEZONE
TZID:UTC
BEGIN:STANDARD
TZOFFSETFROM:+0000
TZOFFSETTO:+0000
TZNAME:UTC
DTSTART:20210101T000000
END:STANDARD
END:VTIMEZONE
BEGIN:VEVENT
DTSTART;TZID=America/Chicago:20220814T190000
DTEND;TZID=America/Chicago:20220814T220000
DTSTAMP:20260421T194615
CREATED:20220622T202842Z
LAST-MODIFIED:20220622T202842Z
UID:3125-1660503600-1660514400@lst.org
SUMMARY:Basic Training
DESCRIPTION:In this three-hour workshop receive the basic training you’ll need to utilize the LST approach in sharing your faith and your life with an international friend.  Whether you’re using this training for your local FriendSpeak work\, to connect online with a Reader through LST Connect\, or preparing for an international mission project\, you’re welcome! This seminar will cover the basic LST philosophy and methodology.
URL:https://lst.org/event/basic-training-42/
LOCATION:Online
CATEGORIES:FriendSpeak,LST Connect,LST Mission Projects
ORGANIZER;CN="Let's Start Talking":MAILTO:LST@LST.org
END:VEVENT
BEGIN:VEVENT
DTSTART;TZID=America/Chicago:20220813T090000
DTEND;TZID=America/Chicago:20220813T113000
DTSTAMP:20260421T194615
CREATED:20220511T065519Z
LAST-MODIFIED:20220511T065519Z
UID:3050-1660381200-1660390200@lst.org
SUMMARY:FriendSpeak Training Seminar (Katy\, TX)
DESCRIPTION:
URL:https://lst.org/event/friendspeak-training-seminar-katy-tx/
LOCATION:Katy\, TX\, Katy\, TX\, United States
CATEGORIES:FriendSpeak
END:VEVENT
BEGIN:VEVENT
DTSTART;VALUE=DATE:20220812
DTEND;VALUE=DATE:20220905
DTSTAMP:20260421T194615
CREATED:20220210T020234Z
LAST-MODIFIED:20220210T020234Z
UID:2708-1660262400-1662335999@lst.org
SUMMARY:LST Project (Buenos Aires\, Argentina)
DESCRIPTION:
URL:https://lst.org/event/lst-project-buenos-aires-argentina-2/
LOCATION:Buenos Aires\, Argentina\, Buenos Aires\, Argentina
CATEGORIES:LST Mission Projects
ORGANIZER;CN="Let's Start Talking":MAILTO:LST@LST.org
END:VEVENT
BEGIN:VEVENT
DTSTART;TZID=America/Chicago:20220804T190000
DTEND;TZID=America/Chicago:20220804T220000
DTSTAMP:20260421T194615
CREATED:20220622T202723Z
LAST-MODIFIED:20220622T202723Z
UID:3123-1659639600-1659650400@lst.org
SUMMARY:Basic Training
DESCRIPTION:In this three-hour workshop receive the basic training you’ll need to utilize the LST approach in sharing your faith and your life with an international friend.  Whether you’re using this training for your local FriendSpeak work\, to connect online with a Reader through LST Connect\, or preparing for an international mission project\, you’re welcome! This seminar will cover the basic LST philosophy and methodology.
URL:https://lst.org/event/basic-training-41/
LOCATION:Online
CATEGORIES:FriendSpeak,LST Connect,LST Mission Projects
ORGANIZER;CN="Let's Start Talking":MAILTO:LST@LST.org
END:VEVENT
BEGIN:VEVENT
DTSTART;TZID=America/Chicago:20220731T200000
DTEND;TZID=America/Chicago:20220731T210000
DTSTAMP:20260421T194615
CREATED:20220622T211848Z
LAST-MODIFIED:20220622T212449Z
UID:3141-1659297600-1659301200@lst.org
SUMMARY:Advanced Training: Special Topic; Cross-Cultural Communication
DESCRIPTION:LST is pleased to provide specialized training for experienced Workers!  These sessions are for Workers who have been through Basic Training (or equivalent)\, have experience working with LST Readers\, and feel comfortable utilizing the LST approach.  For registered LST Connect and FriendSpeak Workers these advanced training sessions are offered for no additional fee.
URL:https://lst.org/event/advanced-training-special-topic-cross-cultural-communication/
LOCATION:Online
CATEGORIES:FriendSpeak,LST Connect,LST Mission Projects
ORGANIZER;CN="Let's Start Talking":MAILTO:LST@LST.org
END:VEVENT
BEGIN:VEVENT
DTSTART;TZID=America/Chicago:20220731T180000
DTEND;TZID=America/Chicago:20220731T193000
DTSTAMP:20260421T194615
CREATED:20220223T213840Z
LAST-MODIFIED:20220223T213840Z
UID:2757-1659290400-1659295800@lst.org
SUMMARY:LST Gateway Training for Teams Leaving Soon
DESCRIPTION:
URL:https://lst.org/event/lst-gateway-training-for-teams-leaving-soon-4/
LOCATION:Online
CATEGORIES:LST Mission Projects
ORGANIZER;CN="Let's Start Talking":MAILTO:LST@LST.org
END:VEVENT
BEGIN:VEVENT
DTSTART;VALUE=DATE:20220729
DTEND;VALUE=DATE:20220817
DTSTAMP:20260421T194615
CREATED:20220517T013316Z
LAST-MODIFIED:20220517T013316Z
UID:3052-1659052800-1660694399@lst.org
SUMMARY:LST Project (Lodz\, Poland)
DESCRIPTION:
URL:https://lst.org/event/lst-project-lodz-poland-2/
LOCATION:Lodz\, Poland\, Lodz\, Poland
CATEGORIES:LST Mission Projects
ORGANIZER;CN="Let's Start Talking":MAILTO:LST@LST.org
END:VEVENT
BEGIN:VEVENT
DTSTART;TZID=America/Chicago:20220728T200000
DTEND;TZID=America/Chicago:20220728T210000
DTSTAMP:20260421T194615
CREATED:20220701T195929Z
LAST-MODIFIED:20220701T195929Z
UID:3189-1659038400-1659042000@lst.org
SUMMARY:EndMeeting for Returned LST Teams
DESCRIPTION:
URL:https://lst.org/event/endmeeting-for-returned-lst-teams-11/
LOCATION:Online
CATEGORIES:LST Mission Projects
ORGANIZER;CN="Let's Start Talking":MAILTO:LST@LST.org
END:VEVENT
BEGIN:VEVENT
DTSTART;TZID=America/Chicago:20220728T120000
DTEND;TZID=America/Chicago:20220728T130000
DTSTAMP:20260421T194615
CREATED:20220223T213025Z
LAST-MODIFIED:20220223T213025Z
UID:2745-1659009600-1659013200@lst.org
SUMMARY:EndMeeting for Returned LST Teams
DESCRIPTION:
URL:https://lst.org/event/endmeeting-for-returned-lst-teams-5/
LOCATION:Online
CATEGORIES:LST Mission Projects
ORGANIZER;CN="Let's Start Talking":MAILTO:LST@LST.org
END:VEVENT
BEGIN:VEVENT
DTSTART;TZID=America/Chicago:20220717T190000
DTEND;TZID=America/Chicago:20220717T220000
DTSTAMP:20260421T194615
CREATED:20220622T202600Z
LAST-MODIFIED:20220622T202600Z
UID:3121-1658084400-1658095200@lst.org
SUMMARY:Basic Training
DESCRIPTION:In this three-hour workshop receive the basic training you’ll need to utilize the LST approach in sharing your faith and your life with an international friend.  Whether you’re using this training for your local FriendSpeak work\, to connect online with a Reader through LST Connect\, or preparing for an international mission project\, you’re welcome! This seminar will cover the basic LST philosophy and methodology.
URL:https://lst.org/event/basic-training-40/
LOCATION:Online
CATEGORIES:FriendSpeak,LST Connect,LST Mission Projects
ORGANIZER;CN="Let's Start Talking":MAILTO:LST@LST.org
END:VEVENT
BEGIN:VEVENT
DTSTART;VALUE=DATE:20220714
DTEND;VALUE=DATE:20220730
DTSTAMP:20260421T194615
CREATED:20220413T200335Z
LAST-MODIFIED:20220422T015428Z
UID:2881-1657756800-1659139199@lst.org
SUMMARY:LST Project (Lodz\, Poland)
DESCRIPTION:
URL:https://lst.org/event/lst-project-lodz-poland/
LOCATION:Lodz\, Poland\, Lodz\, Poland
CATEGORIES:LST Mission Projects
ORGANIZER;CN="Let's Start Talking":MAILTO:LST@LST.org
END:VEVENT
BEGIN:VEVENT
DTSTART;VALUE=DATE:20220713
DTEND;VALUE=DATE:20220714
DTSTAMP:20260421T194615
CREATED:20220707T205442Z
LAST-MODIFIED:20220708T004323Z
UID:3196-1657670400-1657756799@lst.org
SUMMARY:FriendSpeak Leadership Training (Norman\, OK)
DESCRIPTION:
URL:https://lst.org/event/friendspeak-leadership-training-norman-ok/
LOCATION:Norman\, Oklahoma\, Norman\, OK\, United States
CATEGORIES:FriendSpeak
END:VEVENT
BEGIN:VEVENT
DTSTART;TZID=America/Chicago:20220707T190000
DTEND;TZID=America/Chicago:20220707T220000
DTSTAMP:20260421T194615
CREATED:20220622T202441Z
LAST-MODIFIED:20220622T202441Z
UID:3119-1657220400-1657231200@lst.org
SUMMARY:Basic Training
DESCRIPTION:In this three-hour workshop receive the basic training you’ll need to utilize the LST approach in sharing your faith and your life with an international friend.  Whether you’re using this training for your local FriendSpeak work\, to connect online with a Reader through LST Connect\, or preparing for an international mission project\, you’re welcome! This seminar will cover the basic LST philosophy and methodology.
URL:https://lst.org/event/basic-training-39/
LOCATION:Online
CATEGORIES:FriendSpeak,LST Connect,LST Mission Projects
ORGANIZER;CN="Let's Start Talking":MAILTO:LST@LST.org
END:VEVENT
BEGIN:VEVENT
DTSTART;VALUE=DATE:20220707
DTEND;VALUE=DATE:20220728
DTSTAMP:20260421T194615
CREATED:20220622T015442Z
LAST-MODIFIED:20220622T015442Z
UID:3115-1657152000-1658966399@lst.org
SUMMARY:LST Project (Cuenca\, Ecuador)
DESCRIPTION:
URL:https://lst.org/event/lst-project-cuenca-ecuador/
LOCATION:Cuenca\, Ecuador\, Cuenca\, Ecuador
CATEGORIES:LST Mission Projects
ORGANIZER;CN="Let's Start Talking":MAILTO:LST@LST.org
END:VEVENT
BEGIN:VEVENT
DTSTART;VALUE=DATE:20220701
DTEND;VALUE=DATE:20220719
DTSTAMP:20260421T194615
CREATED:20220414T010443Z
LAST-MODIFIED:20220414T010443Z
UID:2886-1656633600-1658188799@lst.org
SUMMARY:LST Project (Rio de Janeiro\, Brazil)
DESCRIPTION:
URL:https://lst.org/event/lst-project-rio-de-janeiro-brazil-2/
LOCATION:Rio de Janeiro\, Brazil\, Rio de Janeiro\, Brazil
CATEGORIES:LST Mission Projects
ORGANIZER;CN="Let's Start Talking":MAILTO:LST@LST.org
END:VEVENT
BEGIN:VEVENT
DTSTART;TZID=America/Chicago:20220630T120000
DTEND;TZID=America/Chicago:20220630T130000
DTSTAMP:20260421T194615
CREATED:20220223T212929Z
LAST-MODIFIED:20220223T212929Z
UID:2743-1656590400-1656594000@lst.org
SUMMARY:EndMeeting for Returned LST Teams
DESCRIPTION:
URL:https://lst.org/event/endmeeting-for-returned-lst-teams-4/
LOCATION:Online
CATEGORIES:LST Mission Projects
ORGANIZER;CN="Let's Start Talking":MAILTO:LST@LST.org
END:VEVENT
BEGIN:VEVENT
DTSTART;TZID=America/Chicago:20220626T200000
DTEND;TZID=America/Chicago:20220626T210000
DTSTAMP:20260421T194615
CREATED:20220322T220646Z
LAST-MODIFIED:20220322T220646Z
UID:2846-1656273600-1656277200@lst.org
SUMMARY:Advanced Training: Beyond the Basics
DESCRIPTION:LST is pleased to provide specialized training for experienced Workers!  These sessions are for Workers who have been through Basic Training (or equivalent)\, have experience working with LST Readers\, and feel comfortable utilizing the LST approach.  For registered LST Connect and FriendSpeak Workers these advanced training sessions are offered for no additional fee.
URL:https://lst.org/event/advanced-training-beyond-the-basics-4/
LOCATION:Online
CATEGORIES:FriendSpeak,LST Connect,LST Mission Projects
ORGANIZER;CN="Let's Start Talking":MAILTO:LST@LST.org
END:VEVENT
BEGIN:VEVENT
DTSTART;TZID=America/Chicago:20220626T180000
DTEND;TZID=America/Chicago:20220626T193000
DTSTAMP:20260421T194615
CREATED:20220223T213739Z
LAST-MODIFIED:20220223T213739Z
UID:2755-1656266400-1656271800@lst.org
SUMMARY:LST Gateway Training for Teams Leaving Soon
DESCRIPTION:
URL:https://lst.org/event/lst-gateway-training-for-teams-leaving-soon-3/
LOCATION:Online
CATEGORIES:LST Mission Projects
ORGANIZER;CN="Let's Start Talking":MAILTO:LST@LST.org
END:VEVENT
BEGIN:VEVENT
DTSTART;VALUE=DATE:20220626
DTEND;VALUE=DATE:20220627
DTSTAMP:20260421T194615
CREATED:20220426T195155Z
LAST-MODIFIED:20220426T195155Z
UID:2916-1656201600-1656287999@lst.org
SUMMARY:FriendSpeak Training Seminar (St. Johns\, FL)
DESCRIPTION:
URL:https://lst.org/event/friendspeak-training-seminar-st-johns-fl/
LOCATION:St. Johns\, FL\, St. Johns\, FL\, United States
END:VEVENT
BEGIN:VEVENT
DTSTART;TZID=America/Chicago:20220623T120000
DTEND;TZID=America/Chicago:20220623T130000
DTSTAMP:20260421T194615
CREATED:20220322T202244Z
LAST-MODIFIED:20220322T202244Z
UID:2840-1655985600-1655989200@lst.org
SUMMARY:LST MeetUp
DESCRIPTION:LST Meetups are for LST Readers and Workers participating in the LST Connect program!  This one-hour online gathering is a time to connect with other participants\, have fun\, and continue practicing English.  If you have friends interested in LST Connect\, invite them to this online “party!”
URL:https://lst.org/event/lst-meetup/
LOCATION:Online
CATEGORIES:LST Connect
ORGANIZER;CN="Let's Start Talking":MAILTO:LST@LST.org
END:VEVENT
BEGIN:VEVENT
DTSTART;TZID=America/Chicago:20220621T190000
DTEND;TZID=America/Chicago:20220621T200000
DTSTAMP:20260421T194615
CREATED:20220322T202046Z
LAST-MODIFIED:20220322T202046Z
UID:2838-1655838000-1655841600@lst.org
SUMMARY:LST MeetUp (Party!)
DESCRIPTION:LST Meetups are for LST Readers and Workers participating in the LST Connect program!  This one-hour online gathering is a time to connect with other participants\, have fun\, and continue practicing English.  If you have friends interested in LST Connect\, invite them to this online “party!”
URL:https://lst.org/event/lst-meetup-party-17/
LOCATION:Online
CATEGORIES:LST Connect
ORGANIZER;CN="Let's Start Talking":MAILTO:LST@LST.org
END:VEVENT
BEGIN:VEVENT
DTSTART;TZID=America/Chicago:20220619T190000
DTEND;TZID=America/Chicago:20220619T220000
DTSTAMP:20260421T194615
CREATED:20220322T195618Z
LAST-MODIFIED:20220322T202559Z
UID:2832-1655665200-1655676000@lst.org
SUMMARY:Basic Training
DESCRIPTION:In this three-hour workshop receive the basic training you’ll need to utilize the LST approach in sharing your faith and your life with an international friend.  Whether you’re using this training for your local FriendSpeak work\, to connect online with a Reader through LST Connect\, or preparing for an international mission project\, you’re welcome! This seminar will cover the basic LST philosophy and methodology.
URL:https://lst.org/event/basic-training-38/
LOCATION:Online
CATEGORIES:FriendSpeak,LST Connect,LST Mission Projects
ORGANIZER;CN="Let's Start Talking":MAILTO:LST@LST.org
END:VEVENT
BEGIN:VEVENT
DTSTART;VALUE=DATE:20220617
DTEND;VALUE=DATE:20220703
DTSTAMP:20260421T194615
CREATED:20220226T235533Z
LAST-MODIFIED:20220323T205646Z
UID:2785-1655424000-1656806399@lst.org
SUMMARY:LST Project (Siena\, Italy)
DESCRIPTION:
URL:https://lst.org/event/lst-project-siena-italy/
LOCATION:Siena\, Italy\, Siena\, Italy
CATEGORIES:LST Mission Projects
ORGANIZER;CN="Let's Start Talking":MAILTO:LST@LST.org
END:VEVENT
BEGIN:VEVENT
DTSTART;TZID=America/Chicago:20220616T190000
DTEND;TZID=America/Chicago:20220616T203000
DTSTAMP:20260421T194615
CREATED:20220511T065339Z
LAST-MODIFIED:20220511T065339Z
UID:3043-1655406000-1655411400@lst.org
SUMMARY:FriendSpeak Leadership Training (Katy\, TX)
DESCRIPTION:
URL:https://lst.org/event/friendspeak-leadership-training-katy-tx/
LOCATION:Katy\, TX\, Katy\, TX\, United States
CATEGORIES:FriendSpeak
END:VEVENT
BEGIN:VEVENT
DTSTART;VALUE=DATE:20220604
DTEND;VALUE=DATE:20220704
DTSTAMP:20260421T194615
CREATED:20220422T000308Z
LAST-MODIFIED:20220524T205051Z
UID:2895-1654300800-1656892799@lst.org
SUMMARY:LST Project (West Springfield\, MA)
DESCRIPTION:
URL:https://lst.org/event/lst-project-west-springfield-ma-4/
LOCATION:West Springfield\, MA\, West Springfield\, MA\, United States
CATEGORIES:LST Mission Projects
ORGANIZER;CN="Let's Start Talking":MAILTO:LST@LST.org
END:VEVENT
BEGIN:VEVENT
DTSTART;TZID=America/Chicago:20220602T190000
DTEND;TZID=America/Chicago:20220602T220000
DTSTAMP:20260421T194615
CREATED:20220322T195514Z
LAST-MODIFIED:20220322T202641Z
UID:2830-1654196400-1654207200@lst.org
SUMMARY:Basic Training
DESCRIPTION:In this three-hour workshop receive the basic training you’ll need to utilize the LST approach in sharing your faith and your life with an international friend.  Whether you’re using this training for your local FriendSpeak work\, to connect online with a Reader through LST Connect\, or preparing for an international mission project\, you’re welcome! This seminar will cover the basic LST philosophy and methodology.
URL:https://lst.org/event/basic-training-37/
LOCATION:Online
CATEGORIES:FriendSpeak,LST Connect,LST Mission Projects
ORGANIZER;CN="Let's Start Talking":MAILTO:LST@LST.org
END:VEVENT
BEGIN:VEVENT
DTSTART;VALUE=DATE:20220602
DTEND;VALUE=DATE:20220712
DTSTAMP:20260421T194615
CREATED:20220501T174918Z
LAST-MODIFIED:20220501T174918Z
UID:2927-1654128000-1657583999@lst.org
SUMMARY:LST Project (Buenos Aires\, Argentina)
DESCRIPTION:
URL:https://lst.org/event/lst-project-buenos-aires-argentina-5/
LOCATION:Buenos Aires\, Argentina\, Buenos Aires\, Argentina
CATEGORIES:LST Mission Projects
ORGANIZER;CN="Let's Start Talking":MAILTO:LST@LST.org
END:VEVENT
BEGIN:VEVENT
DTSTART;VALUE=DATE:20220602
DTEND;VALUE=DATE:20220627
DTSTAMP:20260421T194615
CREATED:20220412T201504Z
LAST-MODIFIED:20220412T202837Z
UID:2876-1654128000-1656287999@lst.org
SUMMARY:LST Project (Buenos Aires\, Argentina)
DESCRIPTION:
URL:https://lst.org/event/lst-project-buenos-aires-argentina-3/
LOCATION:Buenos Aires\, Argentina\, Buenos Aires\, Argentina
CATEGORIES:LST Mission Projects
ORGANIZER;CN="Let's Start Talking":MAILTO:LST@LST.org
END:VEVENT
BEGIN:VEVENT
DTSTART;VALUE=DATE:20220602
DTEND;VALUE=DATE:20220619
DTSTAMP:20260421T194615
CREATED:20220227T023951Z
LAST-MODIFIED:20220227T023951Z
UID:2791-1654128000-1655596799@lst.org
SUMMARY:LST Project (Varazdin\, Croatia)
DESCRIPTION:
URL:https://lst.org/event/lst-project-varazdin-croatia/
LOCATION:Varazdin\, Croatia\, Varazdin\, Croatia (Local Name: Hrvatska)
CATEGORIES:LST Mission Projects
ORGANIZER;CN="Let's Start Talking":MAILTO:LST@LST.org
END:VEVENT
BEGIN:VEVENT
DTSTART;VALUE=DATE:20220527
DTEND;VALUE=DATE:20220627
DTSTAMP:20260421T194615
CREATED:20220226T045808Z
LAST-MODIFIED:20220226T045808Z
UID:2780-1653609600-1656287999@lst.org
SUMMARY:LST Project (Rio de Janeiro\, Brazil)
DESCRIPTION:
URL:https://lst.org/event/lst-project-rio-de-janeiro-brazil/
LOCATION:Rio de Janeiro\, Brazil\, Rio de Janeiro\, Brazil
CATEGORIES:LST Mission Projects
ORGANIZER;CN="Let's Start Talking":MAILTO:LST@LST.org
END:VEVENT
END:VCALENDAR