BEGIN:VCALENDAR
VERSION:2.0
PRODID:-//Let&#039;s Start Talking - ECPv6.15.20//NONSGML v1.0//EN
CALSCALE:GREGORIAN
METHOD:PUBLISH
X-WR-CALNAME:Let&#039;s Start Talking
X-ORIGINAL-URL:https://lst.org
X-WR-CALDESC:Events for Let&#039;s Start Talking
REFRESH-INTERVAL;VALUE=DURATION:PT1H
X-Robots-Tag:noindex
X-PUBLISHED-TTL:PT1H
BEGIN:VTIMEZONE
TZID:America/Chicago
BEGIN:DAYLIGHT
TZOFFSETFROM:-0600
TZOFFSETTO:-0500
TZNAME:CDT
DTSTART:20210314T080000
END:DAYLIGHT
BEGIN:STANDARD
TZOFFSETFROM:-0500
TZOFFSETTO:-0600
TZNAME:CST
DTSTART:20211107T070000
END:STANDARD
BEGIN:DAYLIGHT
TZOFFSETFROM:-0600
TZOFFSETTO:-0500
TZNAME:CDT
DTSTART:20220313T080000
END:DAYLIGHT
BEGIN:STANDARD
TZOFFSETFROM:-0500
TZOFFSETTO:-0600
TZNAME:CST
DTSTART:20221106T070000
END:STANDARD
BEGIN:DAYLIGHT
TZOFFSETFROM:-0600
TZOFFSETTO:-0500
TZNAME:CDT
DTSTART:20230312T080000
END:DAYLIGHT
BEGIN:STANDARD
TZOFFSETFROM:-0500
TZOFFSETTO:-0600
TZNAME:CST
DTSTART:20231105T070000
END:STANDARD
END:VTIMEZONE
BEGIN:VTIMEZONE
TZID:UTC
BEGIN:STANDARD
TZOFFSETFROM:+0000
TZOFFSETTO:+0000
TZNAME:UTC
DTSTART:20210101T000000
END:STANDARD
END:VTIMEZONE
BEGIN:VEVENT
DTSTART;TZID=America/Chicago:20220929T190000
DTEND;TZID=America/Chicago:20220929T220000
DTSTAMP:20260421T164452
CREATED:20220622T203311Z
LAST-MODIFIED:20220622T203311Z
UID:3131-1664478000-1664488800@lst.org
SUMMARY:Basic Training
DESCRIPTION:In this three-hour workshop receive the basic training you’ll need to utilize the LST approach in sharing your faith and your life with an international friend.  Whether you’re using this training for your local FriendSpeak work\, to connect online with a Reader through LST Connect\, or preparing for an international mission project\, you’re welcome! This seminar will cover the basic LST philosophy and methodology.
URL:https://lst.org/event/basic-training-45/
LOCATION:Online
CATEGORIES:FriendSpeak,LST Connect,LST Mission Projects
ORGANIZER;CN="Let's Start Talking":MAILTO:LST@LST.org
END:VEVENT
BEGIN:VEVENT
DTSTART;TZID=America/Chicago:20220929T120000
DTEND;TZID=America/Chicago:20220929T130000
DTSTAMP:20260421T164452
CREATED:20220223T213221Z
LAST-MODIFIED:20220223T213221Z
UID:2749-1664452800-1664456400@lst.org
SUMMARY:EndMeeting for Returned LST Teams
DESCRIPTION:
URL:https://lst.org/event/endmeeting-for-returned-lst-teams-7/
LOCATION:Online
CATEGORIES:LST Mission Projects
ORGANIZER;CN="Let's Start Talking":MAILTO:LST@LST.org
END:VEVENT
BEGIN:VEVENT
DTSTART;TZID=UTC:20220927T200000
DTEND;TZID=UTC:20220927T210000
DTSTAMP:20260421T164452
CREATED:20220701T200857Z
LAST-MODIFIED:20220701T201626Z
UID:3193-1664308800-1664312400@lst.org
SUMMARY:EndMeeting for Returned LST Teams
DESCRIPTION:
URL:https://lst.org/event/endmeeting-for-returned-lst-teams-13/
LOCATION:Online
CATEGORIES:LST Mission Projects
ORGANIZER;CN="Let's Start Talking":MAILTO:LST@LST.org
END:VEVENT
BEGIN:VEVENT
DTSTART;TZID=America/Chicago:20220925T200000
DTEND;TZID=America/Chicago:20220925T210000
DTSTAMP:20260421T164452
CREATED:20220622T212238Z
LAST-MODIFIED:20220622T212238Z
UID:3145-1664136000-1664139600@lst.org
SUMMARY:Advanced Training: Beyond the Basics
DESCRIPTION:LST is pleased to provide specialized training for experienced Workers!  These sessions are for Workers who have been through Basic Training (or equivalent)\, have experience working with LST Readers\, and feel comfortable utilizing the LST approach.  For registered LST Connect and FriendSpeak Workers these advanced training sessions are offered for no additional fee.
URL:https://lst.org/event/advanced-training-beyond-the-basics-5/
LOCATION:Online
CATEGORIES:FriendSpeak,LST Connect,LST Mission Projects
ORGANIZER;CN="Let's Start Talking":MAILTO:LST@LST.org
END:VEVENT
BEGIN:VEVENT
DTSTART;TZID=America/Chicago:20220925T180000
DTEND;TZID=America/Chicago:20220925T193000
DTSTAMP:20260421T164452
CREATED:20220223T214055Z
LAST-MODIFIED:20220223T214055Z
UID:2761-1664128800-1664134200@lst.org
SUMMARY:LST Gateway Training for Teams Leaving Soon
DESCRIPTION:
URL:https://lst.org/event/lst-gateway-training-for-teams-leaving-soon-6/
LOCATION:Online
CATEGORIES:LST Mission Projects
ORGANIZER;CN="Let's Start Talking":MAILTO:LST@LST.org
END:VEVENT
BEGIN:VEVENT
DTSTART;VALUE=DATE:20220924
DTEND;VALUE=DATE:20221016
DTSTAMP:20260421T164452
CREATED:20220614T205126Z
LAST-MODIFIED:20220614T205126Z
UID:3106-1663977600-1665878399@lst.org
SUMMARY:LST Project (Lecce\, Italy)
DESCRIPTION:
URL:https://lst.org/event/lst-project-lecce-italy-4/
LOCATION:Lecce\, Italy\, Lecce\, Italy
CATEGORIES:LST Mission Projects
ORGANIZER;CN="Let's Start Talking":MAILTO:LST@LST.org
END:VEVENT
BEGIN:VEVENT
DTSTART;VALUE=DATE:20220923
DTEND;VALUE=DATE:20221024
DTSTAMP:20260421T164452
CREATED:20220723T013357Z
LAST-MODIFIED:20220723T013357Z
UID:3204-1663891200-1666569599@lst.org
SUMMARY:LST Project (Rio de Janeiro\, Brazil)
DESCRIPTION:
URL:https://lst.org/event/lst-project-rio-de-janeiro-brazil-3/
LOCATION:Rio de Janeiro\, Brazil\, Rio de Janeiro\, Brazil
CATEGORIES:LST Mission Projects
ORGANIZER;CN="Let's Start Talking":MAILTO:LST@LST.org
END:VEVENT
BEGIN:VEVENT
DTSTART;VALUE=DATE:20220922
DTEND;VALUE=DATE:20220923
DTSTAMP:20260421T164452
CREATED:20220314T210937Z
LAST-MODIFIED:20220314T211109Z
UID:2812-1663804800-1663891199@lst.org
SUMMARY:North Texas Giving Day
DESCRIPTION:
URL:https://lst.org/event/north-texas-giving-day-2/
LOCATION:Online
CATEGORIES:Fundraising
END:VEVENT
BEGIN:VEVENT
DTSTART;VALUE=DATE:20220919
DTEND;VALUE=DATE:20220920
DTSTAMP:20260421T164452
CREATED:20220829T205924Z
LAST-MODIFIED:20220913T101536Z
UID:3232-1663545600-1663631999@lst.org
SUMMARY:FriendSpeak Training Seminar (Stamford\, CT)
DESCRIPTION:
URL:https://lst.org/event/friendspeak-training-seminar-stamford-ct-2/
LOCATION:Online
END:VEVENT
BEGIN:VEVENT
DTSTART;VALUE=DATE:20220914
DTEND;VALUE=DATE:20221018
DTSTAMP:20260421T164452
CREATED:20220525T004435Z
LAST-MODIFIED:20220614T202045Z
UID:3071-1663113600-1666051199@lst.org
SUMMARY:LST Project (Zagreb\, Croatia)
DESCRIPTION:
URL:https://lst.org/event/lst-project-zagreb-croatia-2/
LOCATION:Zagreb\, Croatia\, Zagreb\, Croatia (Local Name: Hrvatska)
CATEGORIES:LST Mission Projects
ORGANIZER;CN="Let's Start Talking":MAILTO:LST@LST.org
END:VEVENT
BEGIN:VEVENT
DTSTART;TZID=America/Chicago:20220911T190000
DTEND;TZID=America/Chicago:20220911T220000
DTSTAMP:20260421T164452
CREATED:20220622T203125Z
LAST-MODIFIED:20220622T203125Z
UID:3129-1662922800-1662933600@lst.org
SUMMARY:Basic Training
DESCRIPTION:In this three-hour workshop receive the basic training you’ll need to utilize the LST approach in sharing your faith and your life with an international friend.  Whether you’re using this training for your local FriendSpeak work\, to connect online with a Reader through LST Connect\, or preparing for an international mission project\, you’re welcome! This seminar will cover the basic LST philosophy and methodology.
URL:https://lst.org/event/basic-training-44/
LOCATION:Online
CATEGORIES:FriendSpeak,LST Connect,LST Mission Projects
ORGANIZER;CN="Let's Start Talking":MAILTO:LST@LST.org
END:VEVENT
BEGIN:VEVENT
DTSTART;VALUE=DATE:20220909
DTEND;VALUE=DATE:20221002
DTSTAMP:20260421T164452
CREATED:20220521T000904Z
LAST-MODIFIED:20220521T000904Z
UID:3064-1662681600-1664668799@lst.org
SUMMARY:LST Project (Krakow\, Poland)
DESCRIPTION:
URL:https://lst.org/event/lst-project-krakow-poland/
LOCATION:Krakow\, Poland\, Krakow\, Poland
CATEGORIES:LST Mission Projects
END:VEVENT
BEGIN:VEVENT
DTSTART;VALUE=DATE:20220909
DTEND;VALUE=DATE:20221002
DTSTAMP:20260421T164452
CREATED:20220423T030600Z
LAST-MODIFIED:20220423T030600Z
UID:2907-1662681600-1664668799@lst.org
SUMMARY:LST Project (Siena\, Italy)
DESCRIPTION:
URL:https://lst.org/event/lst-project-siena-italy-2/
LOCATION:Siena\, Italy\, Siena\, Italy
CATEGORIES:LST Mission Projects
ORGANIZER;CN="Let's Start Talking":MAILTO:LST@LST.org
END:VEVENT
BEGIN:VEVENT
DTSTART;VALUE=DATE:20220902
DTEND;VALUE=DATE:20221001
DTSTAMP:20260421T164452
CREATED:20220421T230732Z
LAST-MODIFIED:20220421T230732Z
UID:2889-1662076800-1664582399@lst.org
SUMMARY:LST Project (West Springfield\, MA)
DESCRIPTION:
URL:https://lst.org/event/lst-project-west-springfield-ma-3/
LOCATION:West Springfield\, MA\, West Springfield\, MA\, United States
CATEGORIES:LST Mission Projects
ORGANIZER;CN="Let's Start Talking":MAILTO:LST@LST.org
END:VEVENT
BEGIN:VEVENT
DTSTART;VALUE=DATE:20220902
DTEND;VALUE=DATE:20220917
DTSTAMP:20260421T164452
CREATED:20220608T154541Z
LAST-MODIFIED:20220608T154541Z
UID:3082-1662076800-1663372799@lst.org
SUMMARY:LST Project (Niteroi\, Brazil)
DESCRIPTION:
URL:https://lst.org/event/lst-project-niteroi-brazil-2/
LOCATION:Niteroi\, Brazil\, Niteroi\, Brazil
CATEGORIES:LST Mission Projects
ORGANIZER;CN="Let's Start Talking":MAILTO:LST@LST.org
END:VEVENT
BEGIN:VEVENT
DTSTART;TZID=America/Chicago:20220901T190000
DTEND;TZID=America/Chicago:20220901T220000
DTSTAMP:20260421T164452
CREATED:20220622T202957Z
LAST-MODIFIED:20220622T202957Z
UID:3127-1662058800-1662069600@lst.org
SUMMARY:Basic Training
DESCRIPTION:In this three-hour workshop receive the basic training you’ll need to utilize the LST approach in sharing your faith and your life with an international friend.  Whether you’re using this training for your local FriendSpeak work\, to connect online with a Reader through LST Connect\, or preparing for an international mission project\, you’re welcome! This seminar will cover the basic LST philosophy and methodology.
URL:https://lst.org/event/basic-training-43/
LOCATION:Online
CATEGORIES:FriendSpeak,LST Connect,LST Mission Projects
ORGANIZER;CN="Let's Start Talking":MAILTO:LST@LST.org
END:VEVENT
BEGIN:VEVENT
DTSTART;TZID=America/Chicago:20220831T120000
DTEND;TZID=America/Chicago:20220831T130000
DTSTAMP:20260421T164452
CREATED:20220622T212116Z
LAST-MODIFIED:20220622T212310Z
UID:3143-1661947200-1661950800@lst.org
SUMMARY:Advanced Training: Outside the Reading Session
DESCRIPTION:LST is pleased to provide specialized training for experienced Workers!  These sessions are for Workers who have been through Basic Training (or equivalent)\, have experience working with LST Readers\, and feel comfortable utilizing the LST approach.  For registered LST Connect and FriendSpeak Workers these advanced training sessions are offered for no additional fee.
URL:https://lst.org/event/advanced-training-outside-the-reading-session-2/
LOCATION:Online
CATEGORIES:FriendSpeak,LST Connect,LST Mission Projects
ORGANIZER;CN="Let's Start Talking":MAILTO:LST@LST.org
END:VEVENT
BEGIN:VEVENT
DTSTART;TZID=America/Chicago:20220828T180000
DTEND;TZID=America/Chicago:20220828T193000
DTSTAMP:20260421T164452
CREATED:20220223T213950Z
LAST-MODIFIED:20220223T213950Z
UID:2759-1661709600-1661715000@lst.org
SUMMARY:LST Gateway Training for Teams Leaving Soon
DESCRIPTION:
URL:https://lst.org/event/lst-gateway-training-for-teams-leaving-soon-5/
LOCATION:Online
CATEGORIES:LST Mission Projects
ORGANIZER;CN="Let's Start Talking":MAILTO:LST@LST.org
END:VEVENT
BEGIN:VEVENT
DTSTART;VALUE=DATE:20220828
DTEND;VALUE=DATE:20220829
DTSTAMP:20260421T164452
CREATED:20220707T205532Z
LAST-MODIFIED:20220708T004405Z
UID:3200-1661644800-1661731199@lst.org
SUMMARY:FriendSpeak Training Seminar (Norman\, OK)
DESCRIPTION:
URL:https://lst.org/event/friendspeak-training-seminar-norman-ok/
LOCATION:Norman\, Oklahoma\, Norman\, OK\, United States
CATEGORIES:FriendSpeak
END:VEVENT
BEGIN:VEVENT
DTSTART;TZID=America/Chicago:20220825T200000
DTEND;TZID=America/Chicago:20220825T210000
DTSTAMP:20260421T164452
CREATED:20220701T200136Z
LAST-MODIFIED:20220701T200136Z
UID:3191-1661457600-1661461200@lst.org
SUMMARY:EndMeeting for Returned LST Teams
DESCRIPTION:
URL:https://lst.org/event/endmeeting-for-returned-lst-teams-12/
LOCATION:Online
CATEGORIES:LST Mission Projects
ORGANIZER;CN="Let's Start Talking":MAILTO:LST@LST.org
END:VEVENT
BEGIN:VEVENT
DTSTART;TZID=America/Chicago:20220825T120000
DTEND;TZID=America/Chicago:20220825T130000
DTSTAMP:20260421T164452
CREATED:20220223T213121Z
LAST-MODIFIED:20220223T213121Z
UID:2747-1661428800-1661432400@lst.org
SUMMARY:EndMeeting for Returned LST Teams
DESCRIPTION:
URL:https://lst.org/event/endmeeting-for-returned-lst-teams-6/
LOCATION:Online
CATEGORIES:LST Mission Projects
ORGANIZER;CN="Let's Start Talking":MAILTO:LST@LST.org
END:VEVENT
BEGIN:VEVENT
DTSTART;TZID=America/Chicago:20220818T120000
DTEND;TZID=America/Chicago:20220818T130000
DTSTAMP:20260421T164452
CREATED:20220622T213957Z
LAST-MODIFIED:20220622T213957Z
UID:3151-1660824000-1660827600@lst.org
SUMMARY:LST MeetUp (Party!)
DESCRIPTION:LST Meetups are for LST Readers and Workers participating in the LST Connect program!  This one-hour online gathering is a time to connect with other participants\, have fun\, and continue practicing English.  If you have friends interested in LST Connect\, invite them to this online “party!”
URL:https://lst.org/event/lst-meetup-party-19/
LOCATION:Online
CATEGORIES:LST Connect
ORGANIZER;CN="Let's Start Talking":MAILTO:LST@LST.org
END:VEVENT
BEGIN:VEVENT
DTSTART;VALUE=DATE:20220818
DTEND;VALUE=DATE:20220904
DTSTAMP:20260421T164452
CREATED:20220602T000200Z
LAST-MODIFIED:20220602T000200Z
UID:3078-1660780800-1662249599@lst.org
SUMMARY:LST Project (Niteroi\, Brazil)
DESCRIPTION:
URL:https://lst.org/event/lst-project-niteroi-brazil/
LOCATION:Niteroi\, Brazil\, Niteroi\, Brazil
CATEGORIES:LST Mission Projects
END:VEVENT
BEGIN:VEVENT
DTSTART;TZID=America/Chicago:20220816T190000
DTEND;TZID=America/Chicago:20220816T200000
DTSTAMP:20260421T164452
CREATED:20220622T213747Z
LAST-MODIFIED:20220622T213819Z
UID:3149-1660676400-1660680000@lst.org
SUMMARY:LST MeetUp (Party!)
DESCRIPTION:LST Meetups are for LST Readers and Workers participating in the LST Connect program!  This one-hour online gathering is a time to connect with other participants\, have fun\, and continue practicing English.  If you have friends interested in LST Connect\, invite them to this online “party!”
URL:https://lst.org/event/lst-meetup-party-18/
LOCATION:Online
CATEGORIES:LST Connect
ORGANIZER;CN="Let's Start Talking":MAILTO:LST@LST.org
END:VEVENT
BEGIN:VEVENT
DTSTART;TZID=America/Chicago:20220814T190000
DTEND;TZID=America/Chicago:20220814T220000
DTSTAMP:20260421T164452
CREATED:20220622T202842Z
LAST-MODIFIED:20220622T202842Z
UID:3125-1660503600-1660514400@lst.org
SUMMARY:Basic Training
DESCRIPTION:In this three-hour workshop receive the basic training you’ll need to utilize the LST approach in sharing your faith and your life with an international friend.  Whether you’re using this training for your local FriendSpeak work\, to connect online with a Reader through LST Connect\, or preparing for an international mission project\, you’re welcome! This seminar will cover the basic LST philosophy and methodology.
URL:https://lst.org/event/basic-training-42/
LOCATION:Online
CATEGORIES:FriendSpeak,LST Connect,LST Mission Projects
ORGANIZER;CN="Let's Start Talking":MAILTO:LST@LST.org
END:VEVENT
BEGIN:VEVENT
DTSTART;TZID=America/Chicago:20220813T090000
DTEND;TZID=America/Chicago:20220813T113000
DTSTAMP:20260421T164452
CREATED:20220511T065519Z
LAST-MODIFIED:20220511T065519Z
UID:3050-1660381200-1660390200@lst.org
SUMMARY:FriendSpeak Training Seminar (Katy\, TX)
DESCRIPTION:
URL:https://lst.org/event/friendspeak-training-seminar-katy-tx/
LOCATION:Katy\, TX\, Katy\, TX\, United States
CATEGORIES:FriendSpeak
END:VEVENT
BEGIN:VEVENT
DTSTART;VALUE=DATE:20220812
DTEND;VALUE=DATE:20220905
DTSTAMP:20260421T164452
CREATED:20220210T020234Z
LAST-MODIFIED:20220210T020234Z
UID:2708-1660262400-1662335999@lst.org
SUMMARY:LST Project (Buenos Aires\, Argentina)
DESCRIPTION:
URL:https://lst.org/event/lst-project-buenos-aires-argentina-2/
LOCATION:Buenos Aires\, Argentina\, Buenos Aires\, Argentina
CATEGORIES:LST Mission Projects
ORGANIZER;CN="Let's Start Talking":MAILTO:LST@LST.org
END:VEVENT
BEGIN:VEVENT
DTSTART;TZID=America/Chicago:20220804T190000
DTEND;TZID=America/Chicago:20220804T220000
DTSTAMP:20260421T164452
CREATED:20220622T202723Z
LAST-MODIFIED:20220622T202723Z
UID:3123-1659639600-1659650400@lst.org
SUMMARY:Basic Training
DESCRIPTION:In this three-hour workshop receive the basic training you’ll need to utilize the LST approach in sharing your faith and your life with an international friend.  Whether you’re using this training for your local FriendSpeak work\, to connect online with a Reader through LST Connect\, or preparing for an international mission project\, you’re welcome! This seminar will cover the basic LST philosophy and methodology.
URL:https://lst.org/event/basic-training-41/
LOCATION:Online
CATEGORIES:FriendSpeak,LST Connect,LST Mission Projects
ORGANIZER;CN="Let's Start Talking":MAILTO:LST@LST.org
END:VEVENT
BEGIN:VEVENT
DTSTART;TZID=America/Chicago:20220731T200000
DTEND;TZID=America/Chicago:20220731T210000
DTSTAMP:20260421T164452
CREATED:20220622T211848Z
LAST-MODIFIED:20220622T212449Z
UID:3141-1659297600-1659301200@lst.org
SUMMARY:Advanced Training: Special Topic; Cross-Cultural Communication
DESCRIPTION:LST is pleased to provide specialized training for experienced Workers!  These sessions are for Workers who have been through Basic Training (or equivalent)\, have experience working with LST Readers\, and feel comfortable utilizing the LST approach.  For registered LST Connect and FriendSpeak Workers these advanced training sessions are offered for no additional fee.
URL:https://lst.org/event/advanced-training-special-topic-cross-cultural-communication/
LOCATION:Online
CATEGORIES:FriendSpeak,LST Connect,LST Mission Projects
ORGANIZER;CN="Let's Start Talking":MAILTO:LST@LST.org
END:VEVENT
BEGIN:VEVENT
DTSTART;TZID=America/Chicago:20220731T180000
DTEND;TZID=America/Chicago:20220731T193000
DTSTAMP:20260421T164452
CREATED:20220223T213840Z
LAST-MODIFIED:20220223T213840Z
UID:2757-1659290400-1659295800@lst.org
SUMMARY:LST Gateway Training for Teams Leaving Soon
DESCRIPTION:
URL:https://lst.org/event/lst-gateway-training-for-teams-leaving-soon-4/
LOCATION:Online
CATEGORIES:LST Mission Projects
ORGANIZER;CN="Let's Start Talking":MAILTO:LST@LST.org
END:VEVENT
END:VCALENDAR