BEGIN:VCALENDAR
VERSION:2.0
PRODID:-//Let&#039;s Start Talking - ECPv6.15.20//NONSGML v1.0//EN
CALSCALE:GREGORIAN
METHOD:PUBLISH
X-WR-CALNAME:Let&#039;s Start Talking
X-ORIGINAL-URL:https://lst.org
X-WR-CALDESC:Events for Let&#039;s Start Talking
REFRESH-INTERVAL;VALUE=DURATION:PT1H
X-Robots-Tag:noindex
X-PUBLISHED-TTL:PT1H
BEGIN:VTIMEZONE
TZID:America/Chicago
BEGIN:DAYLIGHT
TZOFFSETFROM:-0600
TZOFFSETTO:-0500
TZNAME:CDT
DTSTART:20240310T080000
END:DAYLIGHT
BEGIN:STANDARD
TZOFFSETFROM:-0500
TZOFFSETTO:-0600
TZNAME:CST
DTSTART:20241103T070000
END:STANDARD
BEGIN:DAYLIGHT
TZOFFSETFROM:-0600
TZOFFSETTO:-0500
TZNAME:CDT
DTSTART:20250309T080000
END:DAYLIGHT
BEGIN:STANDARD
TZOFFSETFROM:-0500
TZOFFSETTO:-0600
TZNAME:CST
DTSTART:20251102T070000
END:STANDARD
BEGIN:DAYLIGHT
TZOFFSETFROM:-0600
TZOFFSETTO:-0500
TZNAME:CDT
DTSTART:20260308T080000
END:DAYLIGHT
BEGIN:STANDARD
TZOFFSETFROM:-0500
TZOFFSETTO:-0600
TZNAME:CST
DTSTART:20261101T070000
END:STANDARD
END:VTIMEZONE
BEGIN:VEVENT
DTSTART;VALUE=DATE:20250918
DTEND;VALUE=DATE:20250919
DTSTAMP:20260420T061302
CREATED:20241214T003427Z
LAST-MODIFIED:20241214T003427Z
UID:4842-1758153600-1758239999@lst.org
SUMMARY:Fundraising-North Texas Giving Day 2025
DESCRIPTION:
URL:https://lst.org/event/fundraising-north-texas-giving-day-2025/
CATEGORIES:Fundraising
ORGANIZER;CN="Let's Start Talking":MAILTO:LST@LST.org
END:VEVENT
BEGIN:VEVENT
DTSTART;TZID=America/Chicago:20250907T190000
DTEND;TZID=America/Chicago:20250907T213000
DTSTAMP:20260420T061302
CREATED:20241214T002536Z
LAST-MODIFIED:20241214T002536Z
UID:4822-1757271600-1757280600@lst.org
SUMMARY:Basic Training
DESCRIPTION:In this foundational workshop you’ll receive the basic training needed to utilize the LST approach in sharing your faith and your life with an international participant.  The focus of our time will be on the core components of the LST philosophy and methodology. Whether you’re using this training for your local FriendSpeak work\, to connect online with a Reader through LST Connect\, or preparing for an international mission project\, you are a welcome friend! Click here to register – 2025 Basic Training Registration
URL:https://lst.org/event/basic-training-118/
LOCATION:Online
CATEGORIES:FriendSpeak,LST Connect,LST Mission Projects
ORGANIZER;CN="Let's Start Talking":MAILTO:LST@LST.org
END:VEVENT
BEGIN:VEVENT
DTSTART;TZID=America/Chicago:20250831T180000
DTEND;TZID=America/Chicago:20250831T200000
DTSTAMP:20260420T061302
CREATED:20241220T174111Z
LAST-MODIFIED:20241220T174111Z
UID:4905-1756663200-1756670400@lst.org
SUMMARY:Gateway Training (LST International Projects)
DESCRIPTION:This specialized online workshop is for LST International teams who have completed most of their online training and are within a month of departure.  LST staff lead this required event. Teams can register through their online training platform.
URL:https://lst.org/event/gateway-training-lst-international-projects-19/
LOCATION:Online
CATEGORIES:LST Mission Projects
ORGANIZER;CN="Let's Start Talking":MAILTO:LST@LST.org
END:VEVENT
BEGIN:VEVENT
DTSTART;VALUE=DATE:20250829
DTEND;VALUE=DATE:20250914
DTSTAMP:20260420T061302
CREATED:20250822T192747Z
LAST-MODIFIED:20250822T192747Z
UID:5203-1756425600-1757807999@lst.org
SUMMARY:LST Project (Hannover\, Germany)
DESCRIPTION:
URL:https://lst.org/event/lst-project-hannover-germany-10/
LOCATION:Hannover\, Germany\, Hannover\, Germany
CATEGORIES:LST Mission Projects
ORGANIZER;CN="Let's Start Talking":MAILTO:LST@LST.org
END:VEVENT
BEGIN:VEVENT
DTSTART;VALUE=DATE:20250829
DTEND;VALUE=DATE:20250914
DTSTAMP:20260420T061302
CREATED:20250516T194159Z
LAST-MODIFIED:20250516T194159Z
UID:5127-1756425600-1757807999@lst.org
SUMMARY:LST Project (West Springfield\, MA (USA))
DESCRIPTION:
URL:https://lst.org/event/lst-project-west-springfield-ma-usa/
LOCATION:West Springfield\, MA\, West Springfield\, MA\, United States
CATEGORIES:LST Mission Projects
ORGANIZER;CN="Let's Start Talking":MAILTO:LST@LST.org
END:VEVENT
BEGIN:VEVENT
DTSTART;TZID=America/Chicago:20250828T190000
DTEND;TZID=America/Chicago:20250828T200000
DTSTAMP:20260420T061302
CREATED:20241220T195303Z
LAST-MODIFIED:20241220T195303Z
UID:4937-1756407600-1756411200@lst.org
SUMMARY:EndMeeting (LST International Projects)
DESCRIPTION:This online workshop is for LST Teams who have recently returned from their international projects.  It is led by LST staff\, and teams can register through their online training platform.
URL:https://lst.org/event/endmeeting-lst-international-projects-12/
LOCATION:Online
CATEGORIES:LST Mission Projects
ORGANIZER;CN="Let's Start Talking":MAILTO:LST@LST.org
END:VEVENT
BEGIN:VEVENT
DTSTART;TZID=America/Chicago:20250828T120000
DTEND;TZID=America/Chicago:20250828T130000
DTSTAMP:20260420T061302
CREATED:20241220T195224Z
LAST-MODIFIED:20241220T195224Z
UID:4935-1756382400-1756386000@lst.org
SUMMARY:EndMeeting (LST International Projects)
DESCRIPTION:This online workshop is for LST Teams who have recently returned from their international projects.  It is led by LST staff\, and teams can register through their online training platform.
URL:https://lst.org/event/endmeeting-lst-international-projects-11/
LOCATION:Online
CATEGORIES:LST Mission Projects
ORGANIZER;CN="Let's Start Talking":MAILTO:LST@LST.org
END:VEVENT
BEGIN:VEVENT
DTSTART;VALUE=DATE:20250828
DTEND;VALUE=DATE:20250914
DTSTAMP:20260420T061302
CREATED:20250513T195220Z
LAST-MODIFIED:20250513T195220Z
UID:5114-1756339200-1757807999@lst.org
SUMMARY:LST Project (Lecce\, Italy)
DESCRIPTION:
URL:https://lst.org/event/lst-project-lecce-italy-16/
LOCATION:Lecce\, Italy\, Lecce\, Italy
CATEGORIES:LST Mission Projects
ORGANIZER;CN="Let's Start Talking":MAILTO:LST@LST.org
END:VEVENT
BEGIN:VEVENT
DTSTART;TZID=America/Chicago:20250827T120000
DTEND;TZID=America/Chicago:20250827T130000
DTSTAMP:20260420T061302
CREATED:20241218T225359Z
LAST-MODIFIED:20241218T225359Z
UID:4879-1756296000-1756299600@lst.org
SUMMARY:Advanced Training for Experienced LST Workers
DESCRIPTION:LST is pleased to provide specialized training for experienced Workers!  These sessions are for Workers who have been through Basic Training (or equivalent)\, have experience working with LST Readers\, and feel comfortable utilizing the LST approach.  For registered LST Connect and FriendSpeak Workers these advanced training sessions are offered for no additional fee. Click here for additional details and to register.
URL:https://lst.org/event/advanced-training-for-experienced-lst-workers-8/
LOCATION:Online
CATEGORIES:FriendSpeak,LST Connect,LST Mission Projects
ORGANIZER;CN="Let's Start Talking":MAILTO:LST@LST.org
END:VEVENT
BEGIN:VEVENT
DTSTART;VALUE=DATE:20250823
DTEND;VALUE=DATE:20250824
DTSTAMP:20260420T061302
CREATED:20250519T150341Z
LAST-MODIFIED:20250519T190555Z
UID:5133-1755907200-1755993599@lst.org
SUMMARY:FriendSpeak Training (Sherwood\, AR)
DESCRIPTION:
URL:https://lst.org/event/friendspeak-training-sherwood-ar/
LOCATION:Sherwood\, AR\, Sherwood\, AR\, United States
CATEGORIES:FriendSpeak
END:VEVENT
BEGIN:VEVENT
DTSTART;TZID=America/Chicago:20250821T120000
DTEND;TZID=America/Chicago:20250821T143000
DTSTAMP:20260420T061302
CREATED:20241214T002450Z
LAST-MODIFIED:20241214T002450Z
UID:4820-1755777600-1755786600@lst.org
SUMMARY:Basic Training
DESCRIPTION:In this foundational workshop you’ll receive the basic training needed to utilize the LST approach in sharing your faith and your life with an international participant.  The focus of our time will be on the core components of the LST philosophy and methodology. Whether you’re using this training for your local FriendSpeak work\, to connect online with a Reader through LST Connect\, or preparing for an international mission project\, you are a welcome friend! Click here to register – 2025 Basic Training Registration
URL:https://lst.org/event/basic-training-117/
LOCATION:Online
CATEGORIES:FriendSpeak,LST Connect,LST Mission Projects
ORGANIZER;CN="Let's Start Talking":MAILTO:LST@LST.org
END:VEVENT
BEGIN:VEVENT
DTSTART;TZID=America/Chicago:20250810T190000
DTEND;TZID=America/Chicago:20250810T213000
DTSTAMP:20260420T061302
CREATED:20241214T002413Z
LAST-MODIFIED:20241214T002413Z
UID:4818-1754852400-1754861400@lst.org
SUMMARY:Basic Training
DESCRIPTION:In this foundational workshop you’ll receive the basic training needed to utilize the LST approach in sharing your faith and your life with an international participant.  The focus of our time will be on the core components of the LST philosophy and methodology. Whether you’re using this training for your local FriendSpeak work\, to connect online with a Reader through LST Connect\, or preparing for an international mission project\, you are a welcome friend! Click here to register – 2025 Basic Training Registration
URL:https://lst.org/event/basic-training-116/
LOCATION:Online
CATEGORIES:FriendSpeak,LST Connect,LST Mission Projects
ORGANIZER;CN="Let's Start Talking":MAILTO:LST@LST.org
END:VEVENT
BEGIN:VEVENT
DTSTART;VALUE=DATE:20250809
DTEND;VALUE=DATE:20250810
DTSTAMP:20260420T061302
CREATED:20250416T200038Z
LAST-MODIFIED:20250416T200038Z
UID:5067-1754697600-1754783999@lst.org
SUMMARY:FriendSpeak Training Seminar (Arlington\, TX)
DESCRIPTION:
URL:https://lst.org/event/friendspeak-training-seminar-arlington-tx-3/
LOCATION:Arlington\, TX\, Arlington\, TX\, United States
END:VEVENT
BEGIN:VEVENT
DTSTART;VALUE=DATE:20250808
DTEND;VALUE=DATE:20250817
DTSTAMP:20260420T061302
CREATED:20250609T195410Z
LAST-MODIFIED:20250609T195410Z
UID:5146-1754611200-1755388799@lst.org
SUMMARY:LST Project (Rio de Janeiro\, Brazil)
DESCRIPTION:
URL:https://lst.org/event/lst-project-rio-de-janeiro-brazil-10/
LOCATION:Rio de Janeiro\, Brazil\, Rio de Janeiro\, Brazil
CATEGORIES:LST Mission Projects
ORGANIZER;CN="Let's Start Talking":MAILTO:LST@LST.org
END:VEVENT
BEGIN:VEVENT
DTSTART;TZID=America/Chicago:20250731T190000
DTEND;TZID=America/Chicago:20250731T200000
DTSTAMP:20260420T061302
CREATED:20241220T195135Z
LAST-MODIFIED:20241220T195135Z
UID:4933-1753988400-1753992000@lst.org
SUMMARY:EndMeeting (LST International Projects)
DESCRIPTION:This online workshop is for LST Teams who have recently returned from their international projects.  It is led by LST staff\, and teams can register through their online training platform.
URL:https://lst.org/event/endmeeting-lst-international-projects-10/
LOCATION:Online
CATEGORIES:LST Mission Projects
ORGANIZER;CN="Let's Start Talking":MAILTO:LST@LST.org
END:VEVENT
BEGIN:VEVENT
DTSTART;TZID=America/Chicago:20250731T120000
DTEND;TZID=America/Chicago:20250731T130000
DTSTAMP:20260420T061302
CREATED:20241220T195058Z
LAST-MODIFIED:20241220T195058Z
UID:4931-1753963200-1753966800@lst.org
SUMMARY:EndMeeting (LST International Projects)
DESCRIPTION:This online workshop is for LST Teams who have recently returned from their international projects.  It is led by LST staff\, and teams can register through their online training platform.
URL:https://lst.org/event/endmeeting-lst-international-projects-9/
LOCATION:Online
CATEGORIES:LST Mission Projects
ORGANIZER;CN="Let's Start Talking":MAILTO:LST@LST.org
END:VEVENT
BEGIN:VEVENT
DTSTART;TZID=America/Chicago:20250727T200000
DTEND;TZID=America/Chicago:20250727T210000
DTSTAMP:20260420T061302
CREATED:20241218T223528Z
LAST-MODIFIED:20241218T223639Z
UID:4877-1753646400-1753650000@lst.org
SUMMARY:Advanced Training for Experienced LST Workers
DESCRIPTION:LST is pleased to provide specialized training for experienced Workers!  These sessions are for Workers who have been through Basic Training (or equivalent)\, have experience working with LST Readers\, and feel comfortable utilizing the LST approach.  For registered LST Connect and FriendSpeak Workers these advanced training sessions are offered for no additional fee. Click here for additional details and to register.
URL:https://lst.org/event/advanced-training-for-experienced-lst-workers-7/
LOCATION:Online
CATEGORIES:FriendSpeak,LST Connect,LST Mission Projects
ORGANIZER;CN="Let's Start Talking":MAILTO:LST@LST.org
END:VEVENT
BEGIN:VEVENT
DTSTART;TZID=America/Chicago:20250727T180000
DTEND;TZID=America/Chicago:20250727T200000
DTSTAMP:20260420T061302
CREATED:20241220T174016Z
LAST-MODIFIED:20241220T174016Z
UID:4903-1753639200-1753646400@lst.org
SUMMARY:Gateway Training (LST International Projects)
DESCRIPTION:This specialized online workshop is for LST International teams who have completed most of their online training and are within a month of departure.  LST staff lead this required event. Teams can register through their online training platform.
URL:https://lst.org/event/gateway-training-lst-international-projects-18/
LOCATION:Online
CATEGORIES:LST Mission Projects
ORGANIZER;CN="Let's Start Talking":MAILTO:LST@LST.org
END:VEVENT
BEGIN:VEVENT
DTSTART;VALUE=DATE:20250726
DTEND;VALUE=DATE:20250811
DTSTAMP:20260420T061302
CREATED:20250516T201856Z
LAST-MODIFIED:20250516T205931Z
UID:5131-1753488000-1754870399@lst.org
SUMMARY:LST Project (West Springfield\, MA (USA))
DESCRIPTION:
URL:https://lst.org/event/lst-project-west-springfield-ma-usa-2/
CATEGORIES:LST Mission Projects
END:VEVENT
BEGIN:VEVENT
DTSTART;VALUE=DATE:20250725
DTEND;VALUE=DATE:20250804
DTSTAMP:20260420T061302
CREATED:20250509T205249Z
LAST-MODIFIED:20250509T205249Z
UID:5109-1753401600-1754265599@lst.org
SUMMARY:LST Project (Rio de Janeiro\, Brazil)
DESCRIPTION:
URL:https://lst.org/event/lst-project-rio-de-janeiro-brazil-9/
LOCATION:Rio de Janeiro\, Brazil\, Rio de Janeiro\, Brazil
CATEGORIES:LST Mission Projects
ORGANIZER;CN="Let's Start Talking":MAILTO:LST@LST.org
END:VEVENT
BEGIN:VEVENT
DTSTART;TZID=America/Chicago:20250724T190000
DTEND;TZID=America/Chicago:20250724T213000
DTSTAMP:20260420T061302
CREATED:20241214T002333Z
LAST-MODIFIED:20241214T002333Z
UID:4816-1753383600-1753392600@lst.org
SUMMARY:Basic Training
DESCRIPTION:In this foundational workshop you’ll receive the basic training needed to utilize the LST approach in sharing your faith and your life with an international participant.  The focus of our time will be on the core components of the LST philosophy and methodology. Whether you’re using this training for your local FriendSpeak work\, to connect online with a Reader through LST Connect\, or preparing for an international mission project\, you are a welcome friend! Click here to register – 2025 Basic Training Registration
URL:https://lst.org/event/basic-training-115/
LOCATION:Online
CATEGORIES:FriendSpeak,LST Connect,LST Mission Projects
ORGANIZER;CN="Let's Start Talking":MAILTO:LST@LST.org
END:VEVENT
BEGIN:VEVENT
DTSTART;VALUE=DATE:20250719
DTEND;VALUE=DATE:20250727
DTSTAMP:20260420T061302
CREATED:20250313T221131Z
LAST-MODIFIED:20250313T221131Z
UID:5061-1752883200-1753574399@lst.org
SUMMARY:LST Project (Tabacundo\, Ecuador)
DESCRIPTION:
URL:https://lst.org/event/lst-project-tabacundo-ecuador-2/
LOCATION:Tabacundo\, Ecuador\, Tabacundo\, Ecuador
CATEGORIES:LST Mission Projects
ORGANIZER;CN="Let's Start Talking":MAILTO:LST@LST.org
END:VEVENT
BEGIN:VEVENT
DTSTART;TZID=America/Chicago:20250706T190000
DTEND;TZID=America/Chicago:20250706T213000
DTSTAMP:20260420T061302
CREATED:20241214T002248Z
LAST-MODIFIED:20241214T002248Z
UID:4814-1751828400-1751837400@lst.org
SUMMARY:Basic Training
DESCRIPTION:In this foundational workshop you’ll receive the basic training needed to utilize the LST approach in sharing your faith and your life with an international participant.  The focus of our time will be on the core components of the LST philosophy and methodology. Whether you’re using this training for your local FriendSpeak work\, to connect online with a Reader through LST Connect\, or preparing for an international mission project\, you are a welcome friend! Click here to register – 2025 Basic Training Registration
URL:https://lst.org/event/basic-training-114/
LOCATION:Online
CATEGORIES:FriendSpeak,LST Connect,LST Mission Projects
ORGANIZER;CN="Let's Start Talking":MAILTO:LST@LST.org
END:VEVENT
BEGIN:VEVENT
DTSTART;TZID=America/Chicago:20250629T180000
DTEND;TZID=America/Chicago:20250629T200000
DTSTAMP:20260420T061302
CREATED:20241220T173931Z
LAST-MODIFIED:20241220T173931Z
UID:4900-1751220000-1751227200@lst.org
SUMMARY:Gateway Training (LST International Projects)
DESCRIPTION:This specialized online workshop is for LST International teams who have completed most of their online training and are within a month of departure.  LST staff lead this required event. Teams can register through their online training platform.
URL:https://lst.org/event/gateway-training-lst-international-projects-17/
LOCATION:Online
CATEGORIES:LST Mission Projects
ORGANIZER;CN="Let's Start Talking":MAILTO:LST@LST.org
END:VEVENT
BEGIN:VEVENT
DTSTART;VALUE=DATE:20250627
DTEND;VALUE=DATE:20250707
DTSTAMP:20260420T061302
CREATED:20250422T001924Z
LAST-MODIFIED:20250422T001924Z
UID:5078-1750982400-1751846399@lst.org
SUMMARY:LST Project (Tokyo\, Japan)
DESCRIPTION:
URL:https://lst.org/event/lst-project-tokyo-japan/
LOCATION:Tokyo\, Japan\, Tokyo\, Japan
CATEGORIES:LST Mission Projects
ORGANIZER;CN="Let's Start Talking":MAILTO:LST@LST.org
END:VEVENT
BEGIN:VEVENT
DTSTART;TZID=America/Chicago:20250626T190000
DTEND;TZID=America/Chicago:20250626T200000
DTSTAMP:20260420T061302
CREATED:20241220T194902Z
LAST-MODIFIED:20241220T194902Z
UID:4929-1750964400-1750968000@lst.org
SUMMARY:EndMeeting (LST International Projects)
DESCRIPTION:This online workshop is for LST Teams who have recently returned from their international projects.  It is led by LST staff\, and teams can register through their online training platform.
URL:https://lst.org/event/endmeeting-lst-international-projects-8/
LOCATION:Online
CATEGORIES:LST Mission Projects
ORGANIZER;CN="Let's Start Talking":MAILTO:LST@LST.org
END:VEVENT
BEGIN:VEVENT
DTSTART;TZID=America/Chicago:20250626T120000
DTEND;TZID=America/Chicago:20250626T130000
DTSTAMP:20260420T061302
CREATED:20241220T194812Z
LAST-MODIFIED:20241220T194812Z
UID:4927-1750939200-1750942800@lst.org
SUMMARY:EndMeeting (LST International Projects)
DESCRIPTION:This online workshop is for LST Teams who have recently returned from their international projects.  It is led by LST staff\, and teams can register through their online training platform.
URL:https://lst.org/event/endmeeting-lst-international-projects-7/
LOCATION:Online
CATEGORIES:LST Mission Projects
ORGANIZER;CN="Let's Start Talking":MAILTO:LST@LST.org
END:VEVENT
BEGIN:VEVENT
DTSTART;TZID=America/Chicago:20250625T120000
DTEND;TZID=America/Chicago:20250625T130000
DTSTAMP:20260420T061302
CREATED:20241218T223429Z
LAST-MODIFIED:20241218T223429Z
UID:4875-1750852800-1750856400@lst.org
SUMMARY:Advanced Training for Experienced LST Workers
DESCRIPTION:LST is pleased to provide specialized training for experienced Workers!  These sessions are for Workers who have been through Basic Training (or equivalent)\, have experience working with LST Readers\, and feel comfortable utilizing the LST approach.  For registered LST Connect and FriendSpeak Workers these advanced training sessions are offered for no additional fee. Click here for additional details and to register.
URL:https://lst.org/event/advanced-training-for-experienced-lst-workers-6/
LOCATION:Online
CATEGORIES:FriendSpeak,LST Connect,LST Mission Projects
ORGANIZER;CN="Let's Start Talking":MAILTO:LST@LST.org
END:VEVENT
BEGIN:VEVENT
DTSTART;VALUE=DATE:20250620
DTEND;VALUE=DATE:20250713
DTSTAMP:20260420T061302
CREATED:20241030T211058Z
LAST-MODIFIED:20241204T224028Z
UID:4658-1750377600-1752364799@lst.org
SUMMARY:LST Project (Florianopolis\, Brazil)
DESCRIPTION:
URL:https://lst.org/event/lst-project-florianopolis-brazil-2/
LOCATION:Florianopolis\, Brazil\, Florianopolis\, Brazil
CATEGORIES:LST Mission Projects
ORGANIZER;CN="Let's Start Talking":MAILTO:LST@LST.org
END:VEVENT
BEGIN:VEVENT
DTSTART;TZID=America/Chicago:20250619T120000
DTEND;TZID=America/Chicago:20250619T143000
DTSTAMP:20260420T061302
CREATED:20241214T002209Z
LAST-MODIFIED:20241214T002209Z
UID:4812-1750334400-1750343400@lst.org
SUMMARY:Basic Training
DESCRIPTION:In this foundational workshop you’ll receive the basic training needed to utilize the LST approach in sharing your faith and your life with an international participant.  The focus of our time will be on the core components of the LST philosophy and methodology. Whether you’re using this training for your local FriendSpeak work\, to connect online with a Reader through LST Connect\, or preparing for an international mission project\, you are a welcome friend! Click here to register – 2025 Basic Training Registration
URL:https://lst.org/event/basic-training-113/
LOCATION:Online
CATEGORIES:FriendSpeak,LST Connect,LST Mission Projects
ORGANIZER;CN="Let's Start Talking":MAILTO:LST@LST.org
END:VEVENT
END:VCALENDAR