BEGIN:VCALENDAR
VERSION:2.0
PRODID:-//Let&#039;s Start Talking - ECPv6.15.20//NONSGML v1.0//EN
CALSCALE:GREGORIAN
METHOD:PUBLISH
X-WR-CALNAME:Let&#039;s Start Talking
X-ORIGINAL-URL:https://lst.org
X-WR-CALDESC:Events for Let&#039;s Start Talking
REFRESH-INTERVAL;VALUE=DURATION:PT1H
X-Robots-Tag:noindex
X-PUBLISHED-TTL:PT1H
BEGIN:VTIMEZONE
TZID:America/Chicago
BEGIN:DAYLIGHT
TZOFFSETFROM:-0600
TZOFFSETTO:-0500
TZNAME:CDT
DTSTART:20250309T080000
END:DAYLIGHT
BEGIN:STANDARD
TZOFFSETFROM:-0500
TZOFFSETTO:-0600
TZNAME:CST
DTSTART:20251102T070000
END:STANDARD
BEGIN:DAYLIGHT
TZOFFSETFROM:-0600
TZOFFSETTO:-0500
TZNAME:CDT
DTSTART:20260308T080000
END:DAYLIGHT
BEGIN:STANDARD
TZOFFSETFROM:-0500
TZOFFSETTO:-0600
TZNAME:CST
DTSTART:20261101T070000
END:STANDARD
BEGIN:DAYLIGHT
TZOFFSETFROM:-0600
TZOFFSETTO:-0500
TZNAME:CDT
DTSTART:20270314T080000
END:DAYLIGHT
BEGIN:STANDARD
TZOFFSETFROM:-0500
TZOFFSETTO:-0600
TZNAME:CST
DTSTART:20271107T070000
END:STANDARD
END:VTIMEZONE
BEGIN:VEVENT
DTSTART;VALUE=DATE:20260601
DTEND;VALUE=DATE:20260712
DTSTAMP:20260421T121058
CREATED:20260225T214753Z
LAST-MODIFIED:20260225T214753Z
UID:5575-1780272000-1783814399@lst.org
SUMMARY:LST Project (Kasama\, Japan)
DESCRIPTION:
URL:https://lst.org/event/lst-project-kasama-japan-2/
LOCATION:Kasama\, Japan\, Kasama\, Japan
CATEGORIES:LST Mission Projects
ORGANIZER;CN="Let's Start Talking":MAILTO:LST@LST.org
END:VEVENT
BEGIN:VEVENT
DTSTART;VALUE=DATE:20260604
DTEND;VALUE=DATE:20260621
DTSTAMP:20260421T121058
CREATED:20260304T022231Z
LAST-MODIFIED:20260304T022231Z
UID:5596-1780531200-1781999999@lst.org
SUMMARY:LST Project (Krakow\, Poland)
DESCRIPTION:
URL:https://lst.org/event/lst-project-krakow-poland-3/
LOCATION:Krakow\, Poland\, Krakow\, Poland
CATEGORIES:LST Mission Projects
ORGANIZER;CN="Let's Start Talking":MAILTO:LST@LST.org
END:VEVENT
BEGIN:VEVENT
DTSTART;TZID=America/Chicago:20260604T190000
DTEND;TZID=America/Chicago:20260604T213000
DTSTAMP:20260421T121058
CREATED:20251218T210733Z
LAST-MODIFIED:20251218T210733Z
UID:5333-1780599600-1780608600@lst.org
SUMMARY:Basic Training
DESCRIPTION:In this foundational workshop you’ll receive the basic training needed to utilize the LST approach in sharing your faith and your life with an international participant.  The focus of our time will be on the core components of the LST philosophy and methodology. Whether you’re using this training for your local FriendSpeak work\, to connect online with a Reader through LST Connect\, or preparing for an international mission project\, you are a welcome friend! Click here to register – 2026 Basic Training Registration
URL:https://lst.org/event/basic-training-136/
LOCATION:Online
CATEGORIES:FriendSpeak,LST Connect,LST Mission Projects
ORGANIZER;CN="Let's Start Talking":MAILTO:LST@LST.org
END:VEVENT
BEGIN:VEVENT
DTSTART;VALUE=DATE:20260612
DTEND;VALUE=DATE:20260628
DTSTAMP:20260421T121058
CREATED:20251115T205908Z
LAST-MODIFIED:20251115T205908Z
UID:5258-1781222400-1782604799@lst.org
SUMMARY:LST Project (West Springfield\, MA)
DESCRIPTION:
URL:https://lst.org/event/lst-project-west-springfield-ma-15/
LOCATION:West Springfield\, MA\, West Springfield\, MA\, United States
CATEGORIES:LST Mission Projects
ORGANIZER;CN="Let's Start Talking":MAILTO:LST@LST.org
END:VEVENT
BEGIN:VEVENT
DTSTART;TZID=America/Chicago:20260614T180000
DTEND;TZID=America/Chicago:20260614T200000
DTSTAMP:20260421T121058
CREATED:20251218T222024Z
LAST-MODIFIED:20251218T222714Z
UID:5429-1781460000-1781467200@lst.org
SUMMARY:Gateway Training (LST International Projects)
DESCRIPTION:This specialized online workshop is for LST International teams who have completed most of their online training and are within a month of departure.  LST staff lead this required event\, and teams can register through the LST Training web page.
URL:https://lst.org/event/gateway-training-lst-international-projects-29/
LOCATION:Online
CATEGORIES:LST Mission Projects
ORGANIZER;CN="Let's Start Talking":MAILTO:LST@LST.org
END:VEVENT
BEGIN:VEVENT
DTSTART;VALUE=DATE:20260622
DTEND;VALUE=DATE:20260803
DTSTAMP:20260421T121058
CREATED:20260327T191221Z
LAST-MODIFIED:20260327T191221Z
UID:5647-1782086400-1785715199@lst.org
SUMMARY:LST Project (Ponta Grossa\, Brazil)
DESCRIPTION:
URL:https://lst.org/event/lst-project-ponta-grossa-brazil/
LOCATION:Ponta Grossa\, Brazil\, Ponta Grossa\, Brazil
CATEGORIES:LST Mission Projects
ORGANIZER;CN="Let's Start Talking":MAILTO:LST@LST.org
END:VEVENT
BEGIN:VEVENT
DTSTART;TZID=America/Chicago:20260624T120000
DTEND;TZID=America/Chicago:20260624T124500
DTSTAMP:20260421T121058
CREATED:20251218T214026Z
LAST-MODIFIED:20251218T214026Z
UID:5371-1782302400-1782305100@lst.org
SUMMARY:Advanced Training for Experienced LST Workers
DESCRIPTION:LST is pleased to provide specialized training for experienced Workers!  These sessions are for Workers who have been through Basic Training (or equivalent)\, have experience working with LST Readers\, and feel comfortable utilizing the LST approach.  For registered LST Connect and FriendSpeak Workers these advanced training sessions are offered for no additional fee. Click here for additional details and to register.
URL:https://lst.org/event/advanced-training-for-experienced-lst-workers-18/
LOCATION:Online
CATEGORIES:FriendSpeak,LST Connect,LST Mission Projects
ORGANIZER;CN="Let's Start Talking":MAILTO:LST@LST.org
END:VEVENT
BEGIN:VEVENT
DTSTART;TZID=America/Chicago:20260625T120000
DTEND;TZID=America/Chicago:20260625T130000
DTSTAMP:20260421T121058
CREATED:20251218T220053Z
LAST-MODIFIED:20251218T220053Z
UID:5395-1782388800-1782392400@lst.org
SUMMARY:EndMeeting (LST International Projects)
DESCRIPTION:This online workshop is for LST Teams who have recently returned from their international short-term projects.  It is led by LST staff\, and teams can register through LST Training web page.
URL:https://lst.org/event/endmeeting-lst-international-projects-24/
LOCATION:Online
CATEGORIES:LST Mission Projects
ORGANIZER;CN="Let's Start Talking":MAILTO:LST@LST.org
END:VEVENT
BEGIN:VEVENT
DTSTART;TZID=America/Chicago:20260625T190000
DTEND;TZID=America/Chicago:20260625T200000
DTSTAMP:20260421T121058
CREATED:20251218T220137Z
LAST-MODIFIED:20251218T220137Z
UID:5397-1782414000-1782417600@lst.org
SUMMARY:EndMeeting (LST International Projects)
DESCRIPTION:This online workshop is for LST Teams who have recently returned from their international short-term projects.  It is led by LST staff\, and teams can register through LST Training web page.
URL:https://lst.org/event/endmeeting-lst-international-projects-25/
LOCATION:Online
CATEGORIES:LST Mission Projects
ORGANIZER;CN="Let's Start Talking":MAILTO:LST@LST.org
END:VEVENT
BEGIN:VEVENT
DTSTART;TZID=America/Chicago:20260628T190000
DTEND;TZID=America/Chicago:20260628T213000
DTSTAMP:20260421T121058
CREATED:20251218T210827Z
LAST-MODIFIED:20251218T210827Z
UID:5335-1782673200-1782682200@lst.org
SUMMARY:Basic Training
DESCRIPTION:In this foundational workshop you’ll receive the basic training needed to utilize the LST approach in sharing your faith and your life with an international participant.  The focus of our time will be on the core components of the LST philosophy and methodology. Whether you’re using this training for your local FriendSpeak work\, to connect online with a Reader through LST Connect\, or preparing for an international mission project\, you are a welcome friend! Click here to register – 2026 Basic Training Registration
URL:https://lst.org/event/basic-training-137/
LOCATION:Online
CATEGORIES:FriendSpeak,LST Connect,LST Mission Projects
ORGANIZER;CN="Let's Start Talking":MAILTO:LST@LST.org
END:VEVENT
BEGIN:VEVENT
DTSTART;TZID=America/Chicago:20260630T120000
DTEND;TZID=America/Chicago:20260630T124500
DTSTAMP:20260421T121058
CREATED:20260105T214242Z
LAST-MODIFIED:20260105T214242Z
UID:5453-1782820800-1782823500@lst.org
SUMMARY:Exploring LST
DESCRIPTION:Exploring LST \nJoin us to learn what LST is all about and explore simple ways you can get involved. Offered once a month in 2026. Click HERE for details and to register.
URL:https://lst.org/event/exploring-lst-6/
LOCATION:Online
CATEGORIES:FriendSpeak,LST Connect,LST Mission Projects
ORGANIZER;CN="Let's Start Talking":MAILTO:LST@LST.org
END:VEVENT
BEGIN:VEVENT
DTSTART;TZID=America/Chicago:20260709T120000
DTEND;TZID=America/Chicago:20260709T143000
DTSTAMP:20260421T121058
CREATED:20251218T210919Z
LAST-MODIFIED:20251218T210919Z
UID:5337-1783598400-1783607400@lst.org
SUMMARY:Basic Training
DESCRIPTION:In this foundational workshop you’ll receive the basic training needed to utilize the LST approach in sharing your faith and your life with an international participant.  The focus of our time will be on the core components of the LST philosophy and methodology. Whether you’re using this training for your local FriendSpeak work\, to connect online with a Reader through LST Connect\, or preparing for an international mission project\, you are a welcome friend! Click here to register – 2026 Basic Training Registration
URL:https://lst.org/event/basic-training-138/
LOCATION:Online
CATEGORIES:FriendSpeak,LST Connect,LST Mission Projects
ORGANIZER;CN="Let's Start Talking":MAILTO:LST@LST.org
END:VEVENT
BEGIN:VEVENT
DTSTART;TZID=America/Chicago:20260712T200000
DTEND;TZID=America/Chicago:20260712T204500
DTSTAMP:20260421T121058
CREATED:20251218T214118Z
LAST-MODIFIED:20251218T214118Z
UID:5373-1783886400-1783889100@lst.org
SUMMARY:Advanced Training for Experienced LST Workers
DESCRIPTION:LST is pleased to provide specialized training for experienced Workers!  These sessions are for Workers who have been through Basic Training (or equivalent)\, have experience working with LST Readers\, and feel comfortable utilizing the LST approach.  For registered LST Connect and FriendSpeak Workers these advanced training sessions are offered for no additional fee. Click here for additional details and to register.
URL:https://lst.org/event/advanced-training-for-experienced-lst-workers-19/
LOCATION:Online
CATEGORIES:FriendSpeak,LST Connect,LST Mission Projects
ORGANIZER;CN="Let's Start Talking":MAILTO:LST@LST.org
END:VEVENT
BEGIN:VEVENT
DTSTART;TZID=America/Chicago:20260719T180000
DTEND;TZID=America/Chicago:20260719T200000
DTSTAMP:20260421T121058
CREATED:20251218T222110Z
LAST-MODIFIED:20251218T222110Z
UID:5431-1784484000-1784491200@lst.org
SUMMARY:Gateway Training (LST International Projects)
DESCRIPTION:This specialized online workshop is for LST International teams who have completed most of their online training and are within a month of departure.  LST staff lead this required event\, and teams can register through the LST Training web page.
URL:https://lst.org/event/gateway-training-lst-international-projects-30/
LOCATION:Online
CATEGORIES:LST Mission Projects
ORGANIZER;CN="Let's Start Talking":MAILTO:LST@LST.org
END:VEVENT
BEGIN:VEVENT
DTSTART;VALUE=DATE:20260723
DTEND;VALUE=DATE:20260724
DTSTAMP:20260421T121058
CREATED:20260105T220738Z
LAST-MODIFIED:20260105T220738Z
UID:5473-1784764800-1784851199@lst.org
SUMMARY:LST MeetUp
DESCRIPTION:LST MeetUp \nLST Meetups are for everyone participating in LST!  This one-hour online gathering is a time to connect with other participants\, have fun\, and continue practicing English.  If you have friends interested in LST\, invite them to this online “party!” Please register here.
URL:https://lst.org/event/lst-meetup-17/
LOCATION:Online
CATEGORIES:FriendSpeak,LST Connect,LST Mission Projects
ORGANIZER;CN="Let's Start Talking":MAILTO:LST@LST.org
END:VEVENT
BEGIN:VEVENT
DTSTART;TZID=America/Chicago:20260726T190000
DTEND;TZID=America/Chicago:20260726T213000
DTSTAMP:20260421T121058
CREATED:20251218T211018Z
LAST-MODIFIED:20251218T211018Z
UID:5339-1785092400-1785101400@lst.org
SUMMARY:Basic Training
DESCRIPTION:In this foundational workshop you’ll receive the basic training needed to utilize the LST approach in sharing your faith and your life with an international participant.  The focus of our time will be on the core components of the LST philosophy and methodology. Whether you’re using this training for your local FriendSpeak work\, to connect online with a Reader through LST Connect\, or preparing for an international mission project\, you are a welcome friend! Click here to register – 2026 Basic Training Registration
URL:https://lst.org/event/basic-training-139/
LOCATION:Online
CATEGORIES:FriendSpeak,Fundraising,LST Mission Projects
ORGANIZER;CN="Let's Start Talking":MAILTO:LST@LST.org
END:VEVENT
BEGIN:VEVENT
DTSTART;TZID=America/Chicago:20260728T200000
DTEND;TZID=America/Chicago:20260728T204500
DTSTAMP:20260421T121058
CREATED:20260105T214335Z
LAST-MODIFIED:20260105T214335Z
UID:5455-1785268800-1785271500@lst.org
SUMMARY:Exploring LST
DESCRIPTION:Exploring LST \nJoin us to learn what LST is all about and explore simple ways you can get involved. Offered once a month in 2026. Click HERE for details and to register.
URL:https://lst.org/event/exploring-lst-7/
LOCATION:Online
CATEGORIES:FriendSpeak,LST Connect,LST Mission Projects
ORGANIZER;CN="Let's Start Talking":MAILTO:LST@LST.org
END:VEVENT
BEGIN:VEVENT
DTSTART;TZID=America/Chicago:20260730T120000
DTEND;TZID=America/Chicago:20260730T130000
DTSTAMP:20260421T121058
CREATED:20251218T220238Z
LAST-MODIFIED:20251218T220238Z
UID:5399-1785412800-1785416400@lst.org
SUMMARY:EndMeeting (LST International Projects)
DESCRIPTION:This online workshop is for LST Teams who have recently returned from their international short-term projects.  It is led by LST staff\, and teams can register through LST Training web page.
URL:https://lst.org/event/endmeeting-lst-international-projects-26/
LOCATION:Online
CATEGORIES:LST Mission Projects
ORGANIZER;CN="Let's Start Talking":MAILTO:LST@LST.org
END:VEVENT
BEGIN:VEVENT
DTSTART;TZID=America/Chicago:20260730T190000
DTEND;TZID=America/Chicago:20260730T200000
DTSTAMP:20260421T121058
CREATED:20251218T220334Z
LAST-MODIFIED:20251218T220334Z
UID:5401-1785438000-1785441600@lst.org
SUMMARY:EndMeeting (LST International Projects)
DESCRIPTION:This online workshop is for LST Teams who have recently returned from their international short-term projects.  It is led by LST staff\, and teams can register through LST Training web page.
URL:https://lst.org/event/endmeeting-lst-international-projects-27/
LOCATION:Online
CATEGORIES:LST Mission Projects
ORGANIZER;CN="Let's Start Talking":MAILTO:LST@LST.org
END:VEVENT
BEGIN:VEVENT
DTSTART;VALUE=DATE:20260803
DTEND;VALUE=DATE:20260819
DTSTAMP:20260421T121058
CREATED:20260406T193549Z
LAST-MODIFIED:20260406T193549Z
UID:5660-1785715200-1787097599@lst.org
SUMMARY:LST Project (Niteroi\, Brazil)
DESCRIPTION:
URL:https://lst.org/event/lst-project-niteroi-brazil-7/
LOCATION:Niteroi\, Brazil\, Niteroi\, Brazil
CATEGORIES:LST Mission Projects
ORGANIZER;CN="Let's Start Talking":MAILTO:LST@LST.org
END:VEVENT
BEGIN:VEVENT
DTSTART;TZID=America/Chicago:20260806T190000
DTEND;TZID=America/Chicago:20260806T213000
DTSTAMP:20260421T121058
CREATED:20251218T211126Z
LAST-MODIFIED:20251218T211126Z
UID:5341-1786042800-1786051800@lst.org
SUMMARY:Basic Training
DESCRIPTION:In this foundational workshop you’ll receive the basic training needed to utilize the LST approach in sharing your faith and your life with an international participant.  The focus of our time will be on the core components of the LST philosophy and methodology. Whether you’re using this training for your local FriendSpeak work\, to connect online with a Reader through LST Connect\, or preparing for an international mission project\, you are a welcome friend! Click here to register – 2026 Basic Training Registration
URL:https://lst.org/event/basic-training-140/
LOCATION:Online
CATEGORIES:FriendSpeak,LST Connect,LST Mission Projects
ORGANIZER;CN="Let's Start Talking":MAILTO:LST@LST.org
END:VEVENT
BEGIN:VEVENT
DTSTART;VALUE=DATE:20260814
DTEND;VALUE=DATE:20260830
DTSTAMP:20260421T121058
CREATED:20260406T180545Z
LAST-MODIFIED:20260406T180545Z
UID:5657-1786665600-1788047999@lst.org
SUMMARY:LST Project (Niteroi\, Brazil)
DESCRIPTION:
URL:https://lst.org/event/lst-project-niteroi-brazil-6/
LOCATION:Niteroi\, Brazil\, Niteroi\, Brazil
CATEGORIES:LST Mission Projects
ORGANIZER;CN="Let's Start Talking":MAILTO:LST@LST.org
END:VEVENT
BEGIN:VEVENT
DTSTART;TZID=America/Chicago:20260823T190000
DTEND;TZID=America/Chicago:20260823T213000
DTSTAMP:20260421T121058
CREATED:20251218T211227Z
LAST-MODIFIED:20251218T211227Z
UID:5343-1787511600-1787520600@lst.org
SUMMARY:Basic Training
DESCRIPTION:In this foundational workshop you’ll receive the basic training needed to utilize the LST approach in sharing your faith and your life with an international participant.  The focus of our time will be on the core components of the LST philosophy and methodology. Whether you’re using this training for your local FriendSpeak work\, to connect online with a Reader through LST Connect\, or preparing for an international mission project\, you are a welcome friend! Click here to register – 2026 Basic Training Registration
URL:https://lst.org/event/basic-training-141/
LOCATION:Online
CATEGORIES:FriendSpeak,LST Connect,LST Mission Projects
ORGANIZER;CN="Let's Start Talking":MAILTO:LST@LST.org
END:VEVENT
BEGIN:VEVENT
DTSTART;TZID=America/Chicago:20260825T120000
DTEND;TZID=America/Chicago:20260825T124500
DTSTAMP:20260421T121058
CREATED:20260105T214429Z
LAST-MODIFIED:20260105T214429Z
UID:5457-1787659200-1787661900@lst.org
SUMMARY:Exploring LST
DESCRIPTION:Exploring LST \nJoin us to learn what LST is all about and explore simple ways you can get involved. Offered once a month in 2026. Click HERE for details and to register.
URL:https://lst.org/event/exploring-lst-8/
LOCATION:Online
CATEGORIES:FriendSpeak,LST Connect,LST Mission Projects
ORGANIZER;CN="Let's Start Talking":MAILTO:LST@LST.org
END:VEVENT
BEGIN:VEVENT
DTSTART;TZID=America/Chicago:20260826T120000
DTEND;TZID=America/Chicago:20260826T124500
DTSTAMP:20260421T121058
CREATED:20251218T214219Z
LAST-MODIFIED:20251218T214219Z
UID:5375-1787745600-1787748300@lst.org
SUMMARY:Advanced Training for Experienced LST Workers
DESCRIPTION:LST is pleased to provide specialized training for experienced Workers!  These sessions are for Workers who have been through Basic Training (or equivalent)\, have experience working with LST Readers\, and feel comfortable utilizing the LST approach.  For registered LST Connect and FriendSpeak Workers these advanced training sessions are offered for no additional fee. Click here for additional details and to register.
URL:https://lst.org/event/advanced-training-for-experienced-lst-workers-20/
LOCATION:Online
CATEGORIES:FriendSpeak,LST Connect,LST Mission Projects
ORGANIZER;CN="Let's Start Talking":MAILTO:LST@LST.org
END:VEVENT
BEGIN:VEVENT
DTSTART;TZID=America/Chicago:20260827T120000
DTEND;TZID=America/Chicago:20260827T130000
DTSTAMP:20260421T121058
CREATED:20251218T220419Z
LAST-MODIFIED:20251218T220419Z
UID:5403-1787832000-1787835600@lst.org
SUMMARY:EndMeeting (LST International Projects)
DESCRIPTION:This online workshop is for LST Teams who have recently returned from their international short-term projects.  It is led by LST staff\, and teams can register through LST Training web page.
URL:https://lst.org/event/endmeeting-lst-international-projects-28/
LOCATION:Online
CATEGORIES:LST Mission Projects
ORGANIZER;CN="Let's Start Talking":MAILTO:LST@LST.org
END:VEVENT
BEGIN:VEVENT
DTSTART;TZID=America/Chicago:20260827T190000
DTEND;TZID=America/Chicago:20260827T200000
DTSTAMP:20260421T121058
CREATED:20251218T220513Z
LAST-MODIFIED:20251218T220513Z
UID:5405-1787857200-1787860800@lst.org
SUMMARY:EndMeeting (LST International Projects)
DESCRIPTION:This online workshop is for LST Teams who have recently returned from their international short-term projects.  It is led by LST staff\, and teams can register through LST Training web page.
URL:https://lst.org/event/endmeeting-lst-international-projects-29/
LOCATION:Online
CATEGORIES:LST Mission Projects
ORGANIZER;CN="Let's Start Talking":MAILTO:LST@LST.org
END:VEVENT
BEGIN:VEVENT
DTSTART;VALUE=DATE:20260828
DTEND;VALUE=DATE:20260913
DTSTAMP:20260421T121058
CREATED:20260225T211608Z
LAST-MODIFIED:20260225T211608Z
UID:5565-1787875200-1789257599@lst.org
SUMMARY:LST Project (West Springfield\, MA)
DESCRIPTION:
URL:https://lst.org/event/lst-project-west-springfield-ma-17/
LOCATION:West Springfield\, MA\, West Springfield\, MA\, United States
CATEGORIES:LST Mission Projects
ORGANIZER;CN="Let's Start Talking":MAILTO:LST@LST.org
END:VEVENT
BEGIN:VEVENT
DTSTART;VALUE=DATE:20260830
DTEND;VALUE=DATE:20260927
DTSTAMP:20260421T121058
CREATED:20260226T231124Z
LAST-MODIFIED:20260226T231124Z
UID:5589-1788048000-1790467199@lst.org
SUMMARY:LST Project (Hannover\, Germany)
DESCRIPTION:
URL:https://lst.org/event/lst-project-hannover-germany-13/
LOCATION:Hannover\, Germany\, Hannover\, Germany
CATEGORIES:LST Mission Projects
ORGANIZER;CN="Let's Start Talking":MAILTO:LST@LST.org
END:VEVENT
BEGIN:VEVENT
DTSTART;TZID=America/Chicago:20260830T180000
DTEND;TZID=America/Chicago:20260830T200000
DTSTAMP:20260421T121058
CREATED:20251218T222200Z
LAST-MODIFIED:20251218T222200Z
UID:5433-1788112800-1788120000@lst.org
SUMMARY:Gateway Training (LST International Projects)
DESCRIPTION:This specialized online workshop is for LST International teams who have completed most of their online training and are within a month of departure.  LST staff lead this required event\, and teams can register through the LST Training web page.
URL:https://lst.org/event/gateway-training-lst-international-projects-31/
LOCATION:Online
CATEGORIES:LST Mission Projects
ORGANIZER;CN="Let's Start Talking":MAILTO:LST@LST.org
END:VEVENT
END:VCALENDAR