BEGIN:VCALENDAR
VERSION:2.0
PRODID:-//Let&#039;s Start Talking - ECPv6.15.20//NONSGML v1.0//EN
CALSCALE:GREGORIAN
METHOD:PUBLISH
X-ORIGINAL-URL:https://lst.org
X-WR-CALDESC:Events for Let&#039;s Start Talking
REFRESH-INTERVAL;VALUE=DURATION:PT1H
X-Robots-Tag:noindex
X-PUBLISHED-TTL:PT1H
BEGIN:VTIMEZONE
TZID:America/Chicago
BEGIN:DAYLIGHT
TZOFFSETFROM:-0600
TZOFFSETTO:-0500
TZNAME:CDT
DTSTART:20240310T080000
END:DAYLIGHT
BEGIN:STANDARD
TZOFFSETFROM:-0500
TZOFFSETTO:-0600
TZNAME:CST
DTSTART:20241103T070000
END:STANDARD
BEGIN:DAYLIGHT
TZOFFSETFROM:-0600
TZOFFSETTO:-0500
TZNAME:CDT
DTSTART:20250309T080000
END:DAYLIGHT
BEGIN:STANDARD
TZOFFSETFROM:-0500
TZOFFSETTO:-0600
TZNAME:CST
DTSTART:20251102T070000
END:STANDARD
BEGIN:DAYLIGHT
TZOFFSETFROM:-0600
TZOFFSETTO:-0500
TZNAME:CDT
DTSTART:20260308T080000
END:DAYLIGHT
BEGIN:STANDARD
TZOFFSETFROM:-0500
TZOFFSETTO:-0600
TZNAME:CST
DTSTART:20261101T070000
END:STANDARD
END:VTIMEZONE
BEGIN:VEVENT
DTSTART;VALUE=DATE:20250828
DTEND;VALUE=DATE:20250914
DTSTAMP:20260421T042236
CREATED:20250513T195220Z
LAST-MODIFIED:20250513T195220Z
UID:5114-1756339200-1757807999@lst.org
SUMMARY:LST Project (Lecce\, Italy)
DESCRIPTION:
URL:https://lst.org/event/lst-project-lecce-italy-16/
LOCATION:Lecce\, Italy\, Lecce\, Italy
CATEGORIES:LST Mission Projects
ORGANIZER;CN="Let's Start Talking":MAILTO:LST@LST.org
END:VEVENT
BEGIN:VEVENT
DTSTART;VALUE=DATE:20250829
DTEND;VALUE=DATE:20250914
DTSTAMP:20260421T042236
CREATED:20250516T194159Z
LAST-MODIFIED:20250516T194159Z
UID:5127-1756425600-1757807999@lst.org
SUMMARY:LST Project (West Springfield\, MA (USA))
DESCRIPTION:
URL:https://lst.org/event/lst-project-west-springfield-ma-usa/
LOCATION:West Springfield\, MA\, West Springfield\, MA\, United States
CATEGORIES:LST Mission Projects
ORGANIZER;CN="Let's Start Talking":MAILTO:LST@LST.org
END:VEVENT
BEGIN:VEVENT
DTSTART;VALUE=DATE:20250829
DTEND;VALUE=DATE:20250914
DTSTAMP:20260421T042236
CREATED:20250822T192747Z
LAST-MODIFIED:20250822T192747Z
UID:5203-1756425600-1757807999@lst.org
SUMMARY:LST Project (Hannover\, Germany)
DESCRIPTION:
URL:https://lst.org/event/lst-project-hannover-germany-10/
LOCATION:Hannover\, Germany\, Hannover\, Germany
CATEGORIES:LST Mission Projects
ORGANIZER;CN="Let's Start Talking":MAILTO:LST@LST.org
END:VEVENT
END:VCALENDAR