BEGIN:VCALENDAR
VERSION:2.0
PRODID:-//Let&#039;s Start Talking - ECPv6.15.20//NONSGML v1.0//EN
CALSCALE:GREGORIAN
METHOD:PUBLISH
X-ORIGINAL-URL:https://lst.org
X-WR-CALDESC:Events for Let&#039;s Start Talking
REFRESH-INTERVAL;VALUE=DURATION:PT1H
X-Robots-Tag:noindex
X-PUBLISHED-TTL:PT1H
BEGIN:VTIMEZONE
TZID:America/Chicago
BEGIN:DAYLIGHT
TZOFFSETFROM:-0600
TZOFFSETTO:-0500
TZNAME:CDT
DTSTART:20240310T080000
END:DAYLIGHT
BEGIN:STANDARD
TZOFFSETFROM:-0500
TZOFFSETTO:-0600
TZNAME:CST
DTSTART:20241103T070000
END:STANDARD
BEGIN:DAYLIGHT
TZOFFSETFROM:-0600
TZOFFSETTO:-0500
TZNAME:CDT
DTSTART:20250309T080000
END:DAYLIGHT
BEGIN:STANDARD
TZOFFSETFROM:-0500
TZOFFSETTO:-0600
TZNAME:CST
DTSTART:20251102T070000
END:STANDARD
BEGIN:DAYLIGHT
TZOFFSETFROM:-0600
TZOFFSETTO:-0500
TZNAME:CDT
DTSTART:20260308T080000
END:DAYLIGHT
BEGIN:STANDARD
TZOFFSETFROM:-0500
TZOFFSETTO:-0600
TZNAME:CST
DTSTART:20261101T070000
END:STANDARD
END:VTIMEZONE
BEGIN:VEVENT
DTSTART;VALUE=DATE:20250201
DTEND;VALUE=DATE:20250427
DTSTAMP:20260422T021104
CREATED:20241030T213811Z
LAST-MODIFIED:20241030T213811Z
UID:4660-1738368000-1745711999@lst.org
SUMMARY:LST Project (Lecce\, Italy)
DESCRIPTION:
URL:https://lst.org/event/lst-project-lecce-italy-11/
LOCATION:Lecce\, Italy\, Lecce\, Italy
CATEGORIES:LST Mission Projects
ORGANIZER;CN="Let's Start Talking":MAILTO:LST@LST.org
END:VEVENT
BEGIN:VEVENT
DTSTART;VALUE=DATE:20250301
DTEND;VALUE=DATE:20250322
DTSTAMP:20260422T021104
CREATED:20241030T165017Z
LAST-MODIFIED:20241030T165017Z
UID:4653-1740787200-1742601599@lst.org
SUMMARY:LST Project (Buenos Aires)
DESCRIPTION:
URL:https://lst.org/event/lst-project-buenos-aires/
LOCATION:Buenos Aires\, Argentina\, Buenos Aires\, Argentina
CATEGORIES:LST Mission Projects
ORGANIZER;CN="Let's Start Talking":MAILTO:LST@LST.org
END:VEVENT
BEGIN:VEVENT
DTSTART;VALUE=DATE:20250310
DTEND;VALUE=DATE:20250609
DTSTAMP:20260422T021104
CREATED:20250114T160353Z
LAST-MODIFIED:20250114T160353Z
UID:4970-1741564800-1749427199@lst.org
SUMMARY:LST Project (Vicenza\, Italy)
DESCRIPTION:
URL:https://lst.org/event/lst-project-vicenza-italy/
LOCATION:Vicenza\, Italy\, Vicenza\, Italy
CATEGORIES:LST Mission Projects
END:VEVENT
BEGIN:VEVENT
DTSTART;TZID=America/Chicago:20250313T120000
DTEND;TZID=America/Chicago:20250313T143000
DTSTAMP:20260422T021104
CREATED:20241214T001554Z
LAST-MODIFIED:20241214T001554Z
UID:4796-1741867200-1741876200@lst.org
SUMMARY:Basic Training
DESCRIPTION:In this foundational workshop you’ll receive the basic training needed to utilize the LST approach in sharing your faith and your life with an international participant.  The focus of our time will be on the core components of the LST philosophy and methodology. Whether you’re using this training for your local FriendSpeak work\, to connect online with a Reader through LST Connect\, or preparing for an international mission project\, you are a welcome friend! Click here to register – 2025 Basic Training Registration
URL:https://lst.org/event/basic-training-105/
LOCATION:Online
CATEGORIES:FriendSpeak,LST Connect,LST Mission Projects
ORGANIZER;CN="Let's Start Talking":MAILTO:LST@LST.org
END:VEVENT
END:VCALENDAR