BEGIN:VCALENDAR
VERSION:2.0
PRODID:-//Let&#039;s Start Talking - ECPv6.15.20//NONSGML v1.0//EN
CALSCALE:GREGORIAN
METHOD:PUBLISH
X-WR-CALNAME:Let&#039;s Start Talking
X-ORIGINAL-URL:https://lst.org
X-WR-CALDESC:Events for Let&#039;s Start Talking
REFRESH-INTERVAL;VALUE=DURATION:PT1H
X-Robots-Tag:noindex
X-PUBLISHED-TTL:PT1H
BEGIN:VTIMEZONE
TZID:UTC
BEGIN:STANDARD
TZOFFSETFROM:+0000
TZOFFSETTO:+0000
TZNAME:UTC
DTSTART:20220101T000000
END:STANDARD
END:VTIMEZONE
BEGIN:VTIMEZONE
TZID:America/Chicago
BEGIN:DAYLIGHT
TZOFFSETFROM:-0600
TZOFFSETTO:-0500
TZNAME:CDT
DTSTART:20220313T080000
END:DAYLIGHT
BEGIN:STANDARD
TZOFFSETFROM:-0500
TZOFFSETTO:-0600
TZNAME:CST
DTSTART:20221106T070000
END:STANDARD
BEGIN:DAYLIGHT
TZOFFSETFROM:-0600
TZOFFSETTO:-0500
TZNAME:CDT
DTSTART:20230312T080000
END:DAYLIGHT
BEGIN:STANDARD
TZOFFSETFROM:-0500
TZOFFSETTO:-0600
TZNAME:CST
DTSTART:20231105T070000
END:STANDARD
BEGIN:DAYLIGHT
TZOFFSETFROM:-0600
TZOFFSETTO:-0500
TZNAME:CDT
DTSTART:20240310T080000
END:DAYLIGHT
BEGIN:STANDARD
TZOFFSETFROM:-0500
TZOFFSETTO:-0600
TZNAME:CST
DTSTART:20241103T070000
END:STANDARD
END:VTIMEZONE
BEGIN:VEVENT
DTSTART;VALUE=DATE:20230602
DTEND;VALUE=DATE:20230716
DTSTAMP:20260421T095340
CREATED:20221216T033938Z
LAST-MODIFIED:20221216T033938Z
UID:3524-1685664000-1689465599@lst.org
SUMMARY:LST Project (Rio de Janeiro)
DESCRIPTION:
URL:https://lst.org/event/lst-project-rio-de-janeiro/
LOCATION:Rio de Janeiro\, Brazil\, Rio de Janeiro\, Brazil
CATEGORIES:LST Mission Projects
ORGANIZER;CN="Let's Start Talking":MAILTO:LST@LST.org
END:VEVENT
BEGIN:VEVENT
DTSTART;VALUE=DATE:20230606
DTEND;VALUE=DATE:20230716
DTSTAMP:20260421T095340
CREATED:20230130T220816Z
LAST-MODIFIED:20230328T192932Z
UID:3583-1686009600-1689465599@lst.org
SUMMARY:LST Project (Hannover\, Germany)
DESCRIPTION:
URL:https://lst.org/event/lst-project-hannover-germany-2/
LOCATION:Hannover\, Germany\, Hannover\, Germany
CATEGORIES:LST Mission Projects
ORGANIZER;CN="Let's Start Talking":MAILTO:LST@LST.org
END:VEVENT
BEGIN:VEVENT
DTSTART;VALUE=DATE:20230629
DTEND;VALUE=DATE:20230717
DTSTAMP:20260421T095340
CREATED:20230329T205922Z
LAST-MODIFIED:20230329T205922Z
UID:3709-1687996800-1689551999@lst.org
SUMMARY:LST Project (Lodz\, Poland)
DESCRIPTION:
URL:https://lst.org/event/lst-project-lodz-poland-5/
LOCATION:Lodz\, Poland\, Lodz\, Poland
CATEGORIES:LST Mission Projects
ORGANIZER;CN="Let's Start Talking":MAILTO:LST@LST.org
END:VEVENT
BEGIN:VEVENT
DTSTART;VALUE=DATE:20230709
DTEND;VALUE=DATE:20230724
DTSTAMP:20260421T095340
CREATED:20230529T191759Z
LAST-MODIFIED:20230529T191759Z
UID:3779-1688860800-1690156799@lst.org
SUMMARY:LST Project (Niteroi\, Brazil)
DESCRIPTION:
URL:https://lst.org/event/lst-project-niteroi-brazil-4/
LOCATION:Niteroi\, Brazil\, Niteroi\, Brazil
CATEGORIES:LST Mission Projects
ORGANIZER;CN="Let's Start Talking":MAILTO:LST@LST.org
END:VEVENT
BEGIN:VEVENT
DTSTART;VALUE=DATE:20230714
DTEND;VALUE=DATE:20230724
DTSTAMP:20260421T095340
CREATED:20230130T195333Z
LAST-MODIFIED:20230130T195333Z
UID:3578-1689292800-1690156799@lst.org
SUMMARY:LST YoungFriends International Project
DESCRIPTION:
URL:https://lst.org/event/lst-youngfriends-international-project/
LOCATION:Rio de Janeiro\, Brazil\, Rio de Janeiro\, Brazil
CATEGORIES:LST Mission Projects
ORGANIZER;CN="Let's Start Talking":MAILTO:LST@LST.org
END:VEVENT
BEGIN:VEVENT
DTSTART;VALUE=DATE:20230715
DTEND;VALUE=DATE:20230716
DTSTAMP:20260421T095340
CREATED:20230601T142459Z
LAST-MODIFIED:20230601T142459Z
UID:3781-1689379200-1689465599@lst.org
SUMMARY:FriendSpeak Training (Creekside (Bell Shoals) Church of Christ\, FL)
DESCRIPTION:
URL:https://lst.org/event/friendspeak-training-creekside-bell-shoals-church-of-christ-fl/
LOCATION:Brandon\, FL\, Brandon\, FL\, United States
CATEGORIES:FriendSpeak
END:VEVENT
END:VCALENDAR